Workbook

Sheet PF 
C3: Zona | D3: Local | E3: Nº indicadores
C4: Configuración unidad | E4: =COUNTIF(Configuración!C2:C25,C4) -> 13
F5: =E4 -> 13
A6: 1 | C6: Circulación | D6: Pasillo | E6: =COUNTIF(Circulación!D2:D14,D6) -> 13
F7: =E6 -> 13
A8: =A6+1 -> 2 | C8: Acceso | D8: Entrada y vestíbulo | E8: =COUNTIF(Acceso!$D$2:$D$44,D8) -> 4
A9: =A8+1 -> 3 | D9: Recepción | E9: =COUNTIF(Acceso!$D$2:$D$44,D9) -> 2
A10: =A9+1 -> 4 | D10: Estar de familiares | E10: =COUNTIF(Acceso!$D$2:$D$44,D10) -> 8
A11: =A10+1 -> 5 | D11: Vestuario familiares | E11: =COUNTIF(Acceso!$D$2:$D$44,D11) -> 3
A12: =A11+1 -> 6 | D12: Aseo público | E12: =COUNTIF(Acceso!$D$2:$D$44,D12) -> 7
A13: =A12+1 -> 7 | D13: Despacho información | E13: =COUNTIF(Acceso!$D$2:$D$44,D13) -> 5
A14: =A13+1 -> 8 | D14: Consulta | E14: =COUNTIF(Acceso!$D$2:$D$44,D14) -> 7
A15: =A14+1 -> 9 | D15: Lactancia y alimentación | E15: =COUNTIF(Acceso!$D$2:$D$44,D15) -> 7
F16: =SUM(E8:E15) -> 43
A17: =A15+1 -> 10 | C17: Familiares | D17: Zona de recepción de familiares | E17: =COUNTIF(Familiares!$D$2:$D$34,'PF '!D17) -> 1
A18: =A17+1 -> 11 | D18: Despacho información | E18: =COUNTIF(Familiares!$D$2:$D$34,'PF '!D18) -> 5
A19: =A18+1 -> 12 | D19: Estar y refrigerio | E19: =COUNTIF(Familiares!$D$2:$D$34,'PF '!D19) -> 9
A20: =A19+1 -> 13 | D20: Espacio para hermanos/as | E20: =COUNTIF(Familiares!$D$2:$D$34,'PF '!D20) -> 3
A21: =A20+1 -> 14 | D21: Aseo familiares | E21: =COUNTIF(Familiares!$D$2:$D$34,'PF '!D21) -> 6
A22: =A21+1 -> 15 | D22: Habitación familiares | E22: =COUNTIF(Familiares!$D$2:$D$34,'PF '!D22) -> 6
A23: =A22+1 -> 16 | D23: Sala de duelo | E23: =COUNTIF(Familiares!$D$2:$D$34,'PF '!D23) -> 3
F24: =SUM(E17:E23) -> 33
A25: =A23+1 -> 17 | C25: Clínica | D25: Control enfermería | E25: =COUNTIF(Clínica!D2:D145,D25) -> 8
A26: =A25+1 -> 18 | D26: Oficio limpio | E26: =COUNTIF(Clínica!$D$5:$D$145,D26) -> 10
A27: =A26+1 -> 19 | D27: Box individual de cuidados intensivos | E27: =COUNTIF(Clínica!$D$5:$D$145,D27) -> 10
A28: =A27+1 -> 20 | D28: Sala múltiple de cuidados intensivos | E28: =COUNTIF(Clínica!$D$5:$D$145,D28) -> 35
A29: =A28+1 -> 21 | D29: Sala múltiple de cuidados intermedios | E29: =COUNTIF(Clínica!$D$5:$D$145,D29) -> 33
A30: =A29+1 -> 22 | D30: Sala múltiple de cuidados básicos | E30: =COUNTIF(Clínica!$D$5:$D$145,D30) -> 28
A31: =A30+1 -> 23 | D31: Sala de tratamientos | E31: =COUNTIF(Clínica!$D$5:$D$145,D31) -> 5
A32: =A31+1 -> 24 | D32: Sala de transferencia del neonato | E32: =COUNTIF(Clínica!$D$5:$D$145,D32) -> 5
A33: =A32+1 -> 25 | D33: Sala de extracción de leche materna | E33: =COUNTIF(Clínica!$D$5:$D$145,D33) -> 6
A34: =A33+1 -> 26 | D34: Preparación de biberones y cocina dietética | E34: =COUNTIF(Clínica!$D$5:$D$145,D34) -> 4
F35: =SUM(E25:E34) -> 144
A36: =A34+1 -> 27 | C36: Personal | D36: Despacho supervisión enfermería | E36: =COUNTIF(Personal!$D$2:$D$37,D36) -> 4
A37: =A36+1 -> 28 | D37: Despacho supervisión médico | E37: =COUNTIF(Personal!$D$2:$D$37,D37) -> 4
A38: =A37+1 -> 29 | D38: Sala de trabajo médico | E38: =COUNTIF(Personal!$D$2:$D$37,D38) -> 4
A39: =A38+1 -> 30 | D39: Sala polivalente | E39: =COUNTIF(Personal!$D$2:$D$37,D39) -> 3
A40: =A39+1 -> 31 | D40: Estar de personal | E40: =COUNTIF(Personal!$D$2:$D$37,D40) -> 7
A41: =A40+1 -> 32 | D41: Aseo de personal | E41: =COUNTIF(Personal!$D$2:$D$37,D41) -> 5
A42: =A41+1 -> 33 | D42: Vestuario | E42: =COUNTIF(Personal!$D$2:$D$37,D42) -> 3
...

Sheet Configuración
A1: Nº | C1: ZONA | D1: LOCAL | E1: ELEMENTO | F1: Coste | G1: ÍTEM | H1: S | I1: E | J1: X | K1: P | L1: REFERENCIA | M1: Tipo evi | N1: Ptos | O1: HUPF | P1: Comentarios HUPF
A2: 1 | C2: Configuración unidad | E2: Distribución | F2: =IF(E2="Distribución",5,IF(E2="instalación",4,IF(E2="equipamiento",3,IF(E2="suelo",3,IF(E2="hueco",4,IF(E2="techo",2,IF(E2="puerta",2,IF(E2="pared",2,IF(E2="mobiliario",1,IF(E2="señalética",1,IF(E2="arte",1,0))))))))))) -> 5 | G2: No sirve de tráfico de paso hacia otra unidad. | H2: 1 | I2: 1 | J2: 1 | K2: 1 | L2: Unidades de neonatología, in Estándares y recomendaciones de calidad, e.e.i. Informes, Editor. 2014, Ministerio de Sanidad, Servicios Sociales e Igualdad. | M2: B | N2: =IF(M2="B",1,IF(M2="A",10,0)) -> 1 | O2: sí
A3: =A2+1 -> 2 | C3: Configuración unidad | E3: Distribución | F3: =IF(E3="Distribución",5,IF(E3="instalación",4,IF(E3="equipamiento",3,IF(E3="suelo",3,IF(E3="hueco",4,IF(E3="techo",2,IF(E3="puerta",2,IF(E3="pared",2,IF(E3="mobiliario",1,IF(E3="señalética",1,IF(E3="arte",1,0))))))))))) -> 5 | G3: Claramente delimitada dentro del hospital. | H3: 1 | I3: 1 | J3: 1 | K3: 1 | L3: Unidades de neonatología, in Estándares y recomendaciones de calidad, e.e.i. Informes, Editor. 2014, Ministerio de Sanidad, Servicios Sociales e Igualdad. | M3: B | N3: =IF(M3="B",1,IF(M3="A",10,0)) -> 1 | O3: sí
A4: =A3+1 -> 3 | C4: Configuración unidad | E4: Distribución | F4: =IF(E4="Distribución",5,IF(E4="instalación",4,IF(E4="equipamiento",3,IF(E4="suelo",3,IF(E4="hueco",4,IF(E4="techo",2,IF(E4="puerta",2,IF(E4="pared",2,IF(E4="mobiliario",1,IF(E4="señalética",1,IF(E4="arte",1,0))))))))))) -> 5 | G4: No está situada bajo rasante. Dispone de al menos dos sectores de un máximo de 1.500 m² construidos. Para las plantas o recintos que disponen de más de una salida de planta o salida de recinto, la longitud de los recorridos de evacuación desde su origen hasta llegar a algún punto desde el cual existan al menos dos recorridos alternativos no excede de 15 metros. Dispone de dos salidas/accesos diferenciados por razón de evacuación de los ocupantes de la unidad. | H4: 1 | I4: 0 | J4: 0 | K4: 1 | L4: Unidades de neonatología, in Estándares y recomendaciones de calidad, e.e.i. Informes, Editor. 2014, Ministerio de Sanidad, Servicios Sociales e Igualdad. | M4: B | N4: =IF(M4="B",1,IF(M4="A",10,0)) -> 1 | O4: n.a. | P4: Ítem posterior a la evaluación.
A5: =A4+1 -> 4 | C5: Configuración unidad | E5: Distribución | F5: =IF(E5="Distribución",5,IF(E5="instalación",4,IF(E5="equipamiento",3,IF(E5="suelo",3,IF(E5="hueco",4,IF(E5="techo",2,IF(E5="puerta",2,IF(E5="pared",2,IF(E5="mobiliario",1,IF(E5="señalética",1,IF(E5="arte",1,0))))))))))) -> 5 | G5: Localizada dentro del área materno-infantil del hospital (próxima al bloque obstétrico y a la hospitalización obstétrica). Las tres unidades se encuentran en la misma planta para que el traslado urgente de pacientes, en caso necesario, se realice con rapidez e independiente de medios mecánicos. | H5: 1 | I5: 1 | J5: 0 | K5: 0 | L5: Unidades de neonatología, in Estándares y recomendaciones de calidad, e.e.i. Informes, Editor. 2014, Ministerio de Sanidad, Servicios Sociales e Igualdad. 2. Blanco Bravo, D., Niveles asistenciales y recomendaciones de mínimos para la atención neonatal. An Pediatr (Barc), 2003. Comité de Estándares y Junta Directiva de la Sociedad Española de Neonatología. | M5: A | N5: =IF(M5="B",1,IF(M5="A",10,0)) -> 10 | O5: sí
A6: =A5+1 -> 5 | C6: Configuración unidad | E6: Distribución | F6: =IF(E6="Distribución",5,IF(E6="instalación",4,IF(E6="equipamiento",3,IF(E6="suelo",3,IF(E6="hueco",4,IF(E6="techo",2,IF(E6="puerta",2,IF(E6="pared",2,IF(E6="mobiliario",1,IF(E6="señalética",1,IF(E6="arte",1,0))))))))))) -> 5 | G6: Ubicación próxima al bloque quirúrgico de pediatría/cirugía neonatal, unidad de medicina fetal (seguimiento de embarazos de alto riesgo), unidad de pediatría y urgencias. | H6: 1 | I6: 1 | J6: 0 | K6: 0 | L6: Unidades de neonatología, in Estándares y recomendaciones de calidad, e.e.i. Informes, Editor. 2014, Ministerio de Sanidad, Servicios Sociales e Igualdad. 2. Blanco Bravo, D., Niveles asistenciales y recomendaciones de mínimos para la atención neonatal. An Pediatr (Barc), 2003. Comité de Estándares y Junta Directiva de la Sociedad Española de Neonatología. | M6: A | N6: =IF(M6="B",1,IF(M6="A",10,0)) -> 10 | O6: sí
A7: =A6+1 -> 6 | C7: Configuración unidad | E7: Distribución | F7: =IF(E7="Distribución",5,IF(E7="instalación",4,IF(E7="equipamiento",3,IF(E7="suelo",3,IF(E7="hueco",4,IF(E7="techo",2,IF(E7="puerta",2,IF(E7="pared",2,IF(E7="mobiliario",1,IF(E7="señalética",1,IF(E7="arte",1,0))))))))))) -> 5 | G7: Conectada con la circulación externa o pública y con la circulación interna (personal, pacientes ingresados, suministros y servicios). Existen dos tipos de accesos a la unidad: uno externo para visitas de familiares y acompañantes y otro interno para pacientes encamados, personal, suministros y servicios de soporte. | H7: 1 | I7: 1 | J7: 1 | K7: 0 | L7: Unidades de neonatología, in Estándares y recomendaciones de calidad, e.e.i. Informes, Editor. 2014, Ministerio de Sanidad, Servicios Sociales e Igualdad. | M7: B | N7: =IF(M7="B",1,IF(M7="A",10,0)) -> 1 | O7: sí
A8: =A7+1 -> 7 | C8: Configuración unidad | E8: Distribución | F8: =IF(E8="Distribución",5,IF(E8="instalación",4,IF(E8="equipamiento",3,IF(E8="suelo",3,IF(E8="hueco",4,IF(E8="techo",2,IF(E8="puerta",2,IF(E8="pared",2,IF(E8="mobiliario",1,IF(E8="señalética",1,IF(E8="arte",1,0))))))))))) -> 5 | G8: La zona clínica de atención a los neonatos es la zona central de la unidad (en términos funcionales y físicos) y está comunicada con el resto de las zonas de la misma. | H8: 0 | I8: 1 | J8: 0 | K8: 0 | L8: Unidades de neonatología, in Estándares y recomendaciones de calidad, e.e.i. Informes, Editor. 2014, Ministerio de Sanidad, Servicios Sociales e Igualdad. | M8: B | N8: =IF(M8="B",1,IF(M8="A",10,0)) -> 1 | O8: sí
A9: =A8+1 -> 8 | C9: Configuración unidad | E9: Distribución | F9: =IF(E9="Distribución",5,IF(E9="instalación",4,IF(E9="equipamiento",3,IF(E9="suelo",3,IF(E9="hueco",4,IF(E9="techo",2,IF(E9="puerta",2,IF(E9="pared",2,IF(E9="mobiliario",1,IF(E9="señalética",1,IF(E9="arte",1,0))))))))))) -> 5 | G9: Las proporciones de los locales son similares al cuadrado o a un rectángulo de 1:1,5. | H9: 0 | I9: 1 | J9: 0 | K9: 0 | L9: Unidades de neonatología, in Estándares y recomendaciones de calidad, e.e.i. Informes, Editor. 2014, Ministerio de Sanidad, Servicios Sociales e Igualdad. | M9: B | N9: =IF(M9="B",1,IF(M9="A",10,0)) -> 1 | O9: sí
A10: =A9+1 -> 9 | C10: Configuración unidad | E10: Distribución | F10: =IF(E10="Distribución",5,IF(E10="instalación",4,IF(E10="equipamiento",3,IF(E10="suelo",3,IF(E10="hueco",4,IF(E10="techo",2,IF(E10="puerta",2,IF(E10="pared",2,IF(E10="mobiliario",1,IF(E10="señalética",1,IF(E10="arte",1,0))))))))))) -> 5 | G10: Existen espacios verdes en la unidad como invernaderos o atrios con vegetación. Existen zonas verdes exteriores relacionadas con la unidad y de fácil acceso desde la misma. | H10: 0 | I10: 1 | J10: 1 | K10: 0 | L10: Advanced, C.C.o.R.D.S.f. and N. Care, Recommended Standards for Newborn ICU Design. 2007: p. 40. | M10: B | N10: =IF(M10="B",1,IF(M10="A",10,0)) -> 1 | O10: no | P10: No cumple.
A11: =A10+1 -> 10 | C11: Configuración unidad | E11: Instalación | F11: =IF(E11="Distribución",5,IF(E11="instalación",4,IF(E11="equipamiento",3,IF(E11="suelo",3,IF(E11="hueco",4,IF(E11="techo",2,IF(E11="puerta",2,IF(E11="pared",2,IF(E11="mobiliario",1,IF(E11="señalética",1,IF(E11="arte",1,0))))))))))) -> 4 | G11: Si la unidad de neonatología, obstétrica y maternidad no se ubican en el mismo nivel, existen como mínimo dos ascensores exclusivos para el traslado urgente de pacientes. Estos ascensores tienen una dimensión de cabina aproximada de 2,7 m x 2,1 m y una puerta de 1,8 m de ancho y 2,1 m de altura. Capacidad suficiente para el adecuado transporte del neonato, tres profesionales sanitarios y los equipos vitales necesarios. | H11: 1 | I11: 1 | J11: 0 | K11: 0 | L11: Unidades de neonatología, in Estándares y recomendaciones de calidad, e.e.i. Informes, Editor. 2014, Ministerio de Sanidad, Servicios Sociales e Igualdad. | M11: B | N11: =IF(M11="B",1,IF(M11="A",10,0)) -> 1 | O11: n.a.
A12: =A11+1 -> 11 | C12: Configuración unidad | E12: Señalética | F12: =IF(E12="Distribución",5,IF(E12="instalación",4,IF(E12="equipamiento",3,IF(E12="suelo",3,IF(E12="hueco",4,IF(E12="techo",2,IF(E12="puerta",2,IF(E12="pared",2,IF(E12="mobiliario",1,IF(E12="señalética",1,IF(E12="arte",1,0))))))))))) -> 1 | G12: Su ubicación es estratégica para facilitar la orientación en puntos de intersección de la unidad. Existe consistencia entre las señales de la unidad y su diseño es apropiado. Se acompañan con flechas que facilitan la orientación en el edificio. Su color contrasta con el de las superficies adyacentes. | H12: 0 | I12: 1 | J12: 1 | K12: 0 | L12: 1. HBN 08-02-1 Dementia-friendly Health and Social Care Environments. 2015, Department of Health UK 2. Wayfinding: Effective wayfinding and signing systems Guidance for healthcare facilities 2nd edition. 2005, NHS Estates. | M12: B | N12: =IF(M12="B",1,IF(M12="A",10,0)) -> 1 | O12: sí
A13: =A12+1 -> 12 | C13: Configuración unidad | E13: Señalética | F13: =IF(E13="Distribución",5,IF(E13="instalación",4,IF(E13="equipamiento",3,IF(E13="suelo",3,IF(E13="hueco",4,IF(E13="techo",2,IF(E13="puerta",2,IF(E13="pared",2,IF(E13="mobiliario",1,IF(E13="señalética",1,IF(E13="arte",1,0))))))))))) -> 1 | G13: La tipografía es sencilla y clara, el tamaño de la fuente es suficientemente grande y se utilizan mayúsculas y minúsculas. El lenguaje utilizado es fácilmente entendible, no se utilizan abreviaturas y los idiomas utilizados son los adecuados para el hospital. La señalética está actualizada y en buen estado de mantenimiento. | H13: 0 | I13: 1 | J13: 1 | K13: 1 | L13: 1. HBN 08-02-1 Dementia-friendly Health and Social Care Environments. 2015, Department of Health UK 2. Wayfinding: Effective wayfinding and signing systems Guidance for healthcare facilities 2nd edition. 2005, NHS Estates. | M13: B | N13: =IF(M13="B",1,IF(M13="A",10,0)) -> 1 | O13: no | P13: Hay señales que son cartelitos de papel.
A14: =A13+1 -> 13 | C14: Configuración unidad | E14: Arte | F14: =IF(E14="Distribución",5,IF(E14="instalación",4,IF(E14="equipamiento",3,IF(E14="suelo",3,IF(E14="hueco",4,IF(E14="techo",2,IF(E14="puerta",2,IF(E14="pared",2,IF(E14="mobiliario",1,IF(E14="señalética",1,IF(E14="arte",1,0))))))))))) -> 1 | G14: Existen espacios habilitados para la exposición de arte. Se muestran piezas de arte que producen emociones positivas con motivos naturales, locales o de interés para las personas usuarias del espacio. Se colocan en puntos estratégicos para favorecer la orientación en la unidad como zonas muy visibles, con iluminación adecuada y su color contrasta con el del fondo. | H14: 0 | I14: 1 | J14: 1 | K14: 0 | L14: HBN 08-02-1 Dementia-friendly Health and Social Care Environments. 2015, Department of Health UK. | M14: B | N14: =IF(M14="B",1,IF(M14="A",10,0)) -> 1 | O14: no | P14: No cumple.
H15: =SUM(H8:H14) -> 1 | I15: =SUM(I8:I14) -> 7 | J15: =SUM(J8:J14) -> 4 | K15: =SUM(K8:K14) -> 1 | M15: Errores | N15: =COUNTIF(N8:N14,0) -> 0
N17: sí | O17: =SUMIF($O$2:$O$14,$N17,$N$2:$N$14) -> 26
N18: no | O18: =SUMIF($O$2:$O$14,$N18,$N$2:$N$14) -> 3
N19: n.a. | O19: =SUMIF($O$2:$O$14,$N19,$N$2:$N$14) -> 1
N20: Nota | O20: =O17/(O17+O18) -> 0.89655172

Sheet Circulación
A1: Nº | C1: ZONA | D1: LOCAL | E1: ELEMENTO | F1: Coste | G1: ÍTEM | H1: S | I1: E | J1: X | K1: P | L1: REFERENCIA | M1: Tipo evi | N1: Ptos | O1: HUPF | P1: Comentarios HUPF
A2: 1 | C2: Circulación | D2: Pasillo | E2: Distribución | F2: =IF(E2="Distribución",5,IF(E2="instalación",4,IF(E2="equipamiento",3,IF(E2="suelo",3,IF(E2="hueco",4,IF(E2="techo",2,IF(E2="puerta",2,IF(E2="pared",2,IF(E2="mobiliario",1,IF(E2="señalética",1,IF(E2="arte",1,0))))))))))) -> 5 | G2: El ancho mínimo del pasillo interior es de 2,2m. | H2: 1 | I2: 1 | J2: 0 | K2: 1 | L2: Unidades de neonatología, in Estándares y recomendaciones de calidad, e.e.i. Informes, Editor. 2014, Ministerio de Sanidad, Servicios Sociales e Igualdad. | M2: B | N2: =IF(M2="B",1,IF(M2="A",10,0)) -> 1 | O2: sí
A3: =A2+1 -> 2 | C3: Circulación | D3: Pasillo | E3: Distribución | F3: =IF(E3="Distribución",5,IF(E3="instalación",4,IF(E3="equipamiento",3,IF(E3="suelo",3,IF(E3="hueco",4,IF(E3="techo",2,IF(E3="puerta",2,IF(E3="pared",2,IF(E3="mobiliario",1,IF(E3="señalética",1,IF(E3="arte",1,0))))))))))) -> 5 | G3: Las paredes carecen de elementos salientes que no arranquen del suelo, que vuelen más de 15 cm en la zona de altura comprendida entre 15 cm y 2,20 m medida a partir del suelo y que presenten riesgo de impacto. Los elementos volados cuya altura sea menor que 2 m, tales como mesetas o tramos de escalera, de rampas, etc., disponen de elementos fijos que restrinjan el acceso hasta ellos y permitirán su detección por los bastones de personas con discapacidad visual. | H3: 1 | I3: 1 | J3: 0 | K3: 0 | L3: Ministerio de Fomento Secretaría de Estado de Infraestructuras, T.y.V.D.G.d.A., Vivienda y Suelo, Seguridad de utilización y accesibilidad SUA, in Documento Básico. 2015. | M3: B | N3: =IF(M3="B",1,IF(M3="A",10,0)) -> 1 | O3: sí
A4: =A3+1 -> 3 | C4: Circulación | D4: Pasillo | E4: Instalación | F4: =IF(E4="Distribución",5,IF(E4="instalación",4,IF(E4="equipamiento",3,IF(E4="suelo",3,IF(E4="hueco",4,IF(E4="techo",2,IF(E4="puerta",2,IF(E4="pared",2,IF(E4="mobiliario",1,IF(E4="señalética",1,IF(E4="arte",1,0))))))))))) -> 4 | G4: Ventilado mecánicamente. | H4: 0 | I4: 0 | J4: 0 | K4: 1 | L4: Reglamento de instalaciones térmicas en los edificios (RITE), BOE-A-2007-15820, Editor. 2007, Ministerio de la Presidencia. | M4: B | N4: =IF(M4="B",1,IF(M4="A",10,0)) -> 1 | O4: sí
A5: =A4+1 -> 4 | C5: Circulación | D5: Pasillo | E5: Instalación | F5: =IF(E5="Distribución",5,IF(E5="instalación",4,IF(E5="equipamiento",3,IF(E5="suelo",3,IF(E5="hueco",4,IF(E5="techo",2,IF(E5="puerta",2,IF(E5="pared",2,IF(E5="mobiliario",1,IF(E5="señalética",1,IF(E5="arte",1,0))))))))))) -> 4 | G5: La temperatura en la unidad oscila entre los 22º y 26 ºC. | H5: 1 | I5: 1 | J5: 0 | K5: 0 | L5: Unidades de neonatología, in Estándares y recomendaciones de calidad, e.e.i. Informes, Editor. 2014, Ministerio de Sanidad, Servicios Sociales e Igualdad. | M5: B | N5: =IF(M5="B",1,IF(M5="A",10,0)) -> 1 | O5: sí
A6: =A5+1 -> 5 | C6: Circulación | D6: Pasillo | E6: Suelo | F6: =IF(E6="Distribución",5,IF(E6="instalación",4,IF(E6="equipamiento",3,IF(E6="suelo",3,IF(E6="hueco",4,IF(E6="techo",2,IF(E6="puerta",2,IF(E6="pared",2,IF(E6="mobiliario",1,IF(E6="señalética",1,IF(E6="arte",1,0))))))))))) -> 3 | G6: El suelo es continuo, las juntas están selladas y no hay cambios de nivel. | H6: 1 | I6: 1 | J6: 0 | K6: 1 | L6: Autores CURARQ | M6: B | N6: =IF(M6="B",1,IF(M6="A",10,0)) -> 1 | O6: sí
A7: =A6+1 -> 6 | C7: Circulación | D7: Pasillo | E7: Suelo | F7: =IF(E7="Distribución",5,IF(E7="instalación",4,IF(E7="equipamiento",3,IF(E7="suelo",3,IF(E7="hueco",4,IF(E7="techo",2,IF(E7="puerta",2,IF(E7="pared",2,IF(E7="mobiliario",1,IF(E7="señalética",1,IF(E7="arte",1,0))))))))))) -> 3 | G7: Resistente a un uso intensivo. Liso, fácil de limpiar y sin apariencia clínica. | H7: 0 | I7: 0 | J7: 1 | K7: 1 | L7: Unidad de cuidados intensivos, in Estándares y recomendaciones, e.e.i. Informes, Editor. 2010, Ministerio de Sanidad y Política Social. | M7: B | N7: =IF(M7="B",1,IF(M7="A",10,0)) -> 1 | O7: sí
A8: =A7+1 -> 7 | C8: Circulación | D8: Pasillo | E8: Suelo | F8: =IF(E8="Distribución",5,IF(E8="instalación",4,IF(E8="equipamiento",3,IF(E8="suelo",3,IF(E8="hueco",4,IF(E8="techo",2,IF(E8="puerta",2,IF(E8="pared",2,IF(E8="mobiliario",1,IF(E8="señalética",1,IF(E8="arte",1,0))))))))))) -> 3 | G8: (Sin estampados o texturas que puedan provocar una sobreestimulación no deseada)¹. (No brillante y su color contrasta con el de las paredes)². | H8: 0 | I8: 0 | J8: 1 | K8: 0 | L8: 1. HBN 08-02-1 Dementia-friendly Health and Social Care Environments. 2015, Department of Health UK 2. Patient-Led Assessments of the Care Environment. The Ward Assessment - Acute and Community Hospitals, Hospices and Treatment Centres. 2015, NHS England. | M8: B | N8: =IF(M8="B",1,IF(M8="A",10,0)) -> 1 | O8: sí
A9: =A8+1 -> 8 | C9: Circulación | D9: Pasillo | E9: Techo | F9: =IF(E9="Distribución",5,IF(E9="instalación",4,IF(E9="equipamiento",3,IF(E9="suelo",3,IF(E9="hueco",4,IF(E9="techo",2,IF(E9="puerta",2,IF(E9="pared",2,IF(E9="mobiliario",1,IF(E9="señalética",1,IF(E9="arte",1,0))))))))))) -> 2 | G9: (Sin iluminación artificial directa y uniforme ya que puede crear un efecto estroboscópico. Se utiliza luz difusa y reflejada)¹. (El falso techo se encuentra en buen estado)². | H9: 0 | I9: 0 | J9: 1 | K9: 1 | L9: 1. Friendly healthcare environments for children and young people. 2004, NHS Estates. 2. Patient-Led Assessments of the Care Environment. The Ward Assessment - Acute and Community Hospitals, Hospices and Treatment Centres. 2015, NHS England. | M9: B | N9: =IF(M9="B",1,IF(M9="A",10,0)) -> 1 | O9: no | P9: Fluorescentes con difusor para posición vertical (tipo oficina antigua).
A10: =A9+1 -> 9 | C10: Circulación | D10: Pasillo | E10: Pared | F10: =IF(E10="Distribución",5,IF(E10="instalación",4,IF(E10="equipamiento",3,IF(E10="suelo",3,IF(E10="hueco",4,IF(E10="techo",2,IF(E10="puerta",2,IF(E10="pared",2,IF(E10="mobiliario",1,IF(E10="señalética",1,IF(E10="arte",1,0))))))))))) -> 2 | G10: Las paredes se pueden lavar con agua, son durables, resistentes al impacto de carros y equipos móviles. (Las zonas más propensas al choque de carros y equipos móviles están reforzadas para resistir los impactos. Protecciones de esquinas y paredes)¹. (Las protecciones no sobresalen ni suponen un riesgo)4. (La pintura está en buen estado de conservación, sin marcas como ralladuras o arañazos ni otros desperfectos)³. | H10: 1 | I10: 0 | J10: 0 | K10: 1 | L10: 1. Unidad de enfermería en hospitalización polivalente de agudos, in Estándares y recomendaciones, e.e.i. Informes, Editor. 2009, Ministerio de Sanidad y Política Social 2. Health, N.E.a.E.A.o.t.D.o., HBN 23 Hospital accommodation for children and young people. 2004 3. Patient-Led Assessments of the Care Environment. The Ward Assessment - Acute and Community Hospitals, Hospices and Treatment Centres. 2015, NHS England. 4. Autores CURARQ | M10: B | N10: =IF(M10="B",1,IF(M10="A",10,0)) -> 1 | O10: sí
A11: =A10+1 -> 10 | C11: Circulación | D11: Pasillo | E11: Pared | F11: =IF(E11="Distribución",5,IF(E11="instalación",4,IF(E11="equipamiento",3,IF(E11="suelo",3,IF(E11="hueco",4,IF(E11="techo",2,IF(E11="puerta",2,IF(E11="pared",2,IF(E11="mobiliario",1,IF(E11="señalética",1,IF(E11="arte",1,0))))))))))) -> 2 | G11: El blanco es el color base de la unidad. Sin estampados que provoquen una sobreestimulación no deseada. No brillante y con alto contraste. Su color contrasta con el del suelo. | H11: 0 | I11: 0 | J11: 1 | K11: 0 | L11: HBN 08-02-1 Dementia-friendly Health and Social Care Environments. 2015, Department of Health UK. | M11: B | N11: =IF(M11="B",1,IF(M11="A",10,0)) -> 1 | O11: sí
A12: =A11+1 -> 11 | C12: Circulación | D12: Pasillo | E12: Pared | F12: =IF(E12="Distribución",5,IF(E12="instalación",4,IF(E12="equipamiento",3,IF(E12="suelo",3,IF(E12="hueco",4,IF(E12="techo",2,IF(E12="puerta",2,IF(E12="pared",2,IF(E12="mobiliario",1,IF(E12="señalética",1,IF(E12="arte",1,0))))))))))) -> 2 | G12: Pasamanos a ambos lados. Su color contrasta con el de la pared. | H12: 1 | I12: 0 | J12: 0 | K12: 0 | L12: HBN 08-02-1 Dementia-friendly Health and Social Care Environments. 2015, Department of Health UK. | M12: B | N12: =IF(M12="B",1,IF(M12="A",10,0)) -> 1 | O12: no | P12: No hay pasamanos.
A13: =A12+1 -> 12 | C13: Circulación | D13: Pasillo | E13: Pared | F13: =IF(E13="Distribución",5,IF(E13="instalación",4,IF(E13="equipamiento",3,IF(E13="suelo",3,IF(E13="hueco",4,IF(E13="techo",2,IF(E13="puerta",2,IF(E13="pared",2,IF(E13="mobiliario",1,IF(E13="señalética",1,IF(E13="arte",1,0))))))))))) -> 2 | G13: Con zócalo o escocia de un material resistente, fácil de limpiar y coordinado con el pavimento del suelo. | H13: 0 | I13: 0 | J13: 0 | K13: 1 | L13: Intensive therapy unit, in Health Building Note 27. 1992, NHS Estates. p. 56. | M13: B | N13: =IF(M13="B",1,IF(M13="A",10,0)) -> 1 | O13: no | P13: De unos 7 cm, debería ser más alto para proteger a la pared.
A14: =A13+1 -> 13 | C14: Circulación | D14: Pasillo | E14: Puerta | F14: =IF(E14="Distribución",5,IF(E14="instalación",4,IF(E14="equipamiento",3,IF(E14="suelo",3,IF(E14="hueco",4,IF(E14="techo",2,IF(E14="puerta",2,IF(E14="pared",2,IF(E14="mobiliario",1,IF(E14="señalética",1,IF(E14="arte",1,0))))))))))) -> 2 | G14: Las puertas de sectorización de incendios disponen de retenedores y quedan en el interior del plano de los paramentos de forma que no disminuye el ancho útil del pasillo. | H14: 1 | I14: 0 | J14: 0 | K14: 1 | L14: Unidad de enfermería en hospitalización polivalente de agudos, in Estándares y recomendaciones, e.e.i. Informes, Editor. 2009, Ministerio de Sanidad y Política Social. | M14: B | N14: =IF(M14="B",1,IF(M14="A",10,0)) -> 1 | O14: no | P14: Tienen retenedores pero no quedan en el interior del plano.
M15: Errores | N15: =COUNTIF(N2:N14,0) -> 0
E16: Errores | F16: =COUNTIF(F2:F14,0) -> 0 | H16: =SUM(H2:H14) -> 7 | I16: =SUM(I2:I14) -> 4 | J16: =SUM(J2:J14) -> 4 | K16: =SUM(K2:K14) -> 8
N17: sí | O17: =SUMIF($O$2:$O$14,$N17,$N$2:$N$14) -> 9
N18: no | O18: =SUMIF($O$2:$O$14,$N18,$N$2:$N$14) -> 4
N19: n.a. | O19: =SUMIF($O$2:$O$14,$N19,$N$2:$N$14) -> 0
N20: Nota | O20: =O17/(O17+O18) -> 0.69230769

Sheet Acceso
A1: Nº | C1: ZONA | D1: LOCAL | E1: ELEMENTO | F1: Coste | G1: ÍTEM | H1: S | I1: E | J1: X | K1: P | L1: REFERENCIA | M1: Tipo evi | N1: Ptos | O1: HUPF | P1: Comentarios HUPF
A2: 1 | C2: Acceso | D2: Entrada y vestíbulo | E2: Distribución | F2: =IF(E2="Distribución",5,IF(E2="instalación",4,IF(E2="equipamiento",3,IF(E2="suelo",3,IF(E2="hueco",4,IF(E2="techo",2,IF(E2="puerta",2,IF(E2="pared",2,IF(E2="mobiliario",1,IF(E2="señalética",1,IF(E2="arte",1,0))))))))))) -> 5 | G2: Superficie útil en torno a 20 m². | H2: 0 | I2: 0 | J2: 1 | K2: 1 | L2: Unidad de enfermería en hospitalización polivalente de agudos, in Estándares y recomendaciones, e.e.i. Informes, Editor. 2009, Ministerio de Sanidad y Política Social | M2: B | N2: =IF(M2="B",1,IF(M2="A",10,0)) -> 1 | O2: no | P2: No cumple porque es más pequeña.
A3: =A2+1 -> 2 | C3: Acceso | D3: Entrada y vestíbulo | E3: Instalación | F3: =IF(E3="Distribución",5,IF(E3="instalación",4,IF(E3="equipamiento",3,IF(E3="suelo",3,IF(E3="hueco",4,IF(E3="techo",2,IF(E3="puerta",2,IF(E3="pared",2,IF(E3="mobiliario",1,IF(E3="señalética",1,IF(E3="arte",1,0))))))))))) -> 4 | G3: Ventilado mecánicamente. | H3: 0 | I3: 0 | J3: 0 | K3: 1 | L3: Reglamento de instalaciones térmicas en los edificios (RITE), BOE-A-2007-15820, Editor. 2007, Ministerio de la Presidencia. | M3: B | N3: =IF(M3="B",1,IF(M3="A",10,0)) -> 1 | O3: sí
A4: =A3+1 -> 3 | C4: Acceso | D4: Entrada y vestíbulo | E4: Instalación | F4: =IF(E4="Distribución",5,IF(E4="instalación",4,IF(E4="equipamiento",3,IF(E4="suelo",3,IF(E4="hueco",4,IF(E4="techo",2,IF(E4="puerta",2,IF(E4="pared",2,IF(E4="mobiliario",1,IF(E4="señalética",1,IF(E4="arte",1,0))))))))))) -> 4 | G4: Sistema de control de acceso a la unidad. Medios electrónicos de vigilancia y seguridad. | H4: 0 | I4: 1 | J4: 0 | K4: 1 | L4: Unidades de neonatología, in Estándares y recomendaciones de calidad, e.e.i. Informes, Editor. 2014, Ministerio de Sanidad, Servicios Sociales e Igualdad. | M4: B | N4: =IF(M4="B",1,IF(M4="A",10,0)) -> 1 | O4: no | P4: No cumple..
A5: =A4+1 -> 4 | C5: Acceso | D5: Entrada y vestíbulo | E5: Señalética | F5: =IF(E5="Distribución",5,IF(E5="instalación",4,IF(E5="equipamiento",3,IF(E5="suelo",3,IF(E5="hueco",4,IF(E5="techo",2,IF(E5="puerta",2,IF(E5="pared",2,IF(E5="mobiliario",1,IF(E5="señalética",1,IF(E5="arte",1,0))))))))))) -> 1 | G5: Señal de dirección desde el punto de acceso a planta y señal de localización para identificar la unidad. Directorio a la salida del ascensor. | H5: 0 | I5: 1 | J5: 1 | K5: 0 | L5: Wayfinding: Effective wayfinding and signing systems Guidance for healthcare facilities 2nd edition. 2005, NHS Estates. | M5: B | N5: =IF(M5="B",1,IF(M5="A",10,0)) -> 1 | O5: no | P5: No cumple..
A6: =A5+1 -> 5 | C6: Acceso | D6: Recepción | E6: Distribución | F6: =IF(E6="Distribución",5,IF(E6="instalación",4,IF(E6="equipamiento",3,IF(E6="suelo",3,IF(E6="hueco",4,IF(E6="techo",2,IF(E6="puerta",2,IF(E6="pared",2,IF(E6="mobiliario",1,IF(E6="señalética",1,IF(E6="arte",1,0))))))))))) -> 5 | G6: Permite el control visual del acceso al vestíbulo de entrada de la unidad. | H6: 0 | I6: 1 | J6: 0 | K6: 1 | L6: Unidades de neonatología, in Estándares y recomendaciones de calidad, e.e.i. Informes, Editor. 2014, Ministerio de Sanidad, Servicios Sociales e Igualdad. | M6: B | N6: =IF(M6="B",1,IF(M6="A",10,0)) -> 1 | O6: sí
A7: =A6+1 -> 6 | C7: Acceso | D7: Recepción | E7: Equipamiento | F7: =IF(E7="Distribución",5,IF(E7="instalación",4,IF(E7="equipamiento",3,IF(E7="suelo",3,IF(E7="hueco",4,IF(E7="techo",2,IF(E7="puerta",2,IF(E7="pared",2,IF(E7="mobiliario",1,IF(E7="señalética",1,IF(E7="arte",1,0))))))))))) -> 3 | G7: (Con capacidad para una persona)¹. (Mueble mostrador y sillón ergonómico con ruedas)². | H7: 0 | I7: 1 | J7: 0 | K7: 0 | L7: 1. Unidades de neonatología, in Estándares y recomendaciones de calidad, e.e.i. Informes, Editor. 2014, Ministerio de Sanidad, Servicios Sociales e Igualdad 2.Unidad de cuidados intensivos, in Estándares y recomendaciones, e.e.i. Informes, Editor. 2010, Ministerio de Sanidad y Política Social. | M7: B | N7: =IF(M7="B",1,IF(M7="A",10,0)) -> 1 | O7: no | P7: Silla sin ruedas.
A8: =A7+1 -> 7 | C8: Acceso | D8: Estar de familiares | E8: Distribución | F8: =IF(E8="Distribución",5,IF(E8="instalación",4,IF(E8="equipamiento",3,IF(E8="suelo",3,IF(E8="hueco",4,IF(E8="techo",2,IF(E8="puerta",2,IF(E8="pared",2,IF(E8="mobiliario",1,IF(E8="señalética",1,IF(E8="arte",1,0))))))))))) -> 5 | G8: Superfície útil en torno a 30 m2. | H8: 0 | I8: 0 | J8: 1 | K8: 0 | L8: Unidad de enfermería en hospitalización polivalente de agudos, in Estándares y recomendaciones, e.e.i. Informes, Editor. 2009, Ministerio de Sanidad y Política Social. | M8: B | N8: =IF(M8="B",1,IF(M8="A",10,0)) -> 1 | O8: sí
A9: =A8+1 -> 8 | C9: Acceso | D9: Estar de familiares | E9: Distribución | F9: =IF(E9="Distribución",5,IF(E9="instalación",4,IF(E9="equipamiento",3,IF(E9="suelo",3,IF(E9="hueco",4,IF(E9="techo",2,IF(E9="puerta",2,IF(E9="pared",2,IF(E9="mobiliario",1,IF(E9="señalética",1,IF(E9="arte",1,0))))))))))) -> 5 | G9: Con acceso desde el vestíbulo de entrada a la unidad. | H9: 0 | I9: 0 | J9: 1 | K9: 0 | L9: Unidad de cuidados intensivos, in Estándares y recomendaciones, e.e.i. Informes, Editor. 2010, Ministerio de Sanidad y Política Social. | M9: B | N9: =IF(M9="B",1,IF(M9="A",10,0)) -> 1 | O9: sí | P9: Aunque hay que cruzar un pasillo.
A10: =A9+1 -> 9 | C10: Acceso | D10: Estar de familiares | E10: Hueco | F10: =IF(E10="Distribución",5,IF(E10="instalación",4,IF(E10="equipamiento",3,IF(E10="suelo",3,IF(E10="hueco",4,IF(E10="techo",2,IF(E10="puerta",2,IF(E10="pared",2,IF(E10="mobiliario",1,IF(E10="señalética",1,IF(E10="arte",1,0))))))))))) -> 4 | G10: Iluminación natural. | H10: 0 | I10: 0 | J10: 1 | K10: 0 | L10: Unidades de neonatología, in Estándares y recomendaciones de calidad, e.e.i. Informes, Editor. 2014, Ministerio de Sanidad, Servicios Sociales e Igualdad. | M10: B | N10: =IF(M10="B",1,IF(M10="A",10,0)) -> 1 | O10: no | P10: Sala interior.
A11: =A10+1 -> 10 | C11: Acceso | D11: Estar de familiares | E11: Instalación | F11: =IF(E11="Distribución",5,IF(E11="instalación",4,IF(E11="equipamiento",3,IF(E11="suelo",3,IF(E11="hueco",4,IF(E11="techo",2,IF(E11="puerta",2,IF(E11="pared",2,IF(E11="mobiliario",1,IF(E11="señalética",1,IF(E11="arte",1,0))))))))))) -> 4 | G11: Ventilado mecánicamente. | H11: 0 | I11: 0 | J11: 0 | K11: 1 | L11: Reglamento de instalaciones térmicas en los edificios (RITE), BOE-A-2007-15820, Editor. 2007, Ministerio de la Presidencia. | M11: B | N11: =IF(M11="B",1,IF(M11="A",10,0)) -> 1 | O11: sí
A12: =A11+1 -> 11 | C12: Acceso | D12: Estar de familiares | E12: Instalación | F12: =IF(E12="Distribución",5,IF(E12="instalación",4,IF(E12="equipamiento",3,IF(E12="suelo",3,IF(E12="hueco",4,IF(E12="techo",2,IF(E12="puerta",2,IF(E12="pared",2,IF(E12="mobiliario",1,IF(E12="señalética",1,IF(E12="arte",1,0))))))))))) -> 4 | G12: Tomas eléctricas y wifi. | H12: 0 | I12: 0 | J12: 1 | K12: 0 | L12: Unidades de neonatología, in Estándares y recomendaciones de calidad, e.e.i. Informes, Editor. 2014, Ministerio de Sanidad, Servicios Sociales e Igualdad. | M12: B | N12: =IF(M12="B",1,IF(M12="A",10,0)) -> 1 | O12: no | P12: No cumple.
A13: =A12+1 -> 12 | C13: Acceso | D13: Estar de familiares | E13: Equipamiento | F13: =IF(E13="Distribución",5,IF(E13="instalación",4,IF(E13="equipamiento",3,IF(E13="suelo",3,IF(E13="hueco",4,IF(E13="techo",2,IF(E13="puerta",2,IF(E13="pared",2,IF(E13="mobiliario",1,IF(E13="señalética",1,IF(E13="arte",1,0))))))))))) -> 3 | G13: (Fuente de agua fría y máquinas expendedoras de bebidas)¹ (y comida saludable)². | H13: 0 | I13: 0 | J13: 1 | K13: 0 | L13: 1. Unidades de neonatología, in Estándares y recomendaciones de calidad, e.e.i. Informes, Editor. 2014, Ministerio de Sanidad, Servicios Sociales e Igualdad. 2. Autores CURARQ | M13: B | N13: =IF(M13="B",1,IF(M13="A",10,0)) -> 1 | O13: no | P13: No cumple.
A14: =A13+1 -> 13 | C14: Acceso | D14: Estar de familiares | E14: Mobiliario | F14: =IF(E14="Distribución",5,IF(E14="instalación",4,IF(E14="equipamiento",3,IF(E14="suelo",3,IF(E14="hueco",4,IF(E14="techo",2,IF(E14="puerta",2,IF(E14="pared",2,IF(E14="mobiliario",1,IF(E14="señalética",1,IF(E14="arte",1,0))))))))))) -> 1 | G14: (Sillas sin ruedas)¹. (Los asientos se encuentran en buen estado, sin marcas, ralladuras u otros desperfectos)². (Los usuarios con sillas de ruedas se pueden integrar en la distribución de los asientos de la sala)³. (Mesas de estar, papelera y arte)¹. | H14: 0 | I14: 0 | J14: 1 | K14: 1 | L14: 1. Unidad de enfermería en hospitalización polivalente de agudos, in Estándares y recomendaciones, e.e.i. Informes, Editor. 2009, Ministerio de Sanidad y Política Social 2. Patient-Led Assessments of the Care Environment. The Ward Assessment - Acute and Community Hospitals, Hospices and Treatment Centres. 2015, NHS England 3. Lewis, A., EVOLVE: a tool for evaluating the design of older people´s housing. Housing, Care and Support, 2010. | M14: B | N14: =IF(M14="B",1,IF(M14="A",10,0)) -> 1 | O14: sí | P14: Aunque no recuerdo lo de los cuadros.
A15: =A14+1 -> 14 | C15: Acceso | D15: Estar de familiares | E15: Mobiliario | F15: =IF(E15="Distribución",5,IF(E15="instalación",4,IF(E15="equipamiento",3,IF(E15="suelo",3,IF(E15="hueco",4,IF(E15="techo",2,IF(E15="puerta",2,IF(E15="pared",2,IF(E15="mobiliario",1,IF(E15="señalética",1,IF(E15="arte",1,0))))))))))) -> 1 | G15: Espacio para niños y niñas con juegos y libros. De fácil observación por los padres. | H15: 0 | I15: 0 | J15: 1 | K15: 0 | L15: Unidades de neonatología, in Estándares y recomendaciones de calidad, e.e.i. Informes, Editor. 2014, Ministerio de Sanidad, Servicios Sociales e Igualdad. | M15: B | N15: =IF(M15="B",1,IF(M15="A",10,0)) -> 1 | O15: no | P15: No cumple.
A16: =A15+1 -> 15 | C16: Acceso | D16: Vestuario familiares | E16: Distribución | F16: =IF(E16="Distribución",5,IF(E16="instalación",4,IF(E16="equipamiento",3,IF(E16="suelo",3,IF(E16="hueco",4,IF(E16="techo",2,IF(E16="puerta",2,IF(E16="pared",2,IF(E16="mobiliario",1,IF(E16="señalética",1,IF(E16="arte",1,0))))))))))) -> 5 | G16: Funciona como esclusa de acceso de los familiares desde el exterior a la zona clínica. Mínimo de 1m² por cada 6 cunas o incubadoras. | H16: 1 | I16: 1 | J16: 0 | K16: 0 | L16: Unidades de neonatología, in Estándares y recomendaciones de calidad, e.e.i. Informes, Editor. 2014, Ministerio de Sanidad, Servicios Sociales e Igualdad. | M16: B | N16: =IF(M16="B",1,IF(M16="A",10,0)) -> 1 | O16: sí
A17: =A16+1 -> 16 | C17: Acceso | D17: Vestuario familiares | E17: Equipamiento | F17: =IF(E17="Distribución",5,IF(E17="instalación",4,IF(E17="equipamiento",3,IF(E17="suelo",3,IF(E17="hueco",4,IF(E17="techo",2,IF(E17="puerta",2,IF(E17="pared",2,IF(E17="mobiliario",1,IF(E17="señalética",1,IF(E17="arte",1,0))))))))))) -> 3 | G17: Equipado con instalación de lavado y desinfección de las manos. | H17: 1 | I17: 0 | J17: 0 | K17: 0 | L17: Unidades de neonatología, in Estándares y recomendaciones de calidad, e.e.i. Informes, Editor. 2014, Ministerio de Sanidad, Servicios Sociales e Igualdad. | M17: B | N17: =IF(M17="B",1,IF(M17="A",10,0)) -> 1 | O17: sí
A18: =A17+1 -> 17 | C18: Acceso | D18: Vestuario familiares | E18: Mobiliario | F18: =IF(E18="Distribución",5,IF(E18="instalación",4,IF(E18="equipamiento",3,IF(E18="suelo",3,IF(E18="hueco",4,IF(E18="techo",2,IF(E18="puerta",2,IF(E18="pared",2,IF(E18="mobiliario",1,IF(E18="señalética",1,IF(E18="arte",1,0))))))))))) -> 1 | G18: Con taquillas y elementos para guardar la ropa de calle de los familiares. | H18: 0 | I18: 0 | J18: 1 | K18: 0 | L18: Unidades de neonatología, in Estándares y recomendaciones de calidad, e.e.i. Informes, Editor. 2014, Ministerio de Sanidad, Servicios Sociales e Igualdad. | M18: B | N18: =IF(M18="B",1,IF(M18="A",10,0)) -> 1 | O18: no | P18: No cumple.
A19: =A18+1 -> 18 | C19: Acceso | D19: Aseo público | E19: Distribución | F19: =IF(E19="Distribución",5,IF(E19="instalación",4,IF(E19="equipamiento",3,IF(E19="suelo",3,IF(E19="hueco",4,IF(E19="techo",2,IF(E19="puerta",2,IF(E19="pared",2,IF(E19="mobiliario",1,IF(E19="señalética",1,IF(E19="arte",1,0))))))))))) -> 5 | G19: (Superficie útil en torno a 4 m² por aseo)¹. (Exclusivos para cada sexo)². (Mínimo de dos)¹. | H19: 0 | I19: 0 | J19: 1 | K19: 0 | L19: 1. Unidad de enfermería en hospitalización polivalente de agudos, in Estándares y recomendaciones, e.e.i. Informes, Editor. 2009, Ministerio de Sanidad y Política Social. 2. Patient-Led Assessments of the Care Environment. The Ward Assessment - Acute and Community Hospitals, Hospices and Treatment Centres. 2015, NHS England. | M19: B | N19: =IF(M19="B",1,IF(M19="A",10,0)) -> 1 | O19: sí
A20: =A19+1 -> 19 | C20: Acceso | D20: Aseo público | E20: Distribución | F20: =IF(E20="Distribución",5,IF(E20="instalación",4,IF(E20="equipamiento",3,IF(E20="suelo",3,IF(E20="hueco",4,IF(E20="techo",2,IF(E20="puerta",2,IF(E20="pared",2,IF(E20="mobiliario",1,IF(E20="señalética",1,IF(E20="arte",1,0))))))))))) -> 5 | G20: (Ubicado junto a la sala de estar de familiares)¹ .(Fácil de identificar desde la sala de estar o el pasillo interno)². | H20: 0 | I20: 0 | J20: 1 | K20: 0 | L20: 1. Unidad de enfermería en hospitalización polivalente de agudos, in Estándares y recomendaciones, e.e.i. Informes, Editor. 2009, Ministerio de Sanidad y Política Social. 2. HBN 08-02-1 Dementia-friendly Health and Social Care Environments. 2015, Department of Health UK. | M20: B | N20: =IF(M20="B",1,IF(M20="A",10,0)) -> 1 | O20: no | P20: No se ve desde la sala de estar.
A21: =A20+1 -> 20 | C21: Acceso | D21: Aseo público | E21: Instalación | F21: =IF(E21="Distribución",5,IF(E21="instalación",4,IF(E21="equipamiento",3,IF(E21="suelo",3,IF(E21="hueco",4,IF(E21="techo",2,IF(E21="puerta",2,IF(E21="pared",2,IF(E21="mobiliario",1,IF(E21="señalética",1,IF(E21="arte",1,0))))))))))) -> 4 | G21: Ventilado mecánicamente. | H21: 0 | I21: 0 | J21: 0 | K21: 1 | L21: Reglamento de instalaciones térmicas en los edificios (RITE), BOE-A-2007-15820, Editor. 2007, Ministerio de la Presidencia. | M21: B | N21: =IF(M21="B",1,IF(M21="A",10,0)) -> 1 | O21: sí
A22: =A21+1 -> 21 | C22: Acceso | D22: Aseo público | E22: Equipamiento | F22: =IF(E22="Distribución",5,IF(E22="instalación",4,IF(E22="equipamiento",3,IF(E22="suelo",3,IF(E22="hueco",4,IF(E22="techo",2,IF(E22="puerta",2,IF(E22="pared",2,IF(E22="mobiliario",1,IF(E22="señalética",1,IF(E22="arte",1,0))))))))))) -> 3 | G22: (Lavabo e inodoro)¹ (en buen estado de conservación)². | H22: 0 | I22: 0 | J22: 1 | K22: 1 | L22: 1. Unidad de enfermería en hospitalización polivalente de agudos, in Estándares y recomendaciones, e.e.i. Informes, Editor. 2009, Ministerio de Sanidad y Política Social. 2. Patient-Led Assessments of the Care Environment. The Ward Assessment - Acute and Community Hospitals, Hospices and Treatment Centres. 2015, NHS England. | M22: B | N22: =IF(M22="B",1,IF(M22="A",10,0)) -> 1 | O22: sí
A23: =A22+1 -> 22 | C23: Acceso | D23: Aseo público | E23: Puerta | F23: =IF(E23="Distribución",5,IF(E23="instalación",4,IF(E23="equipamiento",3,IF(E23="suelo",3,IF(E23="hueco",4,IF(E23="techo",2,IF(E23="puerta",2,IF(E23="pared",2,IF(E23="mobiliario",1,IF(E23="señalética",1,IF(E23="arte",1,0))))))))))) -> 2 | G23: Los sistemas de cierre funcionan correctamente. | H23: 0 | I23: 0 | J23: 0 | K23: 1 | L23: Patient-Led Assessments of the Care Environment. The Ward Assessment - Acute and Community Hospitals, Hospices and Treatment Centres. 2015, NHS England. | M23: B | N23: =IF(M23="B",1,IF(M23="A",10,0)) -> 1 | O23: sí
A24: =A23+1 -> 23 | C24: Acceso | D24: Aseo público | E24: Mobiliario | G24: Cambiador de pañales. | H24: 0 | I24: 0 | J24: 1 | K24: 0 | L24: Unidades de neonatología, in Estándares y recomendaciones de calidad, e.e.i. Informes, Editor. 2014, Ministerio de Sanidad, Servicios Sociales e Igualdad. | M24: B | N24: =IF(M24="B",1,IF(M24="A",10,0)) -> 1 | O24: n.a. | P24: ítem posterior a la evaluación.
A25: =A24+1 -> 24 | C25: Acceso | D25: Aseo público | E25: Mobiliario | F25: =IF(E25="Distribución",5,IF(E25="instalación",4,IF(E25="equipamiento",3,IF(E25="suelo",3,IF(E25="hueco",4,IF(E25="techo",2,IF(E25="puerta",2,IF(E25="pared",2,IF(E25="mobiliario",1,IF(E25="señalética",1,IF(E25="arte",1,0))))))))))) -> 1 | G25: Dispensador de jabón, de papel higiénico y de toallas de papel. Escobilla y papelera (preferiblemente con tapa). Espejo y percha. | H25: 0 | I25: 0 | J25: 1 | K25: 0 | L25: Unidad de enfermería en hospitalización polivalente de agudos, in Estándares y recomendaciones, e.e.i. Informes, Editor. 2009, Ministerio de Sanidad y Política Social. | M25: B | N25: =IF(M25="B",1,IF(M25="A",10,0)) -> 1 | O25: n.a. | P25: ítem posterior a la evaluación.
A26: =A25+1 -> 25 | C26: Acceso | D26: Despacho información | E26: Distribución | F26: =IF(E26="Distribución",5,IF(E26="instalación",4,IF(E26="equipamiento",3,IF(E26="suelo",3,IF(E26="hueco",4,IF(E26="techo",2,IF(E26="puerta",2,IF(E26="pared",2,IF(E26="mobiliario",1,IF(E26="señalética",1,IF(E26="arte",1,0))))))))))) -> 5 | G26: (Superficie útil en torno a 12 m²)¹. (Uno por cada 20 cunas o incubadoras y un mínimo de una)². | H26: 0 | I26: 1 | J26: 1 | K26: 0 | L26: 1. Unidad de enfermería en hospitalización polivalente de agudos, in Estándares y recomendaciones, e.e.i. Informes, Editor. 2009, Ministerio de Sanidad y Política Social. 2. Unidades de neonatología, in Estándares y recomendaciones de calidad, e.e.i. Informes, Editor. 2014, Ministerio de Sanidad, Servicios Sociales e Igualdad. | M26: B | N26: =IF(M26="B",1,IF(M26="A",10,0)) -> 1 | O26: no | P26: La unidad no tiene este local.
A27: =A26+1 -> 26 | C27: Acceso | D27: Despacho información | E27: Distribución | F27: =IF(E27="Distribución",5,IF(E27="instalación",4,IF(E27="equipamiento",3,IF(E27="suelo",3,IF(E27="hueco",4,IF(E27="techo",2,IF(E27="puerta",2,IF(E27="pared",2,IF(E27="mobiliario",1,IF(E27="señalética",1,IF(E27="arte",1,0))))))))))) -> 5 | G27: Condiciones de privacidad adecuada. Ambiente cálido y residencial. | H27: 0 | I27: 0 | J27: 1 | K27: 0 | L27: Unidad de enfermería en hospitalización polivalente de agudos, in Estándares y recomendaciones, e.e.i. Informes, Editor. 2009, Ministerio de Sanidad y Política Social. | M27: B | N27: =IF(M27="B",1,IF(M27="A",10,0)) -> 1 | O27: no | P27: No cumple.
A28: =A27+1 -> 27 | C28: Acceso | D28: Despacho información | E28: Instalación | F28: =IF(E28="Distribución",5,IF(E28="instalación",4,IF(E28="equipamiento",3,IF(E28="suelo",3,IF(E28="hueco",4,IF(E28="techo",2,IF(E28="puerta",2,IF(E28="pared",2,IF(E28="mobiliario",1,IF(E28="señalética",1,IF(E28="arte",1,0))))))))))) -> 4 | G28: Ventilado mecánicamente. | H28: 0 | I28: 0 | J28: 0 | K28: 1 | L28: Reglamento de instalaciones térmicas en los edificios (RITE), BOE-A-2007-15820, Editor. 2007, Ministerio de la Presidencia. | M28: B | N28: =IF(M28="B",1,IF(M28="A",10,0)) -> 1 | O28: no | P28: No cumple.
A29: =A28+1 -> 28 | C29: Acceso | D29: Despacho información | E29: Equipamiento | F29: =IF(E29="Distribución",5,IF(E29="instalación",4,IF(E29="equipamiento",3,IF(E29="suelo",3,IF(E29="hueco",4,IF(E29="techo",2,IF(E29="puerta",2,IF(E29="pared",2,IF(E29="mobiliario",1,IF(E29="señalética",1,IF(E29="arte",1,0))))))))))) -> 3 | G29: Conexiones eléctricas, de transmisiones y comunicaciones. | H29: 0 | I29: 1 | J29: 0 | K29: 0 | L29: Autores CURARQ | M29: B | N29: =IF(M29="B",1,IF(M29="A",10,0)) -> 1 | O29: no | P29: No cumple.
A30: =A29+1 -> 29 | C30: Acceso | D30: Despacho información | E30: Mobiliario | F30: =IF(E30="Distribución",5,IF(E30="instalación",4,IF(E30="equipamiento",3,IF(E30="suelo",3,IF(E30="hueco",4,IF(E30="techo",2,IF(E30="puerta",2,IF(E30="pared",2,IF(E30="mobiliario",1,IF(E30="señalética",1,IF(E30="arte",1,0))))))))))) -> 1 | G30: Mesa de trabajo, sillas y sillón ergonómico. | H30: 0 | I30: 1 | J30: 0 | K30: 0 | L30: Unidad de enfermería en hospitalización polivalente de agudos, in Estándares y recomendaciones, e.e.i. Informes, Editor. 2009, Ministerio de Sanidad y Política Social. | M30: B | N30: =IF(M30="B",1,IF(M30="A",10,0)) -> 1 | O30: no | P30: No cumple.
A31: =A30+1 -> 30 | C31: Acceso | D31: Consulta | E31: Distribución | F31: =IF(E31="Distribución",5,IF(E31="instalación",4,IF(E31="equipamiento",3,IF(E31="suelo",3,IF(E31="hueco",4,IF(E31="techo",2,IF(E31="puerta",2,IF(E31="pared",2,IF(E31="mobiliario",1,IF(E31="señalética",1,IF(E31="arte",1,0))))))))))) -> 5 | G31: (Superficie útil en torno a 20 m²)¹. (Se utiliza en algunas unidades para explorar a los recién nacidos que hayan perdido más del 12 % del peso desde el nacimiento)². | H31: 0 | I31: 1 | J31: 0 | K31: 0 | L31: 1. Social, M.d.S.y.P., Maternidad Hospitalaria Estándares y Recomendaciones. 2009: Madrid 2. Unidades de neonatología, in Estándares y recomendaciones de calidad, e.e.i. Informes, Editor. 2014, Ministerio de Sanidad, Servicios Sociales e Igualdad. | M31: B | N31: =IF(M31="B",1,IF(M31="A",10,0)) -> 1 | O31: n.a. | P31: Utilizan un local en hospitalización obstétrica.
A32: =A31+1 -> 31 | C32: Acceso | D32: Consulta | E32: Instalación | F32: =IF(E32="Distribución",5,IF(E32="instalación",4,IF(E32="equipamiento",3,IF(E32="suelo",3,IF(E32="hueco",4,IF(E32="techo",2,IF(E32="puerta",2,IF(E32="pared",2,IF(E32="mobiliario",1,IF(E32="señalética",1,IF(E32="arte",1,0))))))))))) -> 4 | G32: Ventilado mecánicamente. | H32: 0 | I32: 0 | J32: 0 | K32: 1 | L32: Reglamento de instalaciones térmicas en los edificios (RITE), BOE-A-2007-15820, Editor. 2007, Ministerio de la Presidencia. | M32: B | N32: =IF(M32="B",1,IF(M32="A",10,0)) -> 1 | O32: n.a.
A33: =A32+1 -> 32 | C33: Acceso | D33: Consulta | E33: Equipamiento | F33: =IF(E33="Distribución",5,IF(E33="instalación",4,IF(E33="equipamiento",3,IF(E33="suelo",3,IF(E33="hueco",4,IF(E33="techo",2,IF(E33="puerta",2,IF(E33="pared",2,IF(E33="mobiliario",1,IF(E33="señalética",1,IF(E33="arte",1,0))))))))))) -> 3 | G33: Tomas de oxígeno y vacío. | H33: 0 | I33: 1 | J33: 0 | K33: 0 | L33: Autores CURARQ | M33: B | N33: =IF(M33="B",1,IF(M33="A",10,0)) -> 1 | O33: n.a.
A34: =A33+1 -> 33 | C34: Acceso | D34: Consulta | E34: Equipamiento | F34: =IF(E34="Distribución",5,IF(E34="instalación",4,IF(E34="equipamiento",3,IF(E34="suelo",3,IF(E34="hueco",4,IF(E34="techo",2,IF(E34="puerta",2,IF(E34="pared",2,IF(E34="mobiliario",1,IF(E34="señalética",1,IF(E34="arte",1,0))))))))))) -> 3 | G34: Pileta y grifería termostática con mando de codo. | H34: 0 | I34: 1 | J34: 0 | K34: 0 | L34: Social, M.d.S.y.P., Maternidad Hospitalaria Estándares y Recomendaciones. 2009: Madrid | M34: B | N34: =IF(M34="B",1,IF(M34="A",10,0)) -> 1 | O34: n.a.
A35: =A34+1 -> 34 | C35: Acceso | D35: Consulta | E35: Mobiliario | F35: =IF(E35="Distribución",5,IF(E35="instalación",4,IF(E35="equipamiento",3,IF(E35="suelo",3,IF(E35="hueco",4,IF(E35="techo",2,IF(E35="puerta",2,IF(E35="pared",2,IF(E35="mobiliario",1,IF(E35="señalética",1,IF(E35="arte",1,0))))))))))) -> 1 | G35: Mueble cambiador para explorar al bebé. Armario para material estéril. Báscula. | H35: 0 | I35: 1 | J35: 0 | K35: 0 | L35: Autores CURARQ | M35: B | N35: =IF(M35="B",1,IF(M35="A",10,0)) -> 1 | O35: n.a.
A36: =A35+1 -> 35 | C36: Acceso | D36: Consulta | E36: Mobiliario | F36: =IF(E36="Distribución",5,IF(E36="instalación",4,IF(E36="equipamiento",3,IF(E36="suelo",3,IF(E36="hueco",4,IF(E36="techo",2,IF(E36="puerta",2,IF(E36="pared",2,IF(E36="mobiliario",1,IF(E36="señalética",1,IF(E36="arte",1,0))))))))))) -> 1 | G36: Mesa de trabajo, sillas y sillón ergonómico. | L36: Social, M.d.S.y.P., Maternidad Hospitalaria Estándares y Recomendaciones. 2009: Madrid | M36: B | N36: =IF(M36="B",1,IF(M36="A",10,0)) -> 1 | O36: n.a.
A37: =A36+1 -> 36 | C37: Acceso | D37: Consulta | E37: Mobiliario | F37: =IF(E37="Distribución",5,IF(E37="instalación",4,IF(E37="equipamiento",3,IF(E37="suelo",3,IF(E37="hueco",4,IF(E37="techo",2,IF(E37="puerta",2,IF(E37="pared",2,IF(E37="mobiliario",1,IF(E37="señalética",1,IF(E37="arte",1,0))))))))))) -> 1 | G37: Dispensador de jabón y de toallas de papel. Papelera con tapa. | H37: 0 | I37: 1 | J37: 0 | K37: 0 | L37: Autores CURARQ | M37: B | N37: =IF(M37="B",1,IF(M37="A",10,0)) -> 1 | O37: n.a.
A38: =A37+1 -> 37 | C38: Acceso | D38: Lactancia y alimentación | E38: Distribución | F38: =IF(E38="Distribución",5,IF(E38="instalación",4,IF(E38="equipamiento",3,IF(E38="suelo",3,IF(E38="hueco",4,IF(E38="techo",2,IF(E38="puerta",2,IF(E38="pared",2,IF(E38="mobiliario",1,IF(E38="señalética",1,IF(E38="arte",1,0))))))))))) -> 5 | G38: Espacio para giro de una silla de ruedas de 1,50 m de diámetro, libre de obstáculos desde el nivel del suelo en toda su altura. | H38: 0 | I38: 0 | J38: 1 | K38: 0 | L38: Health, N.E.a.E.A.o.t.D.o., HBN 23 Hospital accommodation for children and young people. 2004. | M38: B | N38: =IF(M38="B",1,IF(M38="A",10,0)) -> 1 | O38: no | P38: La unidad no tiene este local.
A39: =A38+1 -> 38 | C39: Acceso | D39: Lactancia y alimentación | E39: Instalación | F39: =IF(E39="Distribución",5,IF(E39="instalación",4,IF(E39="equipamiento",3,IF(E39="suelo",3,IF(E39="hueco",4,IF(E39="techo",2,IF(E39="puerta",2,IF(E39="pared",2,IF(E39="mobiliario",1,IF(E39="señalética",1,IF(E39="arte",1,0))))))))))) -> 4 | G39: Ventilado mecánicamente. | H39: 0 | I39: 0 | J39: 0 | K39: 1 | L39: Reglamento de instalaciones térmicas en los edificios (RITE), BOE-A-2007-15820, Editor. 2007, Ministerio de la Presidencia. | M39: B | N39: =IF(M39="B",1,IF(M39="A",10,0)) -> 1 | O39: no | P39: No cumple.
A40: =A39+1 -> 39 | C40: Acceso | D40: Lactancia y alimentación | E40: Equipamiento | F40: =IF(E40="Distribución",5,IF(E40="instalación",4,IF(E40="equipamiento",3,IF(E40="suelo",3,IF(E40="hueco",4,IF(E40="techo",2,IF(E40="puerta",2,IF(E40="pared",2,IF(E40="mobiliario",1,IF(E40="señalética",1,IF(E40="arte",1,0))))))))))) -> 3 | G40: Iluminación indirecta graduable. | H40: 0 | I40: 0 | J40: 1 | K40: 0 | L40: Health, N.E.a.E.A.o.t.D.o., HBN 23 Hospital accommodation for children and young people. 2004. | M40: B | N40: =IF(M40="B",1,IF(M40="A",10,0)) -> 1 | O40: no | P40: No cumple.
...

Sheet Familiares
A1: Nº | C1: ZONA | D1: LOCAL | E1: ELEMENTO | F1: Coste | G1: ÍTEM | H1: S | I1: E | J1: X | K1: P | L1: REFERENCIA | M1: Tipo evi | N1: Ptos | O1: HUPF | P1: Comentarios HUPF
A2: 1 | C2: Familiares | D2: Zona de recepción de familiares | E2: Distribución | F2: =IF(E2="Distribución",5,IF(E2="instalación",4,IF(E2="equipamiento",3,IF(E2="suelo",3,IF(E2="hueco",4,IF(E2="techo",2,IF(E2="puerta",2,IF(E2="pared",2,IF(E2="mobiliario",1,IF(E2="señalética",1,IF(E2="arte",1,0))))))))))) -> 5 | G2: Recepción en el área de padres. El puesto de recepción tiene capacidad para una persona. | H2: 0 | I2: 1 | J2: 0 | K2: 0 | L2: Unidades de neonatología, in Estándares y recomendaciones de calidad, e.e.i. Informes, Editor. 2014, Ministerio de Sanidad, Servicios Sociales e Igualdad. | M2: B | N2: =IF(M2="B",1,IF(M2="A",10,0)) -> 1 | O2: no | P2: Solamente está la recepción del acceso a la unidad, no específica para una zona de familiares.
A3: =A2+1 -> 2 | C3: Familiares | D3: Despacho información | E3: Distribución | F3: =IF(E3="Distribución",5,IF(E3="instalación",4,IF(E3="equipamiento",3,IF(E3="suelo",3,IF(E3="hueco",4,IF(E3="techo",2,IF(E3="puerta",2,IF(E3="pared",2,IF(E3="mobiliario",1,IF(E3="señalética",1,IF(E3="arte",1,0))))))))))) -> 5 | G3: Superficie útil en torno a 12 m². | H3: 0 | I3: 1 | J3: 1 | K3: 0 | L3: Unidad de enfermería en hospitalización polivalente de agudos, in Estándares y recomendaciones, e.e.i. Informes, Editor. 2009, Ministerio de Sanidad y Política Social. | M3: B | N3: =IF(M3="B",1,IF(M3="A",10,0)) -> 1 | O3: no | P3: La unidad no tiene este local.
A4: =A3+1 -> 3 | C4: Familiares | D4: Despacho información | E4: Distribución | F4: =IF(E4="Distribución",5,IF(E4="instalación",4,IF(E4="equipamiento",3,IF(E4="suelo",3,IF(E4="hueco",4,IF(E4="techo",2,IF(E4="puerta",2,IF(E4="pared",2,IF(E4="mobiliario",1,IF(E4="señalética",1,IF(E4="arte",1,0))))))))))) -> 5 | G4: Condiciones de privacidad adecuada. Ambiente cálido y residencial. | H4: 0 | I4: 0 | J4: 1 | K4: 0 | L4: Unidad de enfermería en hospitalización polivalente de agudos, in Estándares y recomendaciones, e.e.i. Informes, Editor. 2009, Ministerio de Sanidad y Política Social. | M4: B | N4: =IF(M4="B",1,IF(M4="A",10,0)) -> 1 | O4: no | P4: No cumple.
A5: =A4+1 -> 4 | C5: Familiares | D5: Despacho información | E5: Instalación | F5: =IF(E5="Distribución",5,IF(E5="instalación",4,IF(E5="equipamiento",3,IF(E5="suelo",3,IF(E5="hueco",4,IF(E5="techo",2,IF(E5="puerta",2,IF(E5="pared",2,IF(E5="mobiliario",1,IF(E5="señalética",1,IF(E5="arte",1,0))))))))))) -> 4 | G5: Ventilado mecánicamente. | H5: 0 | I5: 0 | J5: 0 | K5: 1 | L5: Reglamento de instalaciones térmicas en los edificios (RITE), BOE-A-2007-15820, Editor. 2007, Ministerio de la Presidencia. | M5: B | N5: =IF(M5="B",1,IF(M5="A",10,0)) -> 1 | O5: no | P5: No cumple.
A6: =A5+1 -> 5 | C6: Familiares | D6: Despacho información | E6: Equipamiento | F6: =IF(E6="Distribución",5,IF(E6="instalación",4,IF(E6="equipamiento",3,IF(E6="suelo",3,IF(E6="hueco",4,IF(E6="techo",2,IF(E6="puerta",2,IF(E6="pared",2,IF(E6="mobiliario",1,IF(E6="señalética",1,IF(E6="arte",1,0))))))))))) -> 3 | G6: Conexiones eléctricas, de transmisiones y comunicaciones. | H6: 0 | I6: 1 | J6: 0 | K6: 0 | L6: Autores CURARQ | M6: B | N6: =IF(M6="B",1,IF(M6="A",10,0)) -> 1 | O6: no | P6: No cumple.
A7: =A6+1 -> 6 | C7: Familiares | D7: Despacho información | E7: Mobiliario | F7: =IF(E7="Distribución",5,IF(E7="instalación",4,IF(E7="equipamiento",3,IF(E7="suelo",3,IF(E7="hueco",4,IF(E7="techo",2,IF(E7="puerta",2,IF(E7="pared",2,IF(E7="mobiliario",1,IF(E7="señalética",1,IF(E7="arte",1,0))))))))))) -> 1 | G7: Mesa de trabajo, sillas y sillón ergonómico. | H7: 0 | I7: 1 | J7: 0 | K7: 0 | L7: Unidad de enfermería en hospitalización polivalente de agudos, in Estándares y recomendaciones, e.e.i. Informes, Editor. 2009, Ministerio de Sanidad y Política Social. | M7: B | N7: =IF(M7="B",1,IF(M7="A",10,0)) -> 1 | O7: no | P7: No cumple.
A8: =A7+1 -> 7 | C8: Familiares | D8: Estar y refrigerio | E8: Distribución | F8: =IF(E8="Distribución",5,IF(E8="instalación",4,IF(E8="equipamiento",3,IF(E8="suelo",3,IF(E8="hueco",4,IF(E8="techo",2,IF(E8="puerta",2,IF(E8="pared",2,IF(E8="mobiliario",1,IF(E8="señalética",1,IF(E8="arte",1,0))))))))))) -> 5 | G8: Una plaza de 2m² por cada 3 cunas o incubadoras. Espacio para comer. | H8: 0 | I8: 0 | J8: 1 | K8: 0 | L8: Unidades de neonatología, in Estándares y recomendaciones de calidad, e.e.i. Informes, Editor. 2014, Ministerio de Sanidad, Servicios Sociales e Igualdad. | M8: B | N8: =IF(M8="B",1,IF(M8="A",10,0)) -> 1 | O8: sí
A9: =A8+1 -> 8 | C9: Familiares | D9: Estar y refrigerio | E9: Distribución | F9: =IF(E9="Distribución",5,IF(E9="instalación",4,IF(E9="equipamiento",3,IF(E9="suelo",3,IF(E9="hueco",4,IF(E9="techo",2,IF(E9="puerta",2,IF(E9="pared",2,IF(E9="mobiliario",1,IF(E9="señalética",1,IF(E9="arte",1,0))))))))))) -> 5 | G9: Próximo a la zona de atención clínica. | H9: 1 | I9: 0 | J9: 1 | K9: 0 | L9: Unidades de neonatología, in Estándares y recomendaciones de calidad, e.e.i. Informes, Editor. 2014, Ministerio de Sanidad, Servicios Sociales e Igualdad. | M9: B | N9: =IF(M9="B",1,IF(M9="A",10,0)) -> 1 | O9: sí | P9: Aunque está ubicado fuera de la unidad. Hay que cruzar un pasillo de circulación entre unidades.
A10: =A9+1 -> 9 | C10: Familiares | D10: Estar y refrigerio | E10: Hueco | F10: =IF(E10="Distribución",5,IF(E10="instalación",4,IF(E10="equipamiento",3,IF(E10="suelo",3,IF(E10="hueco",4,IF(E10="techo",2,IF(E10="puerta",2,IF(E10="pared",2,IF(E10="mobiliario",1,IF(E10="señalética",1,IF(E10="arte",1,0))))))))))) -> 4 | G10: Iluminación natural. | H10: 0 | I10: 0 | J10: 1 | K10: 0 | L10: Unidades de neonatología, in Estándares y recomendaciones de calidad, e.e.i. Informes, Editor. 2014, Ministerio de Sanidad, Servicios Sociales e Igualdad. | M10: B | N10: =IF(M10="B",1,IF(M10="A",10,0)) -> 1 | O10: no | P10: Sala interior.
A11: =A10+1 -> 10 | C11: Familiares | D11: Estar y refrigerio | E11: Hueco | F11: =IF(E11="Distribución",5,IF(E11="instalación",4,IF(E11="equipamiento",3,IF(E11="suelo",3,IF(E11="hueco",4,IF(E11="techo",2,IF(E11="puerta",2,IF(E11="pared",2,IF(E11="mobiliario",1,IF(E11="señalética",1,IF(E11="arte",1,0))))))))))) -> 4 | G11: Vistas a la naturaleza. | H11: 0 | I11: 0 | J11: 1 | K11: 0 | L11: Advanced, C.C.o.R.D.S.f. and N. Care, Recommended Standards for Newborn ICU Design. 2007: p. 40 | M11: B | N11: =IF(M11="B",1,IF(M11="A",10,0)) -> 1 | O11: no | P11: Sala interior.
A12: =A11+1 -> 11 | C12: Familiares | D12: Estar y refrigerio | E12: Instalación | F12: =IF(E12="Distribución",5,IF(E12="instalación",4,IF(E12="equipamiento",3,IF(E12="suelo",3,IF(E12="hueco",4,IF(E12="techo",2,IF(E12="puerta",2,IF(E12="pared",2,IF(E12="mobiliario",1,IF(E12="señalética",1,IF(E12="arte",1,0))))))))))) -> 4 | G12: Ventilado mecánicamente. | H12: 0 | I12: 0 | J12: 0 | K12: 1 | L12: Reglamento de instalaciones térmicas en los edificios (RITE), BOE-A-2007-15820, Editor. 2007, Ministerio de la Presidencia. | M12: B | N12: =IF(M12="B",1,IF(M12="A",10,0)) -> 1 | O12: sí
A13: =A12+1 -> 12 | C13: Familiares | D13: Estar y refrigerio | E13: Instalación | F13: =IF(E13="Distribución",5,IF(E13="instalación",4,IF(E13="equipamiento",3,IF(E13="suelo",3,IF(E13="hueco",4,IF(E13="techo",2,IF(E13="puerta",2,IF(E13="pared",2,IF(E13="mobiliario",1,IF(E13="señalética",1,IF(E13="arte",1,0))))))))))) -> 4 | G13: Tomas eléctricas y wifi. | H13: 0 | I13: 0 | J13: 1 | K13: 0 | L13: Unidades de neonatología, in Estándares y recomendaciones de calidad, e.e.i. Informes, Editor. 2014, Ministerio de Sanidad, Servicios Sociales e Igualdad. | M13: B | N13: =IF(M13="B",1,IF(M13="A",10,0)) -> 1 | O13: n.a. | P13: Ítem posterior a la evaluación.
A14: =A13+1 -> 13 | C14: Familiares | D14: Estar y refrigerio | E14: Equipamiento | F14: =IF(E14="Distribución",5,IF(E14="instalación",4,IF(E14="equipamiento",3,IF(E14="suelo",3,IF(E14="hueco",4,IF(E14="techo",2,IF(E14="puerta",2,IF(E14="pared",2,IF(E14="mobiliario",1,IF(E14="señalética",1,IF(E14="arte",1,0))))))))))) -> 3 | G14: (Fuente de agua fría y máquinas expendedoras de bebidas)¹ (y comida saludable)². | H14: 0 | I14: 0 | J14: 1 | K14: 0 | L14: 1. Unidades de neonatología, in Estándares y recomendaciones de calidad, e.e.i. Informes, Editor. 2014, Ministerio de Sanidad, Servicios Sociales e Igualdad. 2. Autores CURARQ | M14: B | N14: =IF(M14="B",1,IF(M14="A",10,0)) -> 1 | O14: no | P14: No cumple.
