Workbook

Sheet Conclusiones
A1: HUV | B1: no
A3: ZONA | B3: LOCAL | C3: ELEMENTO | D3: Coste | E3: ÍTEM | F3: Comentarios HUV
A4: Acceso
B5: Entrada y vestíbulo
C6: Instalación
D7: 4
E8: Sistema de control de acceso a la unidad. Medios electrónicos de vigilancia y seguridad.
F9: No tiene ningún sistema de seguridad.
B10: Estar de familiares
C11: Mobiliario
D12: 1
E13: Espacio para niños y niñas con juegos y libros. De fácil observación por los padres.
F14: No cumple.
B15: Lactancia y alimentación
C16: Equipamiento
D17: 3
E18: (Lavabo. Encimera o mueble donde colocar bolsas o botellas para la preparación de la comida)¹. (Cambiador de pañales)².
F19: Sin lavabo ni cambiador. El cambiador está en el aseo público.
E20: Iluminación indirecta graduable.
F21: Fluorescentes en el techo con difusores.
C22: Mobiliario
D23: 1
E24: Dispensador de jabón y de toallas de papel. Papelera y percha.
F25: No cumple.
B26: Vestuario familiares
C27: Distribución
D28: 5
E29: Funciona como esclusa de acceso de los familiares desde el exterior a la zona clínica. Mínimo de 1m² por cada 6 cunas o incubadoras.
F30: La unidad no tiene este local.
C31: Equipamiento
D32: 3
E33: Equipado con instalación de lavado y desinfección de las manos.
F34: No cumple.
C35: Mobiliario
D36: 1
E37: Con taquillas y elementos para guardar la ropa de calle de los familiares.
F38: No cumple.
A39: Acceso
B40: Aseo público
C41: Distribución
...

Sheet Requisitos
A1: Nº | C1: ZONA | D1: LOCAL | E1: ELEMENTO | F1: Coste | G1: ÍTEM | H1: S | I1: E | J1: X | K1: P | L1: REFERENCIA | M1: Ptos | N1: HUV | O1: Comentarios HUV
A2: 1 | C2: Configuración unidad | E2: Distribución | F2: =IF(E2="Distribución",5,IF(E2="instalación",4,IF(E2="equipamiento",3,IF(E2="suelo",3,IF(E2="hueco",4,IF(E2="techo",2,IF(E2="puerta",2,IF(E2="pared",2,IF(E2="mobiliario",1,IF(E2="señalética",1,IF(E2="arte",1,0))))))))))) -> 5 | G2: No sirve de tráfico de paso hacia otra unidad. | H2: 1 | I2: 1 | J2: 1 | K2: 1 | L2: Unidades de neonatología, in Estándares y recomendaciones de calidad, e.e.i. Informes, Editor. 2014, Ministerio de Sanidad, Servicios Sociales e Igualdad. | M2: 1 | N2: sí
A3: =A2+1 -> 2 | C3: Configuración unidad | E3: Distribución | F3: =IF(E3="Distribución",5,IF(E3="instalación",4,IF(E3="equipamiento",3,IF(E3="suelo",3,IF(E3="hueco",4,IF(E3="techo",2,IF(E3="puerta",2,IF(E3="pared",2,IF(E3="mobiliario",1,IF(E3="señalética",1,IF(E3="arte",1,0))))))))))) -> 5 | G3: Claramente delimitada dentro del hospital. | H3: 1 | I3: 1 | J3: 1 | K3: 1 | L3: Unidades de neonatología, in Estándares y recomendaciones de calidad, e.e.i. Informes, Editor. 2014, Ministerio de Sanidad, Servicios Sociales e Igualdad. | M3: 1 | N3: sí
A4: =A3+1 -> 3 | C4: Configuración unidad | E4: Distribución | F4: =IF(E4="Distribución",5,IF(E4="instalación",4,IF(E4="equipamiento",3,IF(E4="suelo",3,IF(E4="hueco",4,IF(E4="techo",2,IF(E4="puerta",2,IF(E4="pared",2,IF(E4="mobiliario",1,IF(E4="señalética",1,IF(E4="arte",1,0))))))))))) -> 5 | G4: No está situada bajo rasante. Dispone de al menos dos sectores de un máximo de 1.500 m² construidos. Para las plantas o recintos que disponen de más de una salida de planta o salida de recinto, la longitud de los recorridos de evacuación desde su origen hasta llegar a algún punto desde el cual existan al menos dos recorridos alternativos no excede de 15 metros. Dispone de dos salidas/accesos diferenciados por razón de evacuación de los ocupantes de la unidad. | H4: 1 | I4: 0 | J4: 0 | K4: 1 | L4: Unidades de neonatología, in Estándares y recomendaciones de calidad, e.e.i. Informes, Editor. 2014, Ministerio de Sanidad, Servicios Sociales e Igualdad. | M4: 1 | N4: n.a. | O4: Ítem posterior a la evaluación.
A5: =A4+1 -> 4 | C5: Configuración unidad | E5: Distribución | F5: =IF(E5="Distribución",5,IF(E5="instalación",4,IF(E5="equipamiento",3,IF(E5="suelo",3,IF(E5="hueco",4,IF(E5="techo",2,IF(E5="puerta",2,IF(E5="pared",2,IF(E5="mobiliario",1,IF(E5="señalética",1,IF(E5="arte",1,0))))))))))) -> 5 | G5: Localizada dentro del área materno-infantil del hospital (próxima al bloque obstétrico y a la hospitalización obstétrica). Las tres unidades se encuentran en la misma planta para que el traslado urgente de pacientes, en caso necesario, se realice con rapidez e independiente de medios mecánicos. | H5: 1 | I5: 1 | J5: 0 | K5: 0 | L5: Unidades de neonatología, in Estándares y recomendaciones de calidad, e.e.i. Informes, Editor. 2014, Ministerio de Sanidad, Servicios Sociales e Igualdad. 2. Blanco Bravo, D., Niveles asistenciales y recomendaciones de mínimos para la atención neonatal. An Pediatr (Barc), 2003. Comité de Estándares y Junta Directiva de la Sociedad Española de Neonatología. | M5: 1 | N5: sí
A6: =A5+1 -> 5 | C6: Configuración unidad | E6: Distribución | F6: =IF(E6="Distribución",5,IF(E6="instalación",4,IF(E6="equipamiento",3,IF(E6="suelo",3,IF(E6="hueco",4,IF(E6="techo",2,IF(E6="puerta",2,IF(E6="pared",2,IF(E6="mobiliario",1,IF(E6="señalética",1,IF(E6="arte",1,0))))))))))) -> 5 | G6: Ubicación próxima al bloque quirúrgico de pediatría/cirugía neonatal, unidad de medicina fetal (seguimiento de embarazos de alto riesgo), unidad de pediatría y urgencias. | H6: 1 | I6: 1 | J6: 0 | K6: 0 | L6: Unidades de neonatología, in Estándares y recomendaciones de calidad, e.e.i. Informes, Editor. 2014, Ministerio de Sanidad, Servicios Sociales e Igualdad. 2. Blanco Bravo, D., Niveles asistenciales y recomendaciones de mínimos para la atención neonatal. An Pediatr (Barc), 2003. Comité de Estándares y Junta Directiva de la Sociedad Española de Neonatología. | M6: 1 | N6: sí
A7: =A6+1 -> 6 | C7: Configuración unidad | E7: Distribución | F7: =IF(E7="Distribución",5,IF(E7="instalación",4,IF(E7="equipamiento",3,IF(E7="suelo",3,IF(E7="hueco",4,IF(E7="techo",2,IF(E7="puerta",2,IF(E7="pared",2,IF(E7="mobiliario",1,IF(E7="señalética",1,IF(E7="arte",1,0))))))))))) -> 5 | G7: Conectada con la circulación externa o pública y con la circulación interna (personal, pacientes ingresados, suministros y servicios). Existen dos tipos de accesos a la unidad: uno externo para visitas de familiares y acompañantes y otro interno para pacientes encamados, personal, suministros y servicios de soporte. | H7: 1 | I7: 1 | J7: 1 | K7: 0 | L7: Unidades de neonatología, in Estándares y recomendaciones de calidad, e.e.i. Informes, Editor. 2014, Ministerio de Sanidad, Servicios Sociales e Igualdad. | M7: 1 | N7: n.a. | O7: Por la cartera de servicios del hospital.
A8: =A7+1 -> 7 | C8: Configuración unidad | E8: Distribución | F8: =IF(E8="Distribución",5,IF(E8="instalación",4,IF(E8="equipamiento",3,IF(E8="suelo",3,IF(E8="hueco",4,IF(E8="techo",2,IF(E8="puerta",2,IF(E8="pared",2,IF(E8="mobiliario",1,IF(E8="señalética",1,IF(E8="arte",1,0))))))))))) -> 5 | G8: La zona clínica de atención a los neonatos es la zona central de la unidad (en términos funcionales y físicos) y está comunicada con el resto de las zonas de la misma. | H8: 0 | I8: 1 | J8: 0 | K8: 0 | L8: Unidades de neonatología, in Estándares y recomendaciones de calidad, e.e.i. Informes, Editor. 2014, Ministerio de Sanidad, Servicios Sociales e Igualdad. | M8: 1 | N8: sí
A9: =A8+1 -> 8 | C9: Configuración unidad | E9: Distribución | F9: =IF(E9="Distribución",5,IF(E9="instalación",4,IF(E9="equipamiento",3,IF(E9="suelo",3,IF(E9="hueco",4,IF(E9="techo",2,IF(E9="puerta",2,IF(E9="pared",2,IF(E9="mobiliario",1,IF(E9="señalética",1,IF(E9="arte",1,0))))))))))) -> 5 | G9: Las proporciones de los locales son similares al cuadrado o a un rectángulo de 1:1,5. | H9: 0 | I9: 1 | J9: 0 | K9: 0 | L9: Unidades de neonatología, in Estándares y recomendaciones de calidad, e.e.i. Informes, Editor. 2014, Ministerio de Sanidad, Servicios Sociales e Igualdad. | M9: 1 | N9: sí
A10: =A9+1 -> 9 | C10: Configuración unidad | E10: Distribución | F10: =IF(E10="Distribución",5,IF(E10="instalación",4,IF(E10="equipamiento",3,IF(E10="suelo",3,IF(E10="hueco",4,IF(E10="techo",2,IF(E10="puerta",2,IF(E10="pared",2,IF(E10="mobiliario",1,IF(E10="señalética",1,IF(E10="arte",1,0))))))))))) -> 5 | G10: Existen espacios verdes en la unidad como invernaderos o atrios con vegetación. Existen zonas verdes exteriores relacionadas con la unidad y de fácil acceso desde la misma. | H10: 0 | I10: 1 | J10: 1 | K10: 0 | L10: Advanced, C.C.o.R.D.S.f. and N. Care, Recommended Standards for Newborn ICU Design. 2007: p. 40. | M10: 1 | N10: no | O10: No cumple.
A11: =A10+1 -> 10 | C11: Configuración unidad | E11: Instalación | F11: =IF(E11="Distribución",5,IF(E11="instalación",4,IF(E11="equipamiento",3,IF(E11="suelo",3,IF(E11="hueco",4,IF(E11="techo",2,IF(E11="puerta",2,IF(E11="pared",2,IF(E11="mobiliario",1,IF(E11="señalética",1,IF(E11="arte",1,0))))))))))) -> 4 | G11: Si la unidad de neonatología, obstétrica y maternidad no se ubican en el mismo nivel, existen como mínimo dos ascensores exclusivos para el traslado urgente de pacientes. Estos ascensores tienen una dimensión de cabina aproximada de 2,7 m x 2,1 m y una puerta de 1,8 m de ancho y 2,1 m de altura. Capacidad suficiente para el adecuado transporte del neonato, tres profesionales sanitarios y los equipos vitales necesarios. | H11: 1 | I11: 1 | J11: 0 | K11: 0 | L11: Unidades de neonatología, in Estándares y recomendaciones de calidad, e.e.i. Informes, Editor. 2014, Ministerio de Sanidad, Servicios Sociales e Igualdad. | M11: 1 | N11: n.a.
A12: =A11+1 -> 11 | C12: Configuración unidad | E12: Señalética | F12: =IF(E12="Distribución",5,IF(E12="instalación",4,IF(E12="equipamiento",3,IF(E12="suelo",3,IF(E12="hueco",4,IF(E12="techo",2,IF(E12="puerta",2,IF(E12="pared",2,IF(E12="mobiliario",1,IF(E12="señalética",1,IF(E12="arte",1,0))))))))))) -> 1 | G12: Su ubicación es estratégica para facilitar la orientación en puntos de intersección de la unidad. Existe consistencia entre las señales de la unidad y su diseño es apropiado. Se acompañan con flechas que facilitan la orientación en el edificio. Su color contrasta con el de las superficies adyacentes. | H12: 0 | I12: 1 | J12: 1 | K12: 0 | L12: 1. HBN 08-02-1 Dementia-friendly Health and Social Care Environments. 2015, Department of Health UK 2. Wayfinding: Effective wayfinding and signing systems Guidance for healthcare facilities 2nd edition. 2005, NHS Estates. | M12: 1 | N12: sí
A13: =A12+1 -> 12 | C13: Configuración unidad | E13: Señalética | F13: =IF(E13="Distribución",5,IF(E13="instalación",4,IF(E13="equipamiento",3,IF(E13="suelo",3,IF(E13="hueco",4,IF(E13="techo",2,IF(E13="puerta",2,IF(E13="pared",2,IF(E13="mobiliario",1,IF(E13="señalética",1,IF(E13="arte",1,0))))))))))) -> 1 | G13: La tipografía es sencilla y clara, el tamaño de la fuente es suficientemente grande y se utilizan mayúsculas y minúsculas. El lenguaje utilizado es fácilmente entendible, no se utilizan abreviaturas y los idiomas utilizados son los adecuados para el hospital. La señalética está actualizada y en buen estado de mantenimiento. | H13: 0 | I13: 1 | J13: 1 | K13: 1 | L13: 1. HBN 08-02-1 Dementia-friendly Health and Social Care Environments. 2015, Department of Health UK 2. Wayfinding: Effective wayfinding and signing systems Guidance for healthcare facilities 2nd edition. 2005, NHS Estates. | M13: 1 | N13: no | O13: Letra demasiado pequeña y con poco contraste (color gris sobre fondo de acero inoxidable).
A14: =A13+1 -> 13 | C14: Configuración unidad | E14: Arte | F14: =IF(E14="Distribución",5,IF(E14="instalación",4,IF(E14="equipamiento",3,IF(E14="suelo",3,IF(E14="hueco",4,IF(E14="techo",2,IF(E14="puerta",2,IF(E14="pared",2,IF(E14="mobiliario",1,IF(E14="señalética",1,IF(E14="arte",1,0))))))))))) -> 1 | G14: Existen espacios habilitados para la exposición de arte. Se muestran piezas de arte que producen emociones positivas con motivos naturales, locales o de interés para las personas usuarias del espacio. Se colocan en puntos estratégicos para favorecer la orientación en la unidad como zonas muy visibles, con iluminación adecuada y su color contrasta con el del fondo. | H14: 0 | I14: 1 | J14: 1 | K14: 0 | L14: HBN 08-02-1 Dementia-friendly Health and Social Care Environments. 2015, Department of Health UK. | M14: 1 | N14: no | O14: No cumple.
A15: 1 | C15: Circulación | D15: Pasillo | E15: Distribución | F15: =IF(E15="Distribución",5,IF(E15="instalación",4,IF(E15="equipamiento",3,IF(E15="suelo",3,IF(E15="hueco",4,IF(E15="techo",2,IF(E15="puerta",2,IF(E15="pared",2,IF(E15="mobiliario",1,IF(E15="señalética",1,IF(E15="arte",1,0))))))))))) -> 5 | G15: El ancho mínimo del pasillo interior es de 2,2m. | H15: 1 | I15: 1 | J15: 0 | K15: 1 | L15: Unidades de neonatología, in Estándares y recomendaciones de calidad, e.e.i. Informes, Editor. 2014, Ministerio de Sanidad, Servicios Sociales e Igualdad. | M15: 1 | N15: sí | O15: Resultados de pediatría porque se comparte.
A16: =A15+1 -> 2 | C16: Circulación | D16: Pasillo | E16: Distribución | F16: =IF(E16="Distribución",5,IF(E16="instalación",4,IF(E16="equipamiento",3,IF(E16="suelo",3,IF(E16="hueco",4,IF(E16="techo",2,IF(E16="puerta",2,IF(E16="pared",2,IF(E16="mobiliario",1,IF(E16="señalética",1,IF(E16="arte",1,0))))))))))) -> 5 | G16: Las paredes carecen de elementos salientes que no arranquen del suelo, que vuelen más de 15 cm en la zona de altura comprendida entre 15 cm y 2,20 m medida a partir del suelo y que presenten riesgo de impacto. Los elementos volados cuya altura sea menor que 2 m, tales como mesetas o tramos de escalera, de rampas, etc., disponen de elementos fijos que restrinjan el acceso hasta ellos y permitirán su detección por los bastones de personas con discapacidad visual. | H16: 1 | I16: 1 | J16: 0 | K16: 0 | L16: Ministerio de Fomento Secretaría de Estado de Infraestructuras, T.y.V.D.G.d.A., Vivienda y Suelo, Seguridad de utilización y accesibilidad SUA, in Documento Básico. 2015. | M16: 1 | N16: sí
A17: =A16+1 -> 3 | C17: Circulación | D17: Pasillo | E17: Instalación | F17: =IF(E17="Distribución",5,IF(E17="instalación",4,IF(E17="equipamiento",3,IF(E17="suelo",3,IF(E17="hueco",4,IF(E17="techo",2,IF(E17="puerta",2,IF(E17="pared",2,IF(E17="mobiliario",1,IF(E17="señalética",1,IF(E17="arte",1,0))))))))))) -> 4 | G17: Ventilado mecánicamente. | H17: 0 | I17: 0 | J17: 0 | K17: 1 | L17: Reglamento de instalaciones térmicas en los edificios (RITE), BOE-A-2007-15820, Editor. 2007, Ministerio de la Presidencia. | M17: 1 | N17: sí
A18: =A17+1 -> 4 | C18: Circulación | D18: Pasillo | E18: Instalación | F18: =IF(E18="Distribución",5,IF(E18="instalación",4,IF(E18="equipamiento",3,IF(E18="suelo",3,IF(E18="hueco",4,IF(E18="techo",2,IF(E18="puerta",2,IF(E18="pared",2,IF(E18="mobiliario",1,IF(E18="señalética",1,IF(E18="arte",1,0))))))))))) -> 4 | G18: La temperatura en la unidad oscila entre los 22º y 26 ºC. | H18: 1 | I18: 1 | J18: 0 | K18: 0 | L18: Unidades de neonatología, in Estándares y recomendaciones de calidad, e.e.i. Informes, Editor. 2014, Ministerio de Sanidad, Servicios Sociales e Igualdad. | M18: 1 | N18: sí
A19: =A18+1 -> 5 | C19: Circulación | D19: Pasillo | E19: Suelo | F19: =IF(E19="Distribución",5,IF(E19="instalación",4,IF(E19="equipamiento",3,IF(E19="suelo",3,IF(E19="hueco",4,IF(E19="techo",2,IF(E19="puerta",2,IF(E19="pared",2,IF(E19="mobiliario",1,IF(E19="señalética",1,IF(E19="arte",1,0))))))))))) -> 3 | G19: El suelo es continuo, las juntas están selladas y no hay cambios de nivel. | H19: 1 | I19: 1 | J19: 0 | K19: 1 | L19: Autores CURARQ | M19: 1 | N19: sí
A20: =A19+1 -> 6 | C20: Circulación | D20: Pasillo | E20: Suelo | F20: =IF(E20="Distribución",5,IF(E20="instalación",4,IF(E20="equipamiento",3,IF(E20="suelo",3,IF(E20="hueco",4,IF(E20="techo",2,IF(E20="puerta",2,IF(E20="pared",2,IF(E20="mobiliario",1,IF(E20="señalética",1,IF(E20="arte",1,0))))))))))) -> 3 | G20: Resistente a un uso intensivo. Liso, fácil de limpiar y sin apariencia clínica. | H20: 0 | I20: 0 | J20: 1 | K20: 1 | L20: Unidad de cuidados intensivos, in Estándares y recomendaciones, e.e.i. Informes, Editor. 2010, Ministerio de Sanidad y Política Social. | M20: 1 | N20: sí
A21: =A20+1 -> 7 | C21: Circulación | D21: Pasillo | E21: Suelo | F21: =IF(E21="Distribución",5,IF(E21="instalación",4,IF(E21="equipamiento",3,IF(E21="suelo",3,IF(E21="hueco",4,IF(E21="techo",2,IF(E21="puerta",2,IF(E21="pared",2,IF(E21="mobiliario",1,IF(E21="señalética",1,IF(E21="arte",1,0))))))))))) -> 3 | G21: (Sin estampados o texturas que puedan provocar una sobreestimulación no deseada)¹. (No brillante y su color contrasta con el de las paredes)². | H21: 0 | I21: 0 | J21: 1 | K21: 0 | L21: 1. HBN 08-02-1 Dementia-friendly Health and Social Care Environments. 2015, Department of Health UK 2. Patient-Led Assessments of the Care Environment. The Ward Assessment - Acute and Community Hospitals, Hospices and Treatment Centres. 2015, NHS England. | M21: 1 | N21: sí
A22: =A21+1 -> 8 | C22: Circulación | D22: Pasillo | E22: Techo | F22: =IF(E22="Distribución",5,IF(E22="instalación",4,IF(E22="equipamiento",3,IF(E22="suelo",3,IF(E22="hueco",4,IF(E22="techo",2,IF(E22="puerta",2,IF(E22="pared",2,IF(E22="mobiliario",1,IF(E22="señalética",1,IF(E22="arte",1,0))))))))))) -> 2 | G22: (Sin iluminación artificial directa y uniforme ya que puede crear un efecto estroboscópico. Se utiliza luz difusa y reflejada)¹. (El falso techo se encuentra en buen estado)². | H22: 0 | I22: 0 | J22: 1 | K22: 1 | L22: 1. Friendly healthcare environments for children and young people. 2004, NHS Estates. 2. Patient-Led Assessments of the Care Environment. The Ward Assessment - Acute and Community Hospitals, Hospices and Treatment Centres. 2015, NHS England. | M22: 1 | N22: no | O22: Fluorescentes con difusor para posición vertical (tipo oficina antigua).
A23: =A22+1 -> 9 | C23: Circulación | D23: Pasillo | E23: Pared | F23: =IF(E23="Distribución",5,IF(E23="instalación",4,IF(E23="equipamiento",3,IF(E23="suelo",3,IF(E23="hueco",4,IF(E23="techo",2,IF(E23="puerta",2,IF(E23="pared",2,IF(E23="mobiliario",1,IF(E23="señalética",1,IF(E23="arte",1,0))))))))))) -> 2 | G23: Las paredes se pueden lavar con agua, son durables, resistentes al impacto de carros y equipos móviles. (Las zonas más propensas al choque de carros y equipos móviles están reforzadas para resistir los impactos. Protecciones de esquinas y paredes)¹. (Las protecciones no sobresalen ni suponen un riesgo)4. (La pintura está en buen estado de conservación, sin marcas como ralladuras o arañazos ni otros desperfectos)³. | H23: 1 | I23: 0 | J23: 0 | K23: 1 | L23: 1. Unidad de enfermería en hospitalización polivalente de agudos, in Estándares y recomendaciones, e.e.i. Informes, Editor. 2009, Ministerio de Sanidad y Política Social 2. Health, N.E.a.E.A.o.t.D.o., HBN 23 Hospital accommodation for children and young people. 2004 3. Patient-Led Assessments of the Care Environment. The Ward Assessment - Acute and Community Hospitals, Hospices and Treatment Centres. 2015, NHS England. 4. Autores CURARQ | M23: 1 | N23: no | O23: No hay protecciones de paredes, solamente de esquinas y el rodapié es muy bajo.
A24: =A23+1 -> 10 | C24: Circulación | D24: Pasillo | E24: Pared | F24: =IF(E24="Distribución",5,IF(E24="instalación",4,IF(E24="equipamiento",3,IF(E24="suelo",3,IF(E24="hueco",4,IF(E24="techo",2,IF(E24="puerta",2,IF(E24="pared",2,IF(E24="mobiliario",1,IF(E24="señalética",1,IF(E24="arte",1,0))))))))))) -> 2 | G24: El blanco es el color base de la unidad. Sin estampados que provoquen una sobreestimulación no deseada. No brillante y con alto contraste. Su color contrasta con el del suelo. | H24: 0 | I24: 0 | J24: 1 | K24: 0 | L24: HBN 08-02-1 Dementia-friendly Health and Social Care Environments. 2015, Department of Health UK. | M24: 1 | N24: sí
A25: =A24+1 -> 11 | C25: Circulación | D25: Pasillo | E25: Pared | F25: =IF(E25="Distribución",5,IF(E25="instalación",4,IF(E25="equipamiento",3,IF(E25="suelo",3,IF(E25="hueco",4,IF(E25="techo",2,IF(E25="puerta",2,IF(E25="pared",2,IF(E25="mobiliario",1,IF(E25="señalética",1,IF(E25="arte",1,0))))))))))) -> 2 | G25: Pasamanos a ambos lados. Su color contrasta con el de la pared. | H25: 1 | I25: 0 | J25: 0 | K25: 0 | L25: HBN 08-02-1 Dementia-friendly Health and Social Care Environments. 2015, Department of Health UK. | M25: 1 | N25: no | O25: No hay pasamanos a ningún lado de la pared.
A26: =A25+1 -> 12 | C26: Circulación | D26: Pasillo | E26: Pared | F26: =IF(E26="Distribución",5,IF(E26="instalación",4,IF(E26="equipamiento",3,IF(E26="suelo",3,IF(E26="hueco",4,IF(E26="techo",2,IF(E26="puerta",2,IF(E26="pared",2,IF(E26="mobiliario",1,IF(E26="señalética",1,IF(E26="arte",1,0))))))))))) -> 2 | G26: Con zócalo o escocia de un material resistente, fácil de limpiar y coordinado con el pavimento del suelo. | H26: 0 | I26: 0 | J26: 0 | K26: 1 | L26: Intensive therapy unit, in Health Building Note 27. 1992, NHS Estates. p. 56. | M26: 1 | N26: no | O26: De unos 7 cm, debería ser más alto para proteger a la pared.
A27: =A26+1 -> 13 | C27: Circulación | D27: Pasillo | E27: Puerta | F27: =IF(E27="Distribución",5,IF(E27="instalación",4,IF(E27="equipamiento",3,IF(E27="suelo",3,IF(E27="hueco",4,IF(E27="techo",2,IF(E27="puerta",2,IF(E27="pared",2,IF(E27="mobiliario",1,IF(E27="señalética",1,IF(E27="arte",1,0))))))))))) -> 2 | G27: Las puertas de sectorización de incendios disponen de retenedores y quedan en el interior del plano de los paramentos de forma que no disminuye el ancho útil del pasillo. | H27: 1 | I27: 0 | J27: 0 | K27: 1 | L27: Unidad de enfermería en hospitalización polivalente de agudos, in Estándares y recomendaciones, e.e.i. Informes, Editor. 2009, Ministerio de Sanidad y Política Social. | M27: 1 | N27: no | O27: Dispone de retenedores pero no quedan en el interior del plano del paramento.
A28: 1 | C28: Acceso | D28: Entrada y vestíbulo | E28: Distribución | F28: =IF(E28="Distribución",5,IF(E28="instalación",4,IF(E28="equipamiento",3,IF(E28="suelo",3,IF(E28="hueco",4,IF(E28="techo",2,IF(E28="puerta",2,IF(E28="pared",2,IF(E28="mobiliario",1,IF(E28="señalética",1,IF(E28="arte",1,0))))))))))) -> 5 | G28: Superficie útil en torno a 20 m². | H28: 0 | I28: 0 | J28: 1 | K28: 1 | L28: Unidad de enfermería en hospitalización polivalente de agudos, in Estándares y recomendaciones, e.e.i. Informes, Editor. 2009, Ministerio de Sanidad y Política Social | M28: 1 | N28: no | O28: Local compartido con la hospitalización de pediatría.
A29: =A28+1 -> 2 | C29: Acceso | D29: Entrada y vestíbulo | E29: Instalación | F29: =IF(E29="Distribución",5,IF(E29="instalación",4,IF(E29="equipamiento",3,IF(E29="suelo",3,IF(E29="hueco",4,IF(E29="techo",2,IF(E29="puerta",2,IF(E29="pared",2,IF(E29="mobiliario",1,IF(E29="señalética",1,IF(E29="arte",1,0))))))))))) -> 4 | G29: Ventilado mecánicamente. | H29: 0 | I29: 0 | J29: 0 | K29: 1 | L29: Reglamento de instalaciones térmicas en los edificios (RITE), BOE-A-2007-15820, Editor. 2007, Ministerio de la Presidencia. | M29: 1 | N29: sí
A30: =A29+1 -> 3 | C30: Acceso | D30: Entrada y vestíbulo | E30: Instalación | F30: =IF(E30="Distribución",5,IF(E30="instalación",4,IF(E30="equipamiento",3,IF(E30="suelo",3,IF(E30="hueco",4,IF(E30="techo",2,IF(E30="puerta",2,IF(E30="pared",2,IF(E30="mobiliario",1,IF(E30="señalética",1,IF(E30="arte",1,0))))))))))) -> 4 | G30: Sistema de control de acceso a la unidad. Medios electrónicos de vigilancia y seguridad. | H30: 0 | I30: 1 | J30: 0 | K30: 1 | L30: Unidades de neonatología, in Estándares y recomendaciones de calidad, e.e.i. Informes, Editor. 2014, Ministerio de Sanidad, Servicios Sociales e Igualdad. | M30: 1 | N30: no | O30: No tiene ningún sistema de seguridad.
A31: =A30+1 -> 4 | C31: Acceso | D31: Entrada y vestíbulo | E31: Señalética | F31: =IF(E31="Distribución",5,IF(E31="instalación",4,IF(E31="equipamiento",3,IF(E31="suelo",3,IF(E31="hueco",4,IF(E31="techo",2,IF(E31="puerta",2,IF(E31="pared",2,IF(E31="mobiliario",1,IF(E31="señalética",1,IF(E31="arte",1,0))))))))))) -> 1 | G31: Señal de dirección desde el punto de acceso a planta y señal de localización para identificar la unidad. Directorio a la salida del ascensor. | H31: 0 | I31: 1 | J31: 1 | K31: 0 | L31: Wayfinding: Effective wayfinding and signing systems Guidance for healthcare facilities 2nd edition. 2005, NHS Estates. | M31: 1 | N31: no | O31: No hay señal de localización ni directorio.
A32: =A31+1 -> 5 | C32: Acceso | D32: Recepción | E32: Distribución | F32: =IF(E32="Distribución",5,IF(E32="instalación",4,IF(E32="equipamiento",3,IF(E32="suelo",3,IF(E32="hueco",4,IF(E32="techo",2,IF(E32="puerta",2,IF(E32="pared",2,IF(E32="mobiliario",1,IF(E32="señalética",1,IF(E32="arte",1,0))))))))))) -> 5 | G32: Permite el control visual del acceso al vestíbulo de entrada de la unidad. | H32: 0 | I32: 1 | J32: 0 | K32: 1 | L32: Unidades de neonatología, in Estándares y recomendaciones de calidad, e.e.i. Informes, Editor. 2014, Ministerio de Sanidad, Servicios Sociales e Igualdad. | M32: 1 | N32: n.a. | O32: Por la cartera de servicios del hospital.
A33: =A32+1 -> 6 | C33: Acceso | D33: Recepción | E33: Equipamiento | F33: =IF(E33="Distribución",5,IF(E33="instalación",4,IF(E33="equipamiento",3,IF(E33="suelo",3,IF(E33="hueco",4,IF(E33="techo",2,IF(E33="puerta",2,IF(E33="pared",2,IF(E33="mobiliario",1,IF(E33="señalética",1,IF(E33="arte",1,0))))))))))) -> 3 | G33: (Con capacidad para una persona)¹. (Mueble mostrador y sillón ergonómico con ruedas)². | H33: 0 | I33: 1 | J33: 0 | K33: 0 | L33: 1. Unidades de neonatología, in Estándares y recomendaciones de calidad, e.e.i. Informes, Editor. 2014, Ministerio de Sanidad, Servicios Sociales e Igualdad 2.Unidad de cuidados intensivos, in Estándares y recomendaciones, e.e.i. Informes, Editor. 2010, Ministerio de Sanidad y Política Social. | M33: 1 | N33: n.a.
A34: =A33+1 -> 7 | C34: Acceso | D34: Estar de familiares | E34: Distribución | F34: =IF(E34="Distribución",5,IF(E34="instalación",4,IF(E34="equipamiento",3,IF(E34="suelo",3,IF(E34="hueco",4,IF(E34="techo",2,IF(E34="puerta",2,IF(E34="pared",2,IF(E34="mobiliario",1,IF(E34="señalética",1,IF(E34="arte",1,0))))))))))) -> 5 | G34: Superfície útil en torno a 30 m2. | H34: 0 | I34: 0 | J34: 1 | K34: 0 | L34: Unidad de enfermería en hospitalización polivalente de agudos, in Estándares y recomendaciones, e.e.i. Informes, Editor. 2009, Ministerio de Sanidad y Política Social. | M34: 1 | N34: no | O34: Datos de hospitalización polivalente porque eran iguales. Su superficie es inferior, en torno a los 16 m².
A35: =A34+1 -> 8 | C35: Acceso | D35: Estar de familiares | E35: Distribución | F35: =IF(E35="Distribución",5,IF(E35="instalación",4,IF(E35="equipamiento",3,IF(E35="suelo",3,IF(E35="hueco",4,IF(E35="techo",2,IF(E35="puerta",2,IF(E35="pared",2,IF(E35="mobiliario",1,IF(E35="señalética",1,IF(E35="arte",1,0))))))))))) -> 5 | G35: Con acceso desde el vestíbulo de entrada a la unidad. | H35: 0 | I35: 0 | J35: 1 | K35: 0 | L35: Unidad de cuidados intensivos, in Estándares y recomendaciones, e.e.i. Informes, Editor. 2010, Ministerio de Sanidad y Política Social. | M35: 1 | N35: sí
A36: =A35+1 -> 9 | C36: Acceso | D36: Estar de familiares | E36: Hueco | F36: =IF(E36="Distribución",5,IF(E36="instalación",4,IF(E36="equipamiento",3,IF(E36="suelo",3,IF(E36="hueco",4,IF(E36="techo",2,IF(E36="puerta",2,IF(E36="pared",2,IF(E36="mobiliario",1,IF(E36="señalética",1,IF(E36="arte",1,0))))))))))) -> 4 | G36: Iluminación natural. | H36: 0 | I36: 0 | J36: 1 | K36: 0 | L36: Unidades de neonatología, in Estándares y recomendaciones de calidad, e.e.i. Informes, Editor. 2014, Ministerio de Sanidad, Servicios Sociales e Igualdad. | M36: 1 | N36: sí
A37: =A36+1 -> 10 | C37: Acceso | D37: Estar de familiares | E37: Instalación | F37: =IF(E37="Distribución",5,IF(E37="instalación",4,IF(E37="equipamiento",3,IF(E37="suelo",3,IF(E37="hueco",4,IF(E37="techo",2,IF(E37="puerta",2,IF(E37="pared",2,IF(E37="mobiliario",1,IF(E37="señalética",1,IF(E37="arte",1,0))))))))))) -> 4 | G37: Ventilado mecánicamente. | H37: 0 | I37: 0 | J37: 0 | K37: 1 | L37: Reglamento de instalaciones térmicas en los edificios (RITE), BOE-A-2007-15820, Editor. 2007, Ministerio de la Presidencia. | M37: 1 | N37: sí
A38: =A37+1 -> 11 | C38: Acceso | D38: Estar de familiares | E38: Instalación | F38: =IF(E38="Distribución",5,IF(E38="instalación",4,IF(E38="equipamiento",3,IF(E38="suelo",3,IF(E38="hueco",4,IF(E38="techo",2,IF(E38="puerta",2,IF(E38="pared",2,IF(E38="mobiliario",1,IF(E38="señalética",1,IF(E38="arte",1,0))))))))))) -> 4 | G38: Tomas eléctricas y wifi. | H38: 0 | I38: 0 | J38: 1 | K38: 0 | L38: Unidades de neonatología, in Estándares y recomendaciones de calidad, e.e.i. Informes, Editor. 2014, Ministerio de Sanidad, Servicios Sociales e Igualdad. | M38: 1 | N38: sí
A39: =A38+1 -> 12 | C39: Acceso | D39: Estar de familiares | E39: Equipamiento | F39: =IF(E39="Distribución",5,IF(E39="instalación",4,IF(E39="equipamiento",3,IF(E39="suelo",3,IF(E39="hueco",4,IF(E39="techo",2,IF(E39="puerta",2,IF(E39="pared",2,IF(E39="mobiliario",1,IF(E39="señalética",1,IF(E39="arte",1,0))))))))))) -> 3 | G39: (Fuente de agua fría y máquinas expendedoras de bebidas)¹ (y comida saludable)². | H39: 0 | I39: 0 | J39: 1 | K39: 0 | L39: 1. Unidades de neonatología, in Estándares y recomendaciones de calidad, e.e.i. Informes, Editor. 2014, Ministerio de Sanidad, Servicios Sociales e Igualdad. 2. Autores CURARQ | M39: 1 | N39: no | O39: Hay máquinas expendedoras de bebidas y comida saludable y no saludable junto a las escaleras. No hay fuente de agua fría.
A40: =A39+1 -> 13 | C40: Acceso | D40: Estar de familiares | E40: Mobiliario | F40: =IF(E40="Distribución",5,IF(E40="instalación",4,IF(E40="equipamiento",3,IF(E40="suelo",3,IF(E40="hueco",4,IF(E40="techo",2,IF(E40="puerta",2,IF(E40="pared",2,IF(E40="mobiliario",1,IF(E40="señalética",1,IF(E40="arte",1,0))))))))))) -> 1 | G40: (Sillas sin ruedas)¹. (Los asientos se encuentran en buen estado, sin marcas, ralladuras u otros desperfectos)². (Los usuarios con sillas de ruedas se pueden integrar en la distribución de los asientos de la sala)³. (Mesas de estar, papelera y arte)¹. | H40: 0 | I40: 0 | J40: 1 | K40: 1 | L40: 1. Unidad de enfermería en hospitalización polivalente de agudos, in Estándares y recomendaciones, e.e.i. Informes, Editor. 2009, Ministerio de Sanidad y Política Social 2. Patient-Led Assessments of the Care Environment. The Ward Assessment - Acute and Community Hospitals, Hospices and Treatment Centres. 2015, NHS England 3. Lewis, A., EVOLVE: a tool for evaluating the design of older people´s housing. Housing, Care and Support, 2010. | M40: 1 | N40: no | O40: Sin mesas ni papelera.
...

Sheet PF 
C3: Zona | D3: Local | E3: Nº indicadores
C4: Configuración unidad | E4: =COUNTIF(Requisitos!C2:C14,C4) -> 13
F5: =E4 -> 13
A6: 1 | C6: Circulación | D6: Pasillo | E6: =COUNTIF(Requisitos!D15:D27,D6) -> 13
F7: =E6 -> 13
A8: =A6+1 -> 2 | C8: Acceso | D8: Entrada y vestíbulo | E8: =COUNTIF(Requisitos!$D$28:$D$70,D8) -> 4
A9: =A8+1 -> 3 | D9: Recepción | E9: =COUNTIF(Requisitos!$D$28:$D$70,D9) -> 2
A10: =A9+1 -> 4 | D10: Estar de familiares | E10: =COUNTIF(Requisitos!$D$28:$D$70,D10) -> 8
A11: =A10+1 -> 5 | D11: Vestuario familiares | E11: =COUNTIF(Requisitos!$D$28:$D$70,D11) -> 3
A12: =A11+1 -> 6 | D12: Aseo público | E12: =COUNTIF(Requisitos!$D$28:$D$70,D12) -> 7
A13: =A12+1 -> 7 | D13: Despacho información | E13: =COUNTIF(Requisitos!$D$28:$D$70,D13) -> 5
A14: =A13+1 -> 8 | D14: Consulta | E14: =COUNTIF(Requisitos!$D$28:$D$70,D14) -> 7
A15: =A14+1 -> 9 | D15: Lactancia y alimentación | E15: =COUNTIF(Requisitos!$D$28:$D$70,D15) -> 7
F16: =SUM(E8:E15) -> 43
A17: =A15+1 -> 10 | C17: Familiares | D17: Zona de recepción de familiares | E17: =COUNTIF(Requisitos!$D$71:$D$103,'PF '!D17) -> 1
A18: =A17+1 -> 11 | D18: Despacho información | E18: =COUNTIF(Requisitos!$D$71:$D$103,'PF '!D18) -> 5
A19: =A18+1 -> 12 | D19: Estar y refrigerio | E19: =COUNTIF(Requisitos!$D$71:$D$103,'PF '!D19) -> 9
A20: =A19+1 -> 13 | D20: Espacio para hermanos/as | E20: =COUNTIF(Requisitos!$D$71:$D$103,'PF '!D20) -> 3
A21: =A20+1 -> 14 | D21: Aseo familiares | E21: =COUNTIF(Requisitos!$D$71:$D$103,'PF '!D21) -> 6
A22: =A21+1 -> 15 | D22: Habitación familiares | E22: =COUNTIF(Requisitos!$D$71:$D$103,'PF '!D22) -> 6
A23: =A22+1 -> 16 | D23: Sala de duelo | E23: =COUNTIF(Requisitos!$D$71:$D$103,'PF '!D23) -> 3
F24: =SUM(E17:E23) -> 33
A25: =A23+1 -> 17 | C25: Clínica | D25: Control enfermería | E25: =COUNTIF(Requisitos!D104:D247,D25) -> 8
A26: =A25+1 -> 18 | D26: Oficio limpio | E26: =COUNTIF(Requisitos!$D$107:$D$247,D26) -> 10
A27: =A26+1 -> 19 | D27: Box individual de cuidados intensivos | E27: =COUNTIF(Requisitos!$D$107:$D$247,D27) -> 10
A28: =A27+1 -> 20 | D28: Sala múltiple de cuidados intensivos | E28: =COUNTIF(Requisitos!$D$107:$D$247,D28) -> 35
A29: =A28+1 -> 21 | D29: Sala múltiple de cuidados intermedios | E29: =COUNTIF(Requisitos!$D$107:$D$247,D29) -> 33
A30: =A29+1 -> 22 | D30: Sala múltiple de cuidados básicos | E30: =COUNTIF(Requisitos!$D$107:$D$247,D30) -> 28
A31: =A30+1 -> 23 | D31: Sala de tratamientos | E31: =COUNTIF(Requisitos!$D$107:$D$247,D31) -> 5
A32: =A31+1 -> 24 | D32: Sala de transferencia del neonato | E32: =COUNTIF(Requisitos!$D$107:$D$247,D32) -> 5
A33: =A32+1 -> 25 | D33: Sala de extracción de leche materna | E33: =COUNTIF(Requisitos!$D$107:$D$247,D33) -> 6
A34: =A33+1 -> 26 | D34: Preparación de biberones y cocina dietética | E34: =COUNTIF(Requisitos!$D$107:$D$247,D34) -> 4
F35: =SUM(E25:E34) -> 144
A36: =A34+1 -> 27 | C36: Personal | D36: Despacho supervisión enfermería | E36: =COUNTIF(Requisitos!$D$248:$D$283,D36) -> 4
A37: =A36+1 -> 28 | D37: Despacho supervisión médico | E37: =COUNTIF(Requisitos!$D$248:$D$283,D37) -> 4
A38: =A37+1 -> 29 | D38: Sala de trabajo médico | E38: =COUNTIF(Requisitos!$D$248:$D$283,D38) -> 4
A39: =A38+1 -> 30 | D39: Sala polivalente | E39: =COUNTIF(Requisitos!$D$248:$D$283,D39) -> 3
A40: =A39+1 -> 31 | D40: Estar de personal | E40: =COUNTIF(Requisitos!$D$248:$D$283,D40) -> 7
A41: =A40+1 -> 32 | D41: Aseo de personal | E41: =COUNTIF(Requisitos!$D$248:$D$283,D41) -> 5
A42: =A41+1 -> 33 | D42: Vestuario | E42: =COUNTIF(Requisitos!$D$248:$D$283,D42) -> 3
...
