Workbook

Sheet Conclusiones
A1: HUV | B1: no
A3: ZONA | B3: LOCAL | C3: ELEMENTO | D3: Coste | E3: INDICADOR | F3: Comentarios HUV
A4: Acceso | B4: Aseo público | C4: Distribución | D4: 5 | E4: (Superficie útil en torno a 4 m² por aseo)¹. (Exclusivos para cada sexo)². (Mínimo de dos)¹. | F4: Datos de hospitalización polivalente porque eran iguales. Solamente hay uno.
E5: Total (Superficie útil en torno a 4 m² por aseo)¹. (Exclusivos para cada sexo)². (Mínimo de dos)¹.
D6: Total 5
C7: Total Distribución
C8: Mobiliario | D8: 1 | E8: Dispensador de jabón, de papel higiénico y de toallas de papel. Escobilla y papelera (preferiblemente con tapa). Espejo y percha. | F8: Falta la percha.
E9: Total Dispensador de jabón, de papel higiénico y de toallas de papel. Escobilla y papelera (preferiblemente con tapa). Espejo y percha.
D10: Total 1
C11: Total Mobiliario
B12: Total Aseo público
B13: Despacho información | C13: Distribución | D13: 5 | E13: Condiciones de privacidad adecuada. Ambiente cálido y residencial. | F13: No cumple.
E14: Total Condiciones de privacidad adecuada. Ambiente cálido y residencial.
E15: Superficie útil en torno a 12 m². | F15: La unidad no tiene este local.
E16: Total Superficie útil en torno a 12 m².
D17: Total 5
C18: Total Distribución
C19: Instalación | D19: 4 | E19: Conexiones eléctricas, de transmisiones y comunicaciones. | F19: No cumple.
E20: Total Conexiones eléctricas, de transmisiones y comunicaciones.
E21: Ventilado mecánicamente. | F21: No cumple.
E22: Total Ventilado mecánicamente.
D23: Total 4
C24: Total Instalación
C25: Mobiliario | D25: 1 | E25: Mesa de trabajo, sillas y sillón ergonómico. | F25: No cumple.
E26: Total Mesa de trabajo, sillas y sillón ergonómico.
D27: Total 1
C28: Total Mobiliario
B29: Total Despacho información
B30: Entrada y vestíbulo | C30: Distribución | D30: 5 | E30: (Superficie útil en torno a 20 m². Espacio diáfano asociado a la circulación externa situado en la zona próxima al control de enfermería para que el personal pueda controlar el acceso a la unidad)¹. (El acceso público se produce por solo un punto. Fácil acceso desde la entrada general de hospitalización del edificio)². | F30: Datos de hospitalización polivalente porque eran iguales. Su superficie es inferior, en torno a los 7 m².
E31: Total (Superficie útil en torno a 20 m². Espacio diáfano asociado a la circulación externa situado en la zona próxima al control de enfermería para que el personal pueda controlar el acceso a la unidad)¹. (El acceso público se produce por solo un punto. Fácil acceso desde la entrada general de hospitalización del edificio)².
D32: Total 5
C33: Total Distribución
C34: Instalación | D34: 4 | E34: Protegido con sistema de seguridad, especialmente por la noche (tarjeta, CCTV, interfono u otro). | F34: No tiene ningún sistema de seguridad.
E35: Total Protegido con sistema de seguridad, especialmente por la noche (tarjeta, CCTV, interfono u otro).
D36: Total 4
C37: Total Instalación
C38: Señalética | D38: 1 | E38: Señal de dirección desde el punto de acceso a planta y señal de localización para identificar la unidad. Directorio a la salida del ascensor. | F38: No hay señal de localización ni directorio.
E39: Total Señal de dirección desde el punto de acceso a planta y señal de localización para identificar la unidad. Directorio a la salida del ascensor.
D40: Total 1
C41: Total Señalética
...

Sheet Requisitos
A1: Nº | C1: ZONA | D1: LOCAL | E1: ELEMENTO | F1: Coste | G1: INDICADOR | H1: S | I1: E | J1: X | K1: P | L1: Referencia | M1: Ptos. | N1: HUV | O1: Comentarios HUV
A2: 1 | C2: Configuración unidad | E2: Distribución | F2: =IF(E2="Distribución",5,IF(E2="instalación",4,IF(E2="equipamiento",3,IF(E2="suelo",3,IF(E2="hueco",4,IF(E2="techo",2,IF(E2="puerta",2,IF(E2="pared",2,IF(E2="mobiliario",1,IF(E2="señalética",1,IF(E2="arte",1,0))))))))))) -> 5 | G2: No sirve de tráfico de paso hacia otra unidad. | H2: 1 | I2: 1 | J2: 1 | K2: 1 | L2: Unidad de enfermería en hospitalización polivalente de agudos, in Estándares y recomendaciones, e.e.i. Informes, Editor. 2009, Ministerio de Sanidad y Política Social | M2: 1 | N2: sí | O2: Datos de hospitalización polivalente porque eran iguales.
A3: =A2+1 -> 2 | C3: Configuración unidad | E3: Distribución | F3: =IF(E3="Distribución",5,IF(E3="instalación",4,IF(E3="equipamiento",3,IF(E3="suelo",3,IF(E3="hueco",4,IF(E3="techo",2,IF(E3="puerta",2,IF(E3="pared",2,IF(E3="mobiliario",1,IF(E3="señalética",1,IF(E3="arte",1,0))))))))))) -> 5 | G3: La estructura de las distintas unidades de hospitalización es similar para facilitar la flexibilidad y legibilidad al personal de enfermería. | H3: 0 | I3: 1 | J3: 0 | K3: 1 | L3: Unidad de enfermería en hospitalización polivalente de agudos, in Estándares y recomendaciones, e.e.i. Informes, Editor. 2009, Ministerio de Sanidad y Política Social. | M3: 1 | N3: sí
A4: =A3+1 -> 3 | C4: Configuración unidad | E4: Distribución | F4: =IF(E4="Distribución",5,IF(E4="instalación",4,IF(E4="equipamiento",3,IF(E4="suelo",3,IF(E4="hueco",4,IF(E4="techo",2,IF(E4="puerta",2,IF(E4="pared",2,IF(E4="mobiliario",1,IF(E4="señalética",1,IF(E4="arte",1,0))))))))))) -> 5 | G4: (Ubicada en zona tranquila, lejos de fuentes de ruido como rutas de tráfico intenso, acceso de urgencias o plantas de ventilación)¹ (también para que el mantenimiento no afecte al funcionamiento de la unidad)² | H4: 0 | I4: 0 | J4: 1 | K4: 1 | L4: 1. Alliance, A.H.I., Part B - Health Facility Briefing and Planning 0340 - Inpatient Accommodation Unit, in Australasian Health Facility Guidelines. 2016 2. Autores CURARQ | M4: 1 | N4: sí
A5: =A4+1 -> 4 | C5: Configuración unidad | E5: Distribución | F5: =IF(E5="Distribución",5,IF(E5="instalación",4,IF(E5="equipamiento",3,IF(E5="suelo",3,IF(E5="hueco",4,IF(E5="techo",2,IF(E5="puerta",2,IF(E5="pared",2,IF(E5="mobiliario",1,IF(E5="señalética",1,IF(E5="arte",1,0))))))))))) -> 5 | G5: Cercana al bloque obstétrico. Cercana a la unidad de neonatología. | H5: 1 | I5: 1 | J5: 0 | K5: 0 | L5: Social, M.d.S.y.P., Maternidad Hospitalaria Estándares y Recomendaciones. 2009: Madrid Guidelines, A.H.F., Part B - Health Facility Briefing and Planning HPU 510 – Maternity Unit. 2017. | M5: 1 | N5: sí
A6: =A5+1 -> 5 | C6: Configuración unidad | E6: Distribución | F6: =IF(E6="Distribución",5,IF(E6="instalación",4,IF(E6="equipamiento",3,IF(E6="suelo",3,IF(E6="hueco",4,IF(E6="techo",2,IF(E6="puerta",2,IF(E6="pared",2,IF(E6="mobiliario",1,IF(E6="señalética",1,IF(E6="arte",1,0))))))))))) -> 5 | G6: Existen dos tipos de accesos a la unidad: uno externo para visitas de familiares y acompañantes y otro interno para pacientes encamados, personal, suministros y servicios de soporte. | H6: 1 | I6: 1 | J6: 1 | K6: 0 | L6: Unidad de enfermería en hospitalización polivalente de agudos, in Estándares y recomendaciones, e.e.i. Informes, Editor. 2009, Ministerio de Sanidad y Política Social | M6: 1 | N6: sí
A7: =A6+1 -> 6 | C7: Configuración unidad | E7: Distribución | F7: =IF(E7="Distribución",5,IF(E7="instalación",4,IF(E7="equipamiento",3,IF(E7="suelo",3,IF(E7="hueco",4,IF(E7="techo",2,IF(E7="puerta",2,IF(E7="pared",2,IF(E7="mobiliario",1,IF(E7="señalética",1,IF(E7="arte",1,0))))))))))) -> 5 | G7: La planta con unidades de hospitalización está compartimentada en al menos dos sectores de incendios. Cada sector de incendios tiene una superficie construida inferior a los 1500 m2 y tiene espacio suficiente para albergar a los pacientes de uno de los sectores contiguos. Se exceptúa de lo anterior aquellas plantas cuya superficie construida no exceda de 1500 m2, que tenga salidas directas al espacio exterior seguro y cuyos recorridos de evacuación hasta ellas no exceda de 25 m. Cada sector de incendios dispone de más de una salida de planta y tiene una longitud máxima de recorrido de evacuación hasta alguna salida de planta de 30 m. La longitud de los recorridos de evacuación desde su origen hasta llegar a algún punto desde el cual existan al menos dos recorridos alternativos no excede los 15 m. | H7: 1 | I7: 0 | J7: 0 | K7: 1 | L7: España, M.d.F.G.d., Seguridad en caso de incendio DB-SI, in Documento Básico. 2006. | M7: 1 | N7: n.a. | O7: Ítem posterior a la evaluación.
A8: =A7+1 -> 7 | C8: Configuración unidad | E8: Instalación | F8: =IF(E8="Distribución",5,IF(E8="instalación",4,IF(E8="equipamiento",3,IF(E8="suelo",3,IF(E8="hueco",4,IF(E8="techo",2,IF(E8="puerta",2,IF(E8="pared",2,IF(E8="mobiliario",1,IF(E8="señalética",1,IF(E8="arte",1,0))))))))))) -> 4 | G8: El olor en general es fresco. No se producen olores fuertes ni desagradable debido por ejemplo a los productos de limpieza , los residuos, la falta de ventilación o la comida. | H8: 0 | I8: 0 | J8: 1 | K8: 1 | L8: Patient-Led Assessments of the Care Environment. Communal Areas. 2015, NHS England. | M8: 1 | N8: sí
A9: =A8+1 -> 8 | C9: Configuración unidad | E9: Señalética | F9: =IF(E9="Distribución",5,IF(E9="instalación",4,IF(E9="equipamiento",3,IF(E9="suelo",3,IF(E9="hueco",4,IF(E9="techo",2,IF(E9="puerta",2,IF(E9="pared",2,IF(E9="mobiliario",1,IF(E9="señalética",1,IF(E9="arte",1,0))))))))))) -> 1 | G9: Su ubicación es estratégica para facilitar la orientación en puntos de intersección de la unidad. Existe consistencia entre las señales de la unidad y su diseño es apropiado. Se acompañan con flechas que facilitan la orientación en el edificio. Su color contrasta con el de las superficies adyacentes. | H9: 0 | I9: 1 | J9: 1 | K9: 0 | L9: 1. HBN 08-02-1 Dementia-friendly Health and Social Care Environments. 2015, Department of Health UK 2. Wayfinding: Effective wayfinding and signing systems Guidance for healthcare facilities 2nd edition. 2005, NHS Estates. | M9: 1 | N9: sí
A10: =A9+1 -> 9 | C10: Configuración unidad | E10: Señalética | F10: =IF(E10="Distribución",5,IF(E10="instalación",4,IF(E10="equipamiento",3,IF(E10="suelo",3,IF(E10="hueco",4,IF(E10="techo",2,IF(E10="puerta",2,IF(E10="pared",2,IF(E10="mobiliario",1,IF(E10="señalética",1,IF(E10="arte",1,0))))))))))) -> 1 | G10: La tipografía es sencilla y clara, el tamaño de la fuente es suficientemente grande y se utilizan mayúsculas y minúsculas. El lenguaje utilizado es fácilmente entendible, no se utilizan abreviaturas y los idiomas utilizados son los adecuados para el hospital. La señalética está actualizada y en buen estado de mantenimiento. | H10: 0 | I10: 1 | J10: 1 | K10: 1 | L10: 1. HBN 08-02-1 Dementia-friendly Health and Social Care Environments. 2015, Department of Health UK 2. Wayfinding: Effective wayfinding and signing systems Guidance for healthcare facilities 2nd edition. 2005, NHS Estates. | M10: 1 | N10: no | O10: Letra demasiado pequeña y con poco contraste (color gris sobre fondo de acero inoxidable).
A11: =A10+1 -> 10 | C11: Configuración unidad | E11: Arte | F11: =IF(E11="Distribución",5,IF(E11="instalación",4,IF(E11="equipamiento",3,IF(E11="suelo",3,IF(E11="hueco",4,IF(E11="techo",2,IF(E11="puerta",2,IF(E11="pared",2,IF(E11="mobiliario",1,IF(E11="señalética",1,IF(E11="arte",1,0))))))))))) -> 1 | G11: Existen espacios habilitados para la exposición de arte. Se muestran piezas de arte que producen emociones positivas con motivos naturales, locales o de interés para las personas usuarias del espacio. Se colocan en puntos estratégicos para favorecer la orientación en la unidad como zonas muy visibles, con iluminación adecuada y su color contrasta con el del fondo. | H11: 0 | I11: 1 | J11: 1 | K11: 0 | L11: HBN 08-02-1 Dementia-friendly Health and Social Care Environments. 2015, Department of Health UK. | M11: 1 | N11: no | O11: No cumple.
A12: 1 | C12: Circulación | D12: Pasillo | E12: Distribución | F12: =IF(E12="Distribución",5,IF(E12="instalación",4,IF(E12="equipamiento",3,IF(E12="suelo",3,IF(E12="hueco",4,IF(E12="techo",2,IF(E12="puerta",2,IF(E12="pared",2,IF(E12="mobiliario",1,IF(E12="señalética",1,IF(E12="arte",1,0))))))))))) -> 5 | G12: Ancho mínimo de pasillo de 2,20 m para permitir el cruce de dos camas y el giro de la cama para el acceso a la habitación de pacientes. | H12: 1 | I12: 1 | J12: 0 | K12: 1 | L12: Unidad de enfermería en hospitalización polivalente de agudos, in Estándares y recomendaciones, e.e.i. Informes, Editor. 2009, Ministerio de Sanidad y Política Social. | M12: 1 | N12: sí | O12: Datos de hospitalización polivalente porque eran iguales. Tiene 2,6 m.
A13: =A12+1 -> 2 | C13: Circulación | D13: Pasillo | E13: Distribución | F13: =IF(E13="Distribución",5,IF(E13="instalación",4,IF(E13="equipamiento",3,IF(E13="suelo",3,IF(E13="hueco",4,IF(E13="techo",2,IF(E13="puerta",2,IF(E13="pared",2,IF(E13="mobiliario",1,IF(E13="señalética",1,IF(E13="arte",1,0))))))))))) -> 5 | G13: Existe un umbral de acceso a la habitación (ensanchamiento del pasillo). Este espacio facilita el giro de las camas en los movimientos de entrada y salida de la habitación, permite que la puerta abra hacia afuera, da más intimidad a la habitación y facilita que los familiares puedan esperar sin interrumpir el paso en el pasillo. | H13: 0 | I13: 1 | J13: 1 | K13: 0 | L13: 1. Unidad de enfermería en hospitalización polivalente de agudos, in Estándares y recomendaciones, e.e.i. Informes, Editor. 2009, Ministerio de Sanidad y Política Social. 2. Autores CURARQ | M13: 1 | N13: no | O13: Las puertas están enrasadas a la pared del pasillo.
A14: =A13+1 -> 3 | C14: Circulación | D14: Pasillo | E14: Distribución | F14: =IF(E14="Distribución",5,IF(E14="instalación",4,IF(E14="equipamiento",3,IF(E14="suelo",3,IF(E14="hueco",4,IF(E14="techo",2,IF(E14="puerta",2,IF(E14="pared",2,IF(E14="mobiliario",1,IF(E14="señalética",1,IF(E14="arte",1,0))))))))))) -> 5 | G14: (Existen puntos de referencia, hitos o puntos clave visibles y reconocibles para ayudar a la orientación. Las rutas de circulación están bien definidas y se evitan los cambios de dirección)¹. (Para evitar la monotonía, los pasillos incluyen cambios en su trazado como zonas de espera o vestíbulos)². | H14: 0 | I14: 1 | J14: 1 | K14: 0 | L14: 1. HBN 08-02-1 Dementia-friendly Health and Social Care Environments. 2015, Department of Health UK. 2. Autores CURARQ | M14: 1 | N14: sí
A15: =A14+1 -> 4 | C15: Circulación | D15: Pasillo | E15: Distribución | F15: =IF(E15="Distribución",5,IF(E15="instalación",4,IF(E15="equipamiento",3,IF(E15="suelo",3,IF(E15="hueco",4,IF(E15="techo",2,IF(E15="puerta",2,IF(E15="pared",2,IF(E15="mobiliario",1,IF(E15="señalética",1,IF(E15="arte",1,0))))))))))) -> 5 | G15: Las paredes carecen de elementos salientes que no arranquen del suelo, que vuelen más de 15 cm en la zona de altura comprendida entre 15 cm y 2,20 m medida a partir del suelo y que presenten riesgo de impacto. Los elementos volados cuya altura sea menor que 2 m, tales como mesetas o tramos de escalera, de rampas, etc., disponen de elementos fijos que restrinjan el acceso hasta ellos y permitirán su detección por los bastones de personas con discapacidad visual. | H15: 1 | I15: 1 | J15: 0 | K15: 0 | L15: Ministerio de Fomento Secretaría de Estado de Infraestructuras, T.y.V.D.G.d.A., Vivienda y Suelo, Seguridad de utilización y accesibilidad SUA, in Documento Básico. 2015. | M15: 1 | N15: sí
A16: =A15+1 -> 5 | C16: Circulación | D16: Pasillo | E16: Hueco | F16: =IF(E16="Distribución",5,IF(E16="instalación",4,IF(E16="equipamiento",3,IF(E16="suelo",3,IF(E16="hueco",4,IF(E16="techo",2,IF(E16="puerta",2,IF(E16="pared",2,IF(E16="mobiliario",1,IF(E16="señalética",1,IF(E16="arte",1,0))))))))))) -> 4 | G16: Dispone de referencias puntuales de luz natural. | H16: 0 | I16: 1 | J16: 1 | K16: 0 | L16: Unidad de enfermería en hospitalización polivalente de agudos, in Estándares y recomendaciones, e.e.i. Informes, Editor. 2009, Ministerio de Sanidad y Política Social. | M16: 1 | N16: no | O16: No cumple.
A17: =A16+1 -> 6 | C17: Circulación | D17: Pasillo | E17: Instalación | F17: =IF(E17="Distribución",5,IF(E17="instalación",4,IF(E17="equipamiento",3,IF(E17="suelo",3,IF(E17="hueco",4,IF(E17="techo",2,IF(E17="puerta",2,IF(E17="pared",2,IF(E17="mobiliario",1,IF(E17="señalética",1,IF(E17="arte",1,0))))))))))) -> 4 | G17: Ventilado mecánicamente. | H17: 0 | I17: 0 | J17: 0 | K17: 1 | L17: Reglamento de instalaciones térmicas en los edificios (RITE), BOE-A-2007-15820, Editor. 2007, Ministerio de la Presidencia. | M17: 1 | N17: sí
A18: =A17+1 -> 7 | C18: Circulación | D18: Pasillo | E18: Instalación | F18: =IF(E18="Distribución",5,IF(E18="instalación",4,IF(E18="equipamiento",3,IF(E18="suelo",3,IF(E18="hueco",4,IF(E18="techo",2,IF(E18="puerta",2,IF(E18="pared",2,IF(E18="mobiliario",1,IF(E18="señalética",1,IF(E18="arte",1,0))))))))))) -> 4 | G18: La temperatura oscila entre los 20 y los 26 ºC. | H18: 1 | I18: 1 | J18: 0 | K18: 0 | L18: Autores CURARQ | M18: 1 | N18: sí
A19: =A18+1 -> 8 | C19: Circulación | D19: Pasillo | E19: Equipamiento | F19: =IF(E19="Distribución",5,IF(E19="instalación",4,IF(E19="equipamiento",3,IF(E19="suelo",3,IF(E19="hueco",4,IF(E19="techo",2,IF(E19="puerta",2,IF(E19="pared",2,IF(E19="mobiliario",1,IF(E19="señalética",1,IF(E19="arte",1,0))))))))))) -> 3 | G19: El nivel de iluminación mínimo a la altura del suelo es de 200 lux durante el día. | H19: 0 | I19: 1 | J19: 1 | K19: 0 | L19: (CIBSE), C.I.o.B.S.E. and T.S.o.L.a. Lighting, Lighting Guide 2: Hospitals and health care buildings. 2008. | M19: 1 | N19: sí
A20: =A19+1 -> 9 | C20: Circulación | D20: Pasillo | E20: Suelo | F20: =IF(E20="Distribución",5,IF(E20="instalación",4,IF(E20="equipamiento",3,IF(E20="suelo",3,IF(E20="hueco",4,IF(E20="techo",2,IF(E20="puerta",2,IF(E20="pared",2,IF(E20="mobiliario",1,IF(E20="señalética",1,IF(E20="arte",1,0))))))))))) -> 3 | G20: El suelo es continuo, las juntas están selladas y no hay cambios de nivel. | H20: 1 | I20: 1 | J20: 0 | K20: 1 | L20: Autores CURARQ | M20: 1 | N20: sí
A21: =A20+1 -> 10 | C21: Circulación | D21: Pasillo | E21: Suelo | F21: =IF(E21="Distribución",5,IF(E21="instalación",4,IF(E21="equipamiento",3,IF(E21="suelo",3,IF(E21="hueco",4,IF(E21="techo",2,IF(E21="puerta",2,IF(E21="pared",2,IF(E21="mobiliario",1,IF(E21="señalética",1,IF(E21="arte",1,0))))))))))) -> 3 | G21: Resistente a un uso intensivo. Liso, fácil de limpiar y sin apariencia clínica. | H21: 0 | I21: 0 | J21: 1 | K21: 1 | L21: Unidad de cuidados intensivos, in Estándares y recomendaciones, e.e.i. Informes, Editor. 2010, Ministerio de Sanidad y Política Social. | M21: 1 | N21: sí
A22: =A21+1 -> 11 | C22: Circulación | D22: Pasillo | E22: Suelo | F22: =IF(E22="Distribución",5,IF(E22="instalación",4,IF(E22="equipamiento",3,IF(E22="suelo",3,IF(E22="hueco",4,IF(E22="techo",2,IF(E22="puerta",2,IF(E22="pared",2,IF(E22="mobiliario",1,IF(E22="señalética",1,IF(E22="arte",1,0))))))))))) -> 3 | G22: (Sin estampados o texturas que puedan provocar una sobreestimulación no deseada)¹. (No brillante y su color contrasta con el de las paredes)². | H22: 0 | I22: 0 | J22: 1 | K22: 0 | L22: 1. HBN 08-02-1 Dementia-friendly Health and Social Care Environments. 2015, Department of Health UK 2. Patient-Led Assessments of the Care Environment. The Ward Assessment - Acute and Community Hospitals, Hospices and Treatment Centres. 2015, NHS England. | M22: 1 | N22: sí
A23: =A22+1 -> 12 | C23: Circulación | D23: Pasillo | E23: Techo | F23: =IF(E23="Distribución",5,IF(E23="instalación",4,IF(E23="equipamiento",3,IF(E23="suelo",3,IF(E23="hueco",4,IF(E23="techo",2,IF(E23="puerta",2,IF(E23="pared",2,IF(E23="mobiliario",1,IF(E23="señalética",1,IF(E23="arte",1,0))))))))))) -> 2 | G23: (Sin iluminación artificial directa y uniforme ya que puede crear un efecto estroboscópico en los pacientes que circulan en silla de ruedas o camas. Se utiliza luz difusa y reflejada)¹. (El falso techo se encuentra en buen estado)². | H23: 0 | I23: 0 | J23: 1 | K23: 1 | L23: 1. Friendly healthcare environments for children and young people. 2004, NHS Estates. 2. Patient-Led Assessments of the Care Environment. The Ward Assessment - Acute and Community Hospitals, Hospices and Treatment Centres. 2015, NHS England. | M23: 1 | N23: no | O23: Fluorescentes con difusor para posición vertical (tipo oficina antigua).
A24: 13 | C24: Circulación | D24: Pasillo | E24: Pared | F24: =IF(E24="Distribución",5,IF(E24="instalación",4,IF(E24="equipamiento",3,IF(E24="suelo",3,IF(E24="hueco",4,IF(E24="techo",2,IF(E24="puerta",2,IF(E24="pared",2,IF(E24="mobiliario",1,IF(E24="señalética",1,IF(E24="arte",1,0))))))))))) -> 2 | G24: Las paredes se pueden lavar con agua, son durables, resistentes al impacto de carros y equipos móviles. (Las zonas más propensas al choque de carros y equipos móviles están reforzadas para resistir los impactos. Protecciones de esquinas y paredes)¹. (Las protecciones no sobresalen ni suponen un riesgo)4. (La pintura está en buen estado de conservación, sin marcas como ralladuras o arañazos ni otros desperfectos)³. | H24: 1 | I24: 0 | J24: 0 | K24: 1 | L24: 1. Unidad de enfermería en hospitalización polivalente de agudos, in Estándares y recomendaciones, e.e.i. Informes, Editor. 2009, Ministerio de Sanidad y Política Social 2. Health, N.E.a.E.A.o.t.D.o., HBN 23 Hospital accommodation for children and young people. 2004 3. Patient-Led Assessments of the Care Environment. The Ward Assessment - Acute and Community Hospitals, Hospices and Treatment Centres. 2015, NHS England. 4. Autores CURARQ | M24: 1 | N24: no | O24: No hay protecciones de paredes, solamente de esquinas y el rodapié es muy bajo.
A25: 14 | C25: Circulación | D25: Pasillo | E25: Pared | F25: =IF(E25="Distribución",5,IF(E25="instalación",4,IF(E25="equipamiento",3,IF(E25="suelo",3,IF(E25="hueco",4,IF(E25="techo",2,IF(E25="puerta",2,IF(E25="pared",2,IF(E25="mobiliario",1,IF(E25="señalética",1,IF(E25="arte",1,0))))))))))) -> 2 | G25: El blanco es el color base de la unidad. Sin estampados que provoquen una sobreestimulación no deseada. No brillante y con alto contraste. Su color contrasta con el del suelo. | H25: 0 | I25: 0 | J25: 1 | K25: 0 | L25: HBN 08-02-1 Dementia-friendly Health and Social Care Environments. 2015, Department of Health UK. | M25: 1 | N25: sí
A26: =A25+1 -> 15 | C26: Circulación | D26: Pasillo | E26: Pared | F26: =IF(E26="Distribución",5,IF(E26="instalación",4,IF(E26="equipamiento",3,IF(E26="suelo",3,IF(E26="hueco",4,IF(E26="techo",2,IF(E26="puerta",2,IF(E26="pared",2,IF(E26="mobiliario",1,IF(E26="señalética",1,IF(E26="arte",1,0))))))))))) -> 2 | G26: Pasamanos a ambos lados. Su color contrasta con el de la pared. | H26: 1 | I26: 0 | J26: 0 | K26: 0 | L26: HBN 08-02-1 Dementia-friendly Health and Social Care Environments. 2015, Department of Health UK. | M26: 1 | N26: no | O26: No hay pasamanos a ningún lado de la pared.
A27: =A26+1 -> 16 | C27: Circulación | D27: Pasillo | E27: Pared | F27: =IF(E27="Distribución",5,IF(E27="instalación",4,IF(E27="equipamiento",3,IF(E27="suelo",3,IF(E27="hueco",4,IF(E27="techo",2,IF(E27="puerta",2,IF(E27="pared",2,IF(E27="mobiliario",1,IF(E27="señalética",1,IF(E27="arte",1,0))))))))))) -> 2 | G27: El rodapié contrasta con el color del suelo y la pared para diferenciar mejor los elementos. | H27: 1 | I27: 0 | J27: 0 | K27: 0 | L27: HBN 08-02-1 Dementia-friendly Health and Social Care Environments. 2015, Department of Health UK. | M27: 1 | N27: no | O27: Es de color blanco, como la pared.
A28: =A27+1 -> 17 | C28: Circulación | D28: Pasillo | E28: Puerta | F28: =IF(E28="Distribución",5,IF(E28="instalación",4,IF(E28="equipamiento",3,IF(E28="suelo",3,IF(E28="hueco",4,IF(E28="techo",2,IF(E28="puerta",2,IF(E28="pared",2,IF(E28="mobiliario",1,IF(E28="señalética",1,IF(E28="arte",1,0))))))))))) -> 2 | G28: Las puertas de sectorización de incendios disponen de retenedores y quedan en el interior del plano de los paramentos de forma que no disminuye el ancho útil del pasillo. | H28: 1 | I28: 0 | J28: 0 | K28: 1 | L28: Unidad de enfermería en hospitalización polivalente de agudos, in Estándares y recomendaciones, e.e.i. Informes, Editor. 2009, Ministerio de Sanidad y Política Social. | M28: 1 | N28: no | O28: Dispone de retenedores pero no quedan en el interior del plano del paramento.
A29: 1 | C29: Acceso | D29: Entrada y vestíbulo | E29: Distribución | F29: =IF(E29="Distribución",5,IF(E29="instalación",4,IF(E29="equipamiento",3,IF(E29="suelo",3,IF(E29="hueco",4,IF(E29="techo",2,IF(E29="puerta",2,IF(E29="pared",2,IF(E29="mobiliario",1,IF(E29="señalética",1,IF(E29="arte",1,0))))))))))) -> 5 | G29: (Superficie útil en torno a 20 m². Espacio diáfano asociado a la circulación externa situado en la zona próxima al control de enfermería para que el personal pueda controlar el acceso a la unidad)¹. (El acceso público se produce por solo un punto. Fácil acceso desde la entrada general de hospitalización del edificio)². | H29: 0 | I29: 0 | J29: 1 | K29: 1 | L29: 1. Unidad de enfermería en hospitalización polivalente de agudos, in Estándares y recomendaciones, e.e.i. Informes, Editor. 2009, Ministerio de Sanidad y Política Social 2. Alliance, A.H.I., Part B - Health Facility Briefing and Planning 0340 - Inpatient Accommodation Unit, in Australasian Health Facility Guidelines. 2016 | M29: 1 | N29: no | O29: Datos de hospitalización polivalente porque eran iguales. Su superficie es inferior, en torno a los 7 m².
A30: =A29+1 -> 2 | C30: Acceso | D30: Entrada y vestíbulo | E30: Instalación | F30: =IF(E30="Distribución",5,IF(E30="instalación",4,IF(E30="equipamiento",3,IF(E30="suelo",3,IF(E30="hueco",4,IF(E30="techo",2,IF(E30="puerta",2,IF(E30="pared",2,IF(E30="mobiliario",1,IF(E30="señalética",1,IF(E30="arte",1,0))))))))))) -> 4 | G30: Ventilado mecánicamente. | H30: 0 | I30: 0 | J30: 0 | K30: 1 | L30: Reglamento de instalaciones térmicas en los edificios (RITE), BOE-A-2007-15820, Editor. 2007, Ministerio de la Presidencia. | M30: 1 | N30: sí
A31: =A30+1 -> 3 | C31: Acceso | D31: Entrada y vestíbulo | E31: Instalación | F31: =IF(E31="Distribución",5,IF(E31="instalación",4,IF(E31="equipamiento",3,IF(E31="suelo",3,IF(E31="hueco",4,IF(E31="techo",2,IF(E31="puerta",2,IF(E31="pared",2,IF(E31="mobiliario",1,IF(E31="señalética",1,IF(E31="arte",1,0))))))))))) -> 4 | G31: Protegido con sistema de seguridad, especialmente por la noche (tarjeta, CCTV, interfono u otro). | H31: 0 | I31: 1 | J31: 0 | K31: 1 | L31: Alliance, A.H.I., Part B - Health Facility Briefing and Planning 0340 - Inpatient Accommodation Unit, in Australasian Health Facility Guidelines. 2016 | M31: 1 | N31: no | O31: No tiene ningún sistema de seguridad.
A32: =A31+1 -> 4 | C32: Acceso | D32: Entrada y vestíbulo | E32: Señalética | F32: =IF(E32="Distribución",5,IF(E32="instalación",4,IF(E32="equipamiento",3,IF(E32="suelo",3,IF(E32="hueco",4,IF(E32="techo",2,IF(E32="puerta",2,IF(E32="pared",2,IF(E32="mobiliario",1,IF(E32="señalética",1,IF(E32="arte",1,0))))))))))) -> 1 | G32: Señal de dirección desde el punto de acceso a planta y señal de localización para identificar la unidad. Directorio a la salida del ascensor. | H32: 0 | I32: 1 | J32: 1 | K32: 0 | L32: Wayfinding: Effective wayfinding and signing systems Guidance for healthcare facilities 2nd edition. 2005, NHS Estates. | M32: 1 | N32: no | O32: No hay señal de localización ni directorio.
A33: =A32+1 -> 5 | C33: Acceso | D33: Estar de familiares | E33: Distribución | F33: =IF(E33="Distribución",5,IF(E33="instalación",4,IF(E33="equipamiento",3,IF(E33="suelo",3,IF(E33="hueco",4,IF(E33="techo",2,IF(E33="puerta",2,IF(E33="pared",2,IF(E33="mobiliario",1,IF(E33="señalética",1,IF(E33="arte",1,0))))))))))) -> 5 | G33: (Superficie útil en torno a 30 m². Si aproximadamente el 50 % de las habitaciones de pacientes son de uso individual, puede compartirse con pacientes ingresados. Acceso desde el vestíbulo de entrada)¹. (Cercano al mostrador)². | H33: 0 | I33: 0 | J33: 1 | K33: 0 | L33: 1. Unidad de enfermería en hospitalización polivalente de agudos, in Estándares y recomendaciones, e.e.i. Informes, Editor. 2009, Ministerio de Sanidad y Política Social. 2. HBN 04-01 Adult in-patient facilities. 2013, Department of Health. | M33: 1 | N33: no | O33: Datos de hospitalización polivalente porque eran iguales. Su superficie es inferior, en torno a los 16 m².
A34: =A33+1 -> 6 | C34: Acceso | D34: Estar de familiares | E34: Hueco | F34: =IF(E34="Distribución",5,IF(E34="instalación",4,IF(E34="equipamiento",3,IF(E34="suelo",3,IF(E34="hueco",4,IF(E34="techo",2,IF(E34="puerta",2,IF(E34="pared",2,IF(E34="mobiliario",1,IF(E34="señalética",1,IF(E34="arte",1,0))))))))))) -> 4 | G34: Iluminación natural. | H34: 0 | I34: 0 | J34: 1 | K34: 0 | L34: Unidad de enfermería en hospitalización polivalente de agudos, in Estándares y recomendaciones, e.e.i. Informes, Editor. 2009, Ministerio de Sanidad y Política Social. | M34: 1 | N34: sí
A35: =A34+1 -> 7 | C35: Acceso | D35: Estar de familiares | E35: Instalación | F35: =IF(E35="Distribución",5,IF(E35="instalación",4,IF(E35="equipamiento",3,IF(E35="suelo",3,IF(E35="hueco",4,IF(E35="techo",2,IF(E35="puerta",2,IF(E35="pared",2,IF(E35="mobiliario",1,IF(E35="señalética",1,IF(E35="arte",1,0))))))))))) -> 4 | G35: Ventilado mecánicamente. | H35: 0 | I35: 0 | J35: 0 | K35: 1 | L35: Reglamento de instalaciones térmicas en los edificios (RITE), BOE-A-2007-15820, Editor. 2007, Ministerio de la Presidencia. | M35: 1 | N35: sí
A36: =A35+1 -> 8 | C36: Acceso | D36: Estar de familiares | E36: Equipamiento | F36: =IF(E36="Distribución",5,IF(E36="instalación",4,IF(E36="equipamiento",3,IF(E36="suelo",3,IF(E36="hueco",4,IF(E36="techo",2,IF(E36="puerta",2,IF(E36="pared",2,IF(E36="mobiliario",1,IF(E36="señalética",1,IF(E36="arte",1,0))))))))))) -> 3 | G36: Tomas eléctricas y wifi. | H36: 0 | I36: 0 | J36: 1 | K36: 0 | L36: Autores CURARQ | M36: 1 | N36: sí
A37: =A36+1 -> 9 | C37: Acceso | D37: Estar de familiares | E37: Equipamiento | F37: =IF(E37="Distribución",5,IF(E37="instalación",4,IF(E37="equipamiento",3,IF(E37="suelo",3,IF(E37="hueco",4,IF(E37="techo",2,IF(E37="puerta",2,IF(E37="pared",2,IF(E37="mobiliario",1,IF(E37="señalética",1,IF(E37="arte",1,0))))))))))) -> 3 | G37: (Fuente de agua fría y máquinas expendedoras de bebidas)¹ (y comida saludable)². | H37: 0 | I37: 0 | J37: 1 | K37: 0 | L37: 1. Unidad de enfermería en hospitalización polivalente de agudos, in Estándares y recomendaciones, e.e.i. Informes, Editor. 2009, Ministerio de Sanidad y Política Social. 2. Autores CURARQ | M37: 1 | N37: no | O37: Hay máquinas expendedoras de bebidas y comida saludable y no saludable junto a las escaleras. No hay fuente de agua fría.
A38: =A37+1 -> 10 | C38: Acceso | D38: Estar de familiares | E38: Mobiliario | F38: =IF(E38="Distribución",5,IF(E38="instalación",4,IF(E38="equipamiento",3,IF(E38="suelo",3,IF(E38="hueco",4,IF(E38="techo",2,IF(E38="puerta",2,IF(E38="pared",2,IF(E38="mobiliario",1,IF(E38="señalética",1,IF(E38="arte",1,0))))))))))) -> 1 | G38: (Sillas sin ruedas)¹. (Los asientos se encuentran en buen estado, sin marcas, ralladuras u otros desperfectos)². (Los usuarios con sillas de ruedas se pueden integrar en la distribución de los asientos de la sala)³. (Mesas de estar, papelera y arte)¹. | H38: 0 | I38: 0 | J38: 1 | K38: 1 | L38: 1. Unidad de enfermería en hospitalización polivalente de agudos, in Estándares y recomendaciones, e.e.i. Informes, Editor. 2009, Ministerio de Sanidad y Política Social 2. Patient-Led Assessments of the Care Environment. The Ward Assessment - Acute and Community Hospitals, Hospices and Treatment Centres. 2015, NHS England 3. Lewis, A., EVOLVE: a tool for evaluating the design of older people´s housing. Housing, Care and Support, 2010. | M38: 1 | N38: no | O38: Sin mesas ni papelera.
A39: =A38+1 -> 11 | C39: Acceso | D39: Despacho información | E39: Distribución | F39: =IF(E39="Distribución",5,IF(E39="instalación",4,IF(E39="equipamiento",3,IF(E39="suelo",3,IF(E39="hueco",4,IF(E39="techo",2,IF(E39="puerta",2,IF(E39="pared",2,IF(E39="mobiliario",1,IF(E39="señalética",1,IF(E39="arte",1,0))))))))))) -> 5 | G39: Superficie útil en torno a 12 m². | H39: 0 | I39: 1 | J39: 1 | K39: 0 | L39: Unidad de enfermería en hospitalización polivalente de agudos, in Estándares y recomendaciones, e.e.i. Informes, Editor. 2009, Ministerio de Sanidad y Política Social. | M39: 1 | N39: no | O39: La unidad no tiene este local.
A40: =A39+1 -> 12 | C40: Acceso | D40: Despacho información | E40: Distribución | F40: =IF(E40="Distribución",5,IF(E40="instalación",4,IF(E40="equipamiento",3,IF(E40="suelo",3,IF(E40="hueco",4,IF(E40="techo",2,IF(E40="puerta",2,IF(E40="pared",2,IF(E40="mobiliario",1,IF(E40="señalética",1,IF(E40="arte",1,0))))))))))) -> 5 | G40: Condiciones de privacidad adecuada. Ambiente cálido y residencial. | H40: 0 | I40: 0 | J40: 1 | K40: 0 | L40: Unidad de enfermería en hospitalización polivalente de agudos, in Estándares y recomendaciones, e.e.i. Informes, Editor. 2009, Ministerio de Sanidad y Política Social. | M40: 1 | N40: no | O40: No cumple.
...

Sheet PF
C2: Zona | D2: Local | E2: Nº ítems
C4: Configuración unidad | E4: =COUNTIF(Requisitos!C1:C11,C4) -> 10
F5: =E4 -> 10
C6: Circulación | D6: Pasillo | E6: =COUNTIF(Requisitos!D12:D28,D6) -> 17
F7: =E6 -> 17
C8: Acceso | D8: Entrada y vestíbulo | E8: =COUNTIF(#REF!,D8) -> #REF!
C9: Acceso | D9: Estar de familiares | E9: =COUNTIF(#REF!,D9) -> #REF!
C10: Acceso | D10: Despacho información | E10: =COUNTIF(#REF!,D10) -> #REF!
C11: Acceso | D11: Aseo público | E11: =COUNTIF(#REF!,D11) -> #REF!
F12: =SUM(E8:E11) -> #REF!
C13: Pacientes y familiares | D13: Habitación de paciente | E13: =COUNTIF(Requisitos!$D$50:$D$125,D13) -> 48
C14: Pacientes y familiares | D14: Aseo en habitación | E14: =COUNTIF(Requisitos!$D$50:$D$125,D14) -> 21
C15: Pacientes y familiares | D15: Estar de madres | E15: 7
F16: =SUM(E13:E15) -> 76
C17: Control de enfermería | D17: Mostrador | E17: =COUNTIF(#REF!,D17) -> #REF!
C18: Control de enfermería | D18: Zona trabajo enfermería | E18: =COUNTIF(#REF!,D18) -> #REF!
C19: Control de enfermería | D19: Oficio limpio | E19: =COUNTIF(#REF!,D19) -> #REF!
C20: Control de enfermería | D20: Estar de personal | E20: =COUNTIF(#REF!,D20) -> #REF!
C21: Control de enfermería | D21: Despacho supervisión enfermería | E21: =COUNTIF(#REF!,D21) -> #REF!
C22: Control de enfermería | D22: Aseo de personal | E22: =COUNTIF(#REF!,D22) -> #REF!
C23: Control de enfermería | D23: Sala de curas madre | E23: =COUNTIF(#REF!,D23) -> #REF!
C24: Control de enfermería | D24: Sala de curas neonato | E24: =COUNTIF(#REF!,D24) -> #REF!
C25: Control de enfermería | D25: Despensa leche materna | E25: 4
F26: =SUM(E17:E25) -> #REF!
C27: Personal | D27: Sala de trabajo médico | E27: =COUNTIF(#REF!,D27) -> #REF!
C28: Personal | D28: Vestuario | E28: =COUNTIF(#REF!,D28) -> #REF!
F29: =SUM(E27:E28) -> #REF!
C30: Apoyos | D30: Vestíbulo interno | E30: =COUNTIF(Requisitos!$D$194:$D$221,D30) -> 2
C31: Apoyos | D31: Oficio de comidas | E31: =COUNTIF(Requisitos!$D$194:$D$221,D31) -> 4
C32: Apoyos | D32: Oficio sucio | E32: =COUNTIF(Requisitos!$D$194:$D$221,D32) -> 6
C33: Apoyos | D33: Oficio de limpieza | E33: =COUNTIF(Requisitos!$D$194:$D$221,D33) -> 4
C34: Apoyos | D34: Recogida ropa sucia | E34: =COUNTIF(Requisitos!$D$194:$D$221,D34) -> 2
C35: Apoyos | D35: Almacén de lencería | E35: =COUNTIF(Requisitos!$D$194:$D$221,D35) -> 3
C36: Apoyos | D36: Almacén de material | E36: =COUNTIF(Requisitos!$D$194:$D$221,D36) -> 4
C37: Apoyos | D37: Almacén de equipos | E37: =COUNTIF(Requisitos!$D$194:$D$221,D37) -> 3
F38: =SUM(E30:E37) -> 28
F39: =SUM(F2:F38) -> #REF!
