Workbook

Sheet Conclusiones
A1: HD | B1: no
A3: ZONA | B3: LOCAL | C3: ELEMENTO | D3: Coste | E3: INDICADOR | F3: Comentarios HD
A4: Acceso
B5: Aseo público
C6: Mobiliario
D7: 1
E8: Cambiador de pañales
F9: No cumple.
E10: Dispensador de jabón, de papel higiénico y de toallas de papel. Escobilla y papelera preferiblemente con tapa. Espejo y percha.
F11: Falta la percha.
B12: Despacho información
C13: Distribución
D14: 5
E15: Condiciones de privacidad adecuada. Ambiente cálido y residencial.
F16: No cumple.
E17: Superficie útil en torno a 12 m².
F18: La unidad no tiene este local. Lo que iba a ser despacho se utiliza para la exploración ginecológica.
C19: Instalación
D20: 4
E21: Conexiones eléctricas, de transmisiones y comunicaciones.
F22: No cumple.
E23: Ventilado mecánicamente.
F24: No cumple.
C25: Mobiliario
D26: 1
E27: Mesa de trabajo, sillas y sillón ergonómico.
F28: No cumple.
B29: Entrada y vestíbulo
C30: Instalación
D31: 4
E32: Protegido con sistema de seguridad, especialmente por la noche (tarjeta, CCTV, interfono u otro).
F33: No tiene ningún sistema de seguridad.
C34: Señalética
D35: 1
E36: Señal de dirección desde el punto de acceso a planta y señal de localización para identificar la unidad. Directorio a la salida del ascensor.
F37: Tiene directorio pero no señal de dirección ni señal de localización.
B38: Estar de familiares
C39: Distribución
D40: 5
E41: Zona de juego para niños/as y otra para adolescentes. Con juguetes apropiados y libros.
F42: No cumple.
C43: Equipamiento
D44: 3
E45: (Fuente de agua fría y máquinas expendedoras de bebidas)¹ (y comida saludable)².
F46: Le falta la fuente de agua.
C47: Mobiliario
D48: 1
E49: (Sillas sin ruedas)¹. (Los asientos se encuentran en buen estado, sin marcas, ralladuras u otros desperfectos)². (Los usuarios con sillas de ruedas se pueden integrar en la distribución de los asientos de la sala)³. (Mesas de estar, papelera y arte)¹.
F50: No hay mesas de estar.
B51: Lactancia y alimentación
C52: Distribución
D53: 5
E54: Espacio para giro de una silla de ruedas de 1,50 m de diámetro, libre de obstáculos desde el nivel del suelo en toda su altura.
F55: La unidad no tiene este local.
C56: Equipamiento
D57: 3
E58: (Lavabo. Encimera o mueble donde colocar bolsas o botellas para la preparación de la comida)¹. (Cambiador de pañales)².
F59: No cumple.
E60: Iluminación indirecta graduable.
F61: No cumple.
C62: Instalación
D63: 4
E64: Ventilado mecánicamente.
F65: No cumple.
C66: Mobiliario
D67: 1
E68: Asiento cómodo. Elementos móviles con motivos artísticos.
F69: No cumple.
E70: Dispensador de jabón y de toallas de papel. Papelera y percha
F71: No cumple.
E72: Las superficies de los asientos y demás mobiliario se pueden desinfectar con facilidad, se utilizan materiales fáciles de limpiar.
F73: No cumple.
A74: Apoyos
B75: Almacén de equipos
C76: Distribución
D77: 5
E78: Superficie útil en torno a 10 m2. Espacio para el almacenamiento de equipos para movilizar enfermos y otros aparatos voluminosos (equipos de terapia, portasueros, sillas de ruedas y grúas para la movilización de pacientes encamados).
F79: La unidad no tiene este local.
C80: Equipamiento
D81: 3
E82: Tomas eléctricas para los equipos que necesiten recargarse.
F83: No cumple.
C84: Instalación
D85: 4
E86: Ventilado mecánicamente.
F87: No cumple.
B88: Almacén de material
C89: Distribución
D90: 5
E91: Superficie útil en torno a 10 m2. Espacio para carros de suministro de material fungible.
F92: Mide unos 5 m².
B93: Oficio de limpieza
C94: Mobiliario
D95: 1
E96: (Armarios o estanterías metálicas)¹. (El estante más bajo deja un espacio inferior libre mínimo de 300 mm (para facilitar la limpieza y evitar golpes) y el estante más alto tiene una altura igual o inferior a 2100 mm)².
F97: No cumple.
A98: Circulación
B99: Pasillo
C100: Pared
D101: 2
...

Sheet Indicadores
A1: Nº | C1: ZONA | D1: LOCAL | E1: ELEMENTO | F1: Coste | G1: INDICADOR | H1: S | I1: E | J1: X | K1: P | L1: Referencia | M1: Ptos. | N1: HD | O1: Comentarios HD
A2: 1 | C2: Configuración unidad | E2: Distribución | F2: =IF(E2="Distribución",5,IF(E2="instalación",4,IF(E2="equipamiento",3,IF(E2="suelo",3,IF(E2="hueco",4,IF(E2="techo",2,IF(E2="puerta",2,IF(E2="pared",2,IF(E2="mobiliario",1,IF(E2="señalética",1,IF(E2="arte",1,0))))))))))) -> 5 | G2: No sirve de tráfico de paso hacia otra unidad. | H2: 1 | I2: 1 | J2: 1 | K2: 1 | L2: Unidad de enfermería en hospitalización polivalente de agudos, in Estándares y recomendaciones, e.e.i. Informes, Editor. 2009, Ministerio de Sanidad y Política Social | M2: 1 | N2: sí
A3: =A2+1 -> 2 | C3: Configuración unidad | E3: Distribución | F3: =IF(E3="Distribución",5,IF(E3="instalación",4,IF(E3="equipamiento",3,IF(E3="suelo",3,IF(E3="hueco",4,IF(E3="techo",2,IF(E3="puerta",2,IF(E3="pared",2,IF(E3="mobiliario",1,IF(E3="señalética",1,IF(E3="arte",1,0))))))))))) -> 5 | G3: La estructura de las distintas unidades de hospitalización es similar para facilitar la flexibilidad y legibilidad al personal de enfermería. | H3: 0 | I3: 1 | J3: 0 | K3: 1 | L3: Unidad de enfermería en hospitalización polivalente de agudos, in Estándares y recomendaciones, e.e.i. Informes, Editor. 2009, Ministerio de Sanidad y Política Social. | M3: 1 | N3: sí
A4: =A3+1 -> 3 | C4: Configuración unidad | E4: Distribución | F4: =IF(E4="Distribución",5,IF(E4="instalación",4,IF(E4="equipamiento",3,IF(E4="suelo",3,IF(E4="hueco",4,IF(E4="techo",2,IF(E4="puerta",2,IF(E4="pared",2,IF(E4="mobiliario",1,IF(E4="señalética",1,IF(E4="arte",1,0))))))))))) -> 5 | G4: (Ubicada en zona tranquila, lejos de fuentes de ruido como rutas de tráfico intenso, acceso de urgencias o plantas de ventilación)¹ (también para que el mantenimiento no afecte al funcionamiento de la unidad)² | H4: 0 | I4: 0 | J4: 1 | K4: 1 | L4: 1. Alliance, A.H.I., Part B - Health Facility Briefing and Planning 0340 - Inpatient Accommodation Unit, in Australasian Health Facility Guidelines. 2016 2. Autores CURARQ | M4: 1 | N4: sí
A5: =A4+1 -> 4 | C5: Configuración unidad | E5: Distribución | F5: =IF(E5="Distribución",5,IF(E5="instalación",4,IF(E5="equipamiento",3,IF(E5="suelo",3,IF(E5="hueco",4,IF(E5="techo",2,IF(E5="puerta",2,IF(E5="pared",2,IF(E5="mobiliario",1,IF(E5="señalética",1,IF(E5="arte",1,0))))))))))) -> 5 | G5: Relacionada por la circulación interna con la unidad de tratamiento y diagnóstico, urgencias, UCI y bloque quirúrgico. | H5: 1 | I5: 1 | J5: 0 | K5: 0 | L5: Alliance, A.H.I., Part B - Health Facility Briefing and Planning 0340 - Inpatient Accommodation Unit, in Australasian Health Facility Guidelines. 2016. | M5: 1 | N5: sí
A6: =A5+1 -> 5 | C6: Configuración unidad | E6: Distribución | F6: =IF(E6="Distribución",5,IF(E6="instalación",4,IF(E6="equipamiento",3,IF(E6="suelo",3,IF(E6="hueco",4,IF(E6="techo",2,IF(E6="puerta",2,IF(E6="pared",2,IF(E6="mobiliario",1,IF(E6="señalética",1,IF(E6="arte",1,0))))))))))) -> 5 | G6: Próxima al área de tocología. | H6: 1 | I6: 1 | J6: 0 | K6: 0 | L6: 1. UTE, J. Navarro Baldeweg, and Á. Fernández Alba, Programa Funcional Hospital Universitario Central de Asturias. 2003 | M6: 1 | N6: no | O6: Los pediatras se comparten con el bloque obstétrico. El bloque obstétrico está una planta más abajo y no en la misma vertical que la hospitalización de pediatría.
A7: =A6+1 -> 6 | C7: Configuración unidad | E7: Distribución | F7: =IF(E7="Distribución",5,IF(E7="instalación",4,IF(E7="equipamiento",3,IF(E7="suelo",3,IF(E7="hueco",4,IF(E7="techo",2,IF(E7="puerta",2,IF(E7="pared",2,IF(E7="mobiliario",1,IF(E7="señalética",1,IF(E7="arte",1,0))))))))))) -> 5 | G7: Si el tamaño del hospital lo permite, la hospitalización infantil se divide en dos áreas, una para la hospitalización de niños lactantes y preescolares y otra para la hospitalización de escolares y adolescentes. Cada zona tiene un control de enfermería con apoyos comunes a los dos controles. Los locales de juego y clases se pueden compartir. | H7: 0 | I7: 1 | J7: 1 | K7: 0 | L7: UTE, J. Navarro Baldeweg, and Á. Fernández Alba, Programa Funcional Hospital Universitario Central de Asturias. 2003. | M7: 1 | N7: n.a.
A8: =A7+1 -> 7 | C8: Configuración unidad | E8: Distribución | F8: =IF(E8="Distribución",5,IF(E8="instalación",4,IF(E8="equipamiento",3,IF(E8="suelo",3,IF(E8="hueco",4,IF(E8="techo",2,IF(E8="puerta",2,IF(E8="pared",2,IF(E8="mobiliario",1,IF(E8="señalética",1,IF(E8="arte",1,0))))))))))) -> 5 | G8: Existen espacios seguros para el almacenamiento de objetos personales voluminosos como carritos y cunas. | H8: 0 | I8: 0 | J8: 1 | K8: 1 | L8: Friendly healthcare environments for children and young people. 2004, NHS Estates. | M8: 1 | N8: no | O8: No cumple.
A9: =A8+1 -> 8 | C9: Configuración unidad | E9: Distribución | F9: =IF(E9="Distribución",5,IF(E9="instalación",4,IF(E9="equipamiento",3,IF(E9="suelo",3,IF(E9="hueco",4,IF(E9="techo",2,IF(E9="puerta",2,IF(E9="pared",2,IF(E9="mobiliario",1,IF(E9="señalética",1,IF(E9="arte",1,0))))))))))) -> 5 | G9: Existen dos tipos de accesos a la unidad: uno externo para visitas de familiares y acompañantes y otro interno para pacientes encamados, personal, suministros y servicios de soporte. | H9: 1 | I9: 1 | J9: 1 | K9: 0 | L9: Unidad de enfermería en hospitalización polivalente de agudos, in Estándares y recomendaciones, e.e.i. Informes, Editor. 2009, Ministerio de Sanidad y Política Social | M9: 1 | N9: sí
A10: =A9+1 -> 9 | C10: Configuración unidad | E10: Distribución | F10: =IF(E10="Distribución",5,IF(E10="instalación",4,IF(E10="equipamiento",3,IF(E10="suelo",3,IF(E10="hueco",4,IF(E10="techo",2,IF(E10="puerta",2,IF(E10="pared",2,IF(E10="mobiliario",1,IF(E10="señalética",1,IF(E10="arte",1,0))))))))))) -> 5 | G10: La planta con unidades de hospitalización está compartimentada en al menos dos sectores de incendios. Cada sector de incendios tiene una superficie construida inferior a los 1500 m2 y tiene espacio suficiente para albergar a los pacientes de uno de los sectores contiguos. Se exceptúa de lo anterior aquellas plantas cuya superficie construida no exceda de 1500 m2, que tenga salidas directas al espacio exterior seguro y cuyos recorridos de evacuación hasta ellas no exceda de 25 m. Cada sector de incendios dispone de más de una salida de planta y tiene una longitud máxima de recorrido de evacuación hasta alguna salida de planta de 30 m. La longitud de los recorridos de evacuación desde su origen hasta llegar a algún punto desde el cual existan al menos dos recorridos alternativos no excede los 15 m. | H10: 1 | I10: 0 | J10: 0 | K10: 1 | L10: España, M.d.F.G.d., Seguridad en caso de incendio DB-SI, in Documento Básico. 2006. | M10: 1 | N10: sí
A11: =A10+1 -> 10 | C11: Configuración unidad | E11: Instalación | F11: =IF(E11="Distribución",5,IF(E11="instalación",4,IF(E11="equipamiento",3,IF(E11="suelo",3,IF(E11="hueco",4,IF(E11="techo",2,IF(E11="puerta",2,IF(E11="pared",2,IF(E11="mobiliario",1,IF(E11="señalética",1,IF(E11="arte",1,0))))))))))) -> 4 | G11: El olor en general es fresco. No se producen olores fuertes ni desagradable debido por ejemplo a los productos de limpieza , los residuos, la falta de ventilación o la comida. | H11: 0 | I11: 0 | J11: 1 | K11: 1 | L11: Patient-Led Assessments of the Care Environment. Communal Areas. 2015, NHS England. | M11: 1 | N11: sí
A12: =A11+1 -> 11 | C12: Configuración unidad | E12: Señalética | F12: =IF(E12="Distribución",5,IF(E12="instalación",4,IF(E12="equipamiento",3,IF(E12="suelo",3,IF(E12="hueco",4,IF(E12="techo",2,IF(E12="puerta",2,IF(E12="pared",2,IF(E12="mobiliario",1,IF(E12="señalética",1,IF(E12="arte",1,0))))))))))) -> 1 | G12: Su ubicación es estratégica para facilitar la orientación en puntos de intersección de la unidad. Existe consistencia entre las señales de la unidad y su diseño es apropiado. Se acompañan con flechas que facilitan la orientación en el edificio. Su color contrasta con el de las superficies adyacentes. | H12: 0 | I12: 1 | J12: 1 | K12: 0 | L12: 1. HBN 08-02-1 Dementia-friendly Health and Social Care Environments. 2015, Department of Health UK 2. Wayfinding: Effective wayfinding and signing systems Guidance for healthcare facilities 2nd edition. 2005, NHS Estates. | M12: 1 | N12: no | O12: Faltan indicaciones en puntos de intersección y la gente se desorienta.
A13: =A12+1 -> 12 | C13: Configuración unidad | E13: Señalética | F13: =IF(E13="Distribución",5,IF(E13="instalación",4,IF(E13="equipamiento",3,IF(E13="suelo",3,IF(E13="hueco",4,IF(E13="techo",2,IF(E13="puerta",2,IF(E13="pared",2,IF(E13="mobiliario",1,IF(E13="señalética",1,IF(E13="arte",1,0))))))))))) -> 1 | G13: La tipografía es sencilla y clara, el tamaño de la fuente es suficientemente grande y se utilizan mayúsculas y minúsculas. El lenguaje utilizado es fácilmente entendible, no se utilizan abreviaturas y los idiomas utilizados son los adecuados para el hospital. La señalética está actualizada y en buen estado de mantenimiento. | H13: 0 | I13: 1 | J13: 1 | K13: 1 | L13: 1. HBN 08-02-1 Dementia-friendly Health and Social Care Environments. 2015, Department of Health UK 2. Wayfinding: Effective wayfinding and signing systems Guidance for healthcare facilities 2nd edition. 2005, NHS Estates. | M13: 1 | N13: sí
A14: =A13+1 -> 13 | C14: Configuración unidad | E14: Arte | F14: =IF(E14="Distribución",5,IF(E14="instalación",4,IF(E14="equipamiento",3,IF(E14="suelo",3,IF(E14="hueco",4,IF(E14="techo",2,IF(E14="puerta",2,IF(E14="pared",2,IF(E14="mobiliario",1,IF(E14="señalética",1,IF(E14="arte",1,0))))))))))) -> 1 | G14: Existen espacios habilitados para la exposición de arte. Se muestran piezas de arte que producen emociones positivas con motivos naturales, locales o de interés para las personas usuarias del espacio. Se colocan en puntos estratégicos para favorecer la orientación en la unidad como zonas muy visibles, con iluminación adecuada y su color contrasta con el del fondo. | H14: 0 | I14: 1 | J14: 1 | K14: 0 | L14: HBN 08-02-1 Dementia-friendly Health and Social Care Environments. 2015, Department of Health UK. | M14: 1 | N14: sí
A15: 1 | C15: Circulación | D15: Pasillo | E15: Distribución | F15: =IF(E15="Distribución",5,IF(E15="instalación",4,IF(E15="equipamiento",3,IF(E15="suelo",3,IF(E15="hueco",4,IF(E15="techo",2,IF(E15="puerta",2,IF(E15="pared",2,IF(E15="mobiliario",1,IF(E15="señalética",1,IF(E15="arte",1,0))))))))))) -> 5 | G15: Ancho mínimo de pasillo de 2,20 m para permitir el cruce de dos camas y el giro de la cama para el acceso a la habitación de pacientes. | H15: 1 | I15: 1 | J15: 0 | K15: 1 | L15: Unidad de enfermería en hospitalización polivalente de agudos, in Estándares y recomendaciones, e.e.i. Informes, Editor. 2009, Ministerio de Sanidad y Política Social. | M15: 1 | N15: sí
A16: =A15+1 -> 2 | C16: Circulación | D16: Pasillo | E16: Distribución | F16: =IF(E16="Distribución",5,IF(E16="instalación",4,IF(E16="equipamiento",3,IF(E16="suelo",3,IF(E16="hueco",4,IF(E16="techo",2,IF(E16="puerta",2,IF(E16="pared",2,IF(E16="mobiliario",1,IF(E16="señalética",1,IF(E16="arte",1,0))))))))))) -> 5 | G16: Existe un umbral de acceso a la habitación (ensanchamiento del pasillo). Este espacio facilita el giro de las camas en los movimientos de entrada y salida de la habitación, permite que la puerta abra hacia afuera, da más intimidad a la habitación y facilita que los familiares puedan esperar sin interrumpir el paso en el pasillo. | H16: 0 | I16: 1 | J16: 1 | K16: 0 | L16: 1. Unidad de enfermería en hospitalización polivalente de agudos, in Estándares y recomendaciones, e.e.i. Informes, Editor. 2009, Ministerio de Sanidad y Política Social. 2. Autores CURARQ | M16: 1 | N16: sí
A17: =A16+1 -> 3 | C17: Circulación | D17: Pasillo | E17: Distribución | F17: =IF(E17="Distribución",5,IF(E17="instalación",4,IF(E17="equipamiento",3,IF(E17="suelo",3,IF(E17="hueco",4,IF(E17="techo",2,IF(E17="puerta",2,IF(E17="pared",2,IF(E17="mobiliario",1,IF(E17="señalética",1,IF(E17="arte",1,0))))))))))) -> 5 | G17: (Existen puntos de referencia, hitos o puntos clave visibles y reconocibles para ayudar a la orientación. Las rutas de circulación están bien definidas y se evitan los cambios de dirección)¹. (Para evitar la monotonía, los pasillos incluyen cambios en su trazado como zonas de espera o vestíbulos)². | H17: 0 | I17: 1 | J17: 1 | K17: 0 | L17: 1. HBN 08-02-1 Dementia-friendly Health and Social Care Environments. 2015, Department of Health UK. 2. Autores CURARQ | M17: 1 | N17: sí
A18: =A17+1 -> 4 | C18: Circulación | D18: Pasillo | E18: Distribución | F18: =IF(E18="Distribución",5,IF(E18="instalación",4,IF(E18="equipamiento",3,IF(E18="suelo",3,IF(E18="hueco",4,IF(E18="techo",2,IF(E18="puerta",2,IF(E18="pared",2,IF(E18="mobiliario",1,IF(E18="señalética",1,IF(E18="arte",1,0))))))))))) -> 5 | G18: Las paredes carecen de elementos salientes que no arranquen del suelo, que vuelen más de 15 cm en la zona de altura comprendida entre 15 cm y 2,20 m medida a partir del suelo y que presenten riesgo de impacto. Los elementos volados cuya altura sea menor que 2 m, tales como mesetas o tramos de escalera, de rampas, etc., disponen de elementos fijos que restrinjan el acceso hasta ellos y permitirán su detección por los bastones de personas con discapacidad visual. | H18: 1 | I18: 1 | J18: 0 | K18: 0 | L18: Ministerio de Fomento Secretaría de Estado de Infraestructuras, T.y.V.D.G.d.A., Vivienda y Suelo, Seguridad de utilización y accesibilidad SUA, in Documento Básico. 2015. | M18: 1 | N18: sí
A19: =A18+1 -> 5 | C19: Circulación | D19: Pasillo | E19: Hueco | F19: =IF(E19="Distribución",5,IF(E19="instalación",4,IF(E19="equipamiento",3,IF(E19="suelo",3,IF(E19="hueco",4,IF(E19="techo",2,IF(E19="puerta",2,IF(E19="pared",2,IF(E19="mobiliario",1,IF(E19="señalética",1,IF(E19="arte",1,0))))))))))) -> 4 | G19: Dispone de referencias puntuales de luz natural. | H19: 0 | I19: 1 | J19: 1 | K19: 0 | L19: Unidad de enfermería en hospitalización polivalente de agudos, in Estándares y recomendaciones, e.e.i. Informes, Editor. 2009, Ministerio de Sanidad y Política Social. | M19: 1 | N19: sí
A20: =A19+1 -> 6 | C20: Circulación | D20: Pasillo | E20: Instalación | F20: =IF(E20="Distribución",5,IF(E20="instalación",4,IF(E20="equipamiento",3,IF(E20="suelo",3,IF(E20="hueco",4,IF(E20="techo",2,IF(E20="puerta",2,IF(E20="pared",2,IF(E20="mobiliario",1,IF(E20="señalética",1,IF(E20="arte",1,0))))))))))) -> 4 | G20: Ventilado mecánicamente. | H20: 0 | I20: 0 | J20: 0 | K20: 1 | L20: Reglamento de instalaciones térmicas en los edificios (RITE), BOE-A-2007-15820, Editor. 2007, Ministerio de la Presidencia. | M20: 1 | N20: sí
A21: =A20+1 -> 7 | C21: Circulación | D21: Pasillo | E21: Instalación | F21: =IF(E21="Distribución",5,IF(E21="instalación",4,IF(E21="equipamiento",3,IF(E21="suelo",3,IF(E21="hueco",4,IF(E21="techo",2,IF(E21="puerta",2,IF(E21="pared",2,IF(E21="mobiliario",1,IF(E21="señalética",1,IF(E21="arte",1,0))))))))))) -> 4 | G21: La temperatura oscila entre los 20 y los 26 ºC. | H21: 1 | I21: 1 | J21: 0 | K21: 0 | L21: Autores CURARQ | M21: 1 | N21: sí
A22: =A21+1 -> 8 | C22: Circulación | D22: Pasillo | E22: Equipamiento | F22: =IF(E22="Distribución",5,IF(E22="instalación",4,IF(E22="equipamiento",3,IF(E22="suelo",3,IF(E22="hueco",4,IF(E22="techo",2,IF(E22="puerta",2,IF(E22="pared",2,IF(E22="mobiliario",1,IF(E22="señalética",1,IF(E22="arte",1,0))))))))))) -> 3 | G22: El nivel de iluminación mínimo a la altura del suelo es de 200 lux durante el día. | H22: 0 | I22: 1 | J22: 1 | K22: 0 | L22: (CIBSE), C.I.o.B.S.E. and T.S.o.L.a. Lighting, Lighting Guide 2: Hospitals and health care buildings. 2008. | M22: 1 | N22: sí
A23: =A22+1 -> 9 | C23: Circulación | D23: Pasillo | E23: Suelo | F23: =IF(E23="Distribución",5,IF(E23="instalación",4,IF(E23="equipamiento",3,IF(E23="suelo",3,IF(E23="hueco",4,IF(E23="techo",2,IF(E23="puerta",2,IF(E23="pared",2,IF(E23="mobiliario",1,IF(E23="señalética",1,IF(E23="arte",1,0))))))))))) -> 3 | G23: El suelo es continuo, las juntas están selladas y no hay cambios de nivel. | H23: 1 | I23: 1 | J23: 0 | K23: 1 | L23: Autores CURARQ | M23: 1 | N23: sí
A24: =A23+1 -> 10 | C24: Circulación | D24: Pasillo | E24: Suelo | F24: =IF(E24="Distribución",5,IF(E24="instalación",4,IF(E24="equipamiento",3,IF(E24="suelo",3,IF(E24="hueco",4,IF(E24="techo",2,IF(E24="puerta",2,IF(E24="pared",2,IF(E24="mobiliario",1,IF(E24="señalética",1,IF(E24="arte",1,0))))))))))) -> 3 | G24: Resistente a un uso intensivo. Liso, fácil de limpiar y sin apariencia clínica. | H24: 0 | I24: 0 | J24: 1 | K24: 1 | L24: Unidad de cuidados intensivos, in Estándares y recomendaciones, e.e.i. Informes, Editor. 2010, Ministerio de Sanidad y Política Social. | M24: 1 | N24: sí
A25: =A24+1 -> 11 | C25: Circulación | D25: Pasillo | E25: Suelo | F25: =IF(E25="Distribución",5,IF(E25="instalación",4,IF(E25="equipamiento",3,IF(E25="suelo",3,IF(E25="hueco",4,IF(E25="techo",2,IF(E25="puerta",2,IF(E25="pared",2,IF(E25="mobiliario",1,IF(E25="señalética",1,IF(E25="arte",1,0))))))))))) -> 3 | G25: (Sin estampados o texturas que puedan provocar una sobreestimulación no deseada)¹. (No brillante y su color contrasta con el de las paredes)². | H25: 0 | I25: 0 | J25: 1 | K25: 0 | L25: 1. HBN 08-02-1 Dementia-friendly Health and Social Care Environments. 2015, Department of Health UK 2. Patient-Led Assessments of the Care Environment. The Ward Assessment - Acute and Community Hospitals, Hospices and Treatment Centres. 2015, NHS England. | M25: 1 | N25: sí
A26: =A25+1 -> 12 | C26: Circulación | D26: Pasillo | E26: Techo | F26: =IF(E26="Distribución",5,IF(E26="instalación",4,IF(E26="equipamiento",3,IF(E26="suelo",3,IF(E26="hueco",4,IF(E26="techo",2,IF(E26="puerta",2,IF(E26="pared",2,IF(E26="mobiliario",1,IF(E26="señalética",1,IF(E26="arte",1,0))))))))))) -> 2 | G26: (Sin iluminación artificial directa y uniforme ya que puede crear un efecto estroboscópico en los pacientes que circulan en silla de ruedas o camas. Se utiliza luz difusa y reflejada)¹. (El falso techo se encuentra en buen estado)². | H26: 0 | I26: 0 | J26: 1 | K26: 1 | L26: 1. Friendly healthcare environments for children and young people. 2004, NHS Estates. 2. Patient-Led Assessments of the Care Environment. The Ward Assessment - Acute and Community Hospitals, Hospices and Treatment Centres. 2015, NHS England. | M26: 1 | N26: sí
A27: 13 | C27: Circulación | D27: Pasillo | E27: Pared | F27: =IF(E27="Distribución",5,IF(E27="instalación",4,IF(E27="equipamiento",3,IF(E27="suelo",3,IF(E27="hueco",4,IF(E27="techo",2,IF(E27="puerta",2,IF(E27="pared",2,IF(E27="mobiliario",1,IF(E27="señalética",1,IF(E27="arte",1,0))))))))))) -> 2 | G27: Las paredes se pueden lavar con agua, son durables, resistentes al impacto de carros y equipos móviles. (Las zonas más propensas al choque de carros y equipos móviles están reforzadas para resistir los impactos. Protecciones de esquinas y paredes)¹. (Las protecciones no sobresalen ni suponen un riesgo)4. (La pintura está en buen estado de conservación, sin marcas como ralladuras o arañazos ni otros desperfectos)³. | H27: 1 | I27: 0 | J27: 0 | K27: 1 | L27: 1. Unidad de enfermería en hospitalización polivalente de agudos, in Estándares y recomendaciones, e.e.i. Informes, Editor. 2009, Ministerio de Sanidad y Política Social 2. Health, N.E.a.E.A.o.t.D.o., HBN 23 Hospital accommodation for children and young people. 2004 3. Patient-Led Assessments of the Care Environment. The Ward Assessment - Acute and Community Hospitals, Hospices and Treatment Centres. 2015, NHS England. 4. Autores CURARQ | M27: 1 | N27: sí
A28: 14 | C28: Circulación | D28: Pasillo | E28: Pared | F28: =IF(E28="Distribución",5,IF(E28="instalación",4,IF(E28="equipamiento",3,IF(E28="suelo",3,IF(E28="hueco",4,IF(E28="techo",2,IF(E28="puerta",2,IF(E28="pared",2,IF(E28="mobiliario",1,IF(E28="señalética",1,IF(E28="arte",1,0))))))))))) -> 2 | G28: El blanco es el color base de la unidad. Sin estampados que provoquen una sobreestimulación no deseada. No brillante y con alto contraste. Su color contrasta con el del suelo. | H28: 0 | I28: 0 | J28: 1 | K28: 0 | L28: HBN 08-02-1 Dementia-friendly Health and Social Care Environments. 2015, Department of Health UK. | M28: 1 | N28: sí
A29: =A28+1 -> 15 | C29: Circulación | D29: Pasillo | E29: Pared | F29: =IF(E29="Distribución",5,IF(E29="instalación",4,IF(E29="equipamiento",3,IF(E29="suelo",3,IF(E29="hueco",4,IF(E29="techo",2,IF(E29="puerta",2,IF(E29="pared",2,IF(E29="mobiliario",1,IF(E29="señalética",1,IF(E29="arte",1,0))))))))))) -> 2 | G29: Pasamanos a ambos lados. Su color contrasta con el de la pared. | H29: 1 | I29: 0 | J29: 0 | K29: 0 | L29: HBN 08-02-1 Dementia-friendly Health and Social Care Environments. 2015, Department of Health UK. | M29: 1 | N29: sí
A30: =A29+1 -> 16 | C30: Circulación | D30: Pasillo | E30: Pared | F30: =IF(E30="Distribución",5,IF(E30="instalación",4,IF(E30="equipamiento",3,IF(E30="suelo",3,IF(E30="hueco",4,IF(E30="techo",2,IF(E30="puerta",2,IF(E30="pared",2,IF(E30="mobiliario",1,IF(E30="señalética",1,IF(E30="arte",1,0))))))))))) -> 2 | G30: Pasamano doble, uno a la altura de las personas adultas y otro a la de los/las niños/as. | H30: 1 | I30: 0 | J30: 1 | K30: 0 | L30: Autores CURARQ | M30: 1 | N30: no | O30: No cumple.
A31: =A30+1 -> 17 | C31: Circulación | D31: Pasillo | E31: Pared | F31: =IF(E31="Distribución",5,IF(E31="instalación",4,IF(E31="equipamiento",3,IF(E31="suelo",3,IF(E31="hueco",4,IF(E31="techo",2,IF(E31="puerta",2,IF(E31="pared",2,IF(E31="mobiliario",1,IF(E31="señalética",1,IF(E31="arte",1,0))))))))))) -> 2 | G31: El rodapié contrasta con el color del suelo y la pared para diferenciar mejor los elementos. | H31: 1 | I31: 0 | J31: 0 | K31: 0 | L31: HBN 08-02-1 Dementia-friendly Health and Social Care Environments. 2015, Department of Health UK. | M31: 1 | N31: no | O31: Contrasta con el color de la pared pero no con el color del suelo.
A32: =A31+1 -> 18 | C32: Circulación | D32: Pasillo | E32: Puerta | F32: =IF(E32="Distribución",5,IF(E32="instalación",4,IF(E32="equipamiento",3,IF(E32="suelo",3,IF(E32="hueco",4,IF(E32="techo",2,IF(E32="puerta",2,IF(E32="pared",2,IF(E32="mobiliario",1,IF(E32="señalética",1,IF(E32="arte",1,0))))))))))) -> 2 | G32: Las puertas de sectorización de incendios disponen de retenedores y quedan en el interior del plano de los paramentos de forma que no disminuye el ancho útil del pasillo. | H32: 1 | I32: 0 | J32: 0 | K32: 1 | L32: Unidad de enfermería en hospitalización polivalente de agudos, in Estándares y recomendaciones, e.e.i. Informes, Editor. 2009, Ministerio de Sanidad y Política Social. | M32: 1 | N32: sí
A33: =A32+1 -> 19 | C33: Circulación | D33: Pasillo | E33: Puerta | F33: =IF(E33="Distribución",5,IF(E33="instalación",4,IF(E33="equipamiento",3,IF(E33="suelo",3,IF(E33="hueco",4,IF(E33="techo",2,IF(E33="puerta",2,IF(E33="pared",2,IF(E33="mobiliario",1,IF(E33="señalética",1,IF(E33="arte",1,0))))))))))) -> 2 | G33: Las puertas de acceso a la zona de juego exterior permiten el paso de pacientes encamados o en silla de ruedas. | H33: 1 | I33: 0 | J33: 1 | K33: 0 | L33: Health, N.E.a.E.A.o.t.D.o., HBN 23 Hospital accommodation for children and young people. 2004. | M33: 1 | N33: n.a. | O33: No hay zona de juegos exterior.
A34: =A33+1 -> 20 | C34: Circulación | D34: Pasillo | E34: Arte | F34: =IF(E34="Distribución",5,IF(E34="instalación",4,IF(E34="equipamiento",3,IF(E34="suelo",3,IF(E34="hueco",4,IF(E34="techo",2,IF(E34="puerta",2,IF(E34="pared",2,IF(E34="mobiliario",1,IF(E34="señalética",1,IF(E34="arte",1,0))))))))))) -> 1 | G34: Incluye motivos artísticos adaptados a las edades de los/las niños/as. | H34: 0 | I34: 0 | J34: 1 | K34: 0 | L34: Health, N.E.a.E.A.o.t.D.o., HBN 23 Hospital accommodation for children and young people. 2004. | M34: 1 | N34: sí | O34: Pinturas en techos y paredes.
A35: 1 | C35: Acceso | D35: Entrada y vestíbulo | E35: Distribución | F35: =IF(E35="Distribución",5,IF(E35="instalación",4,IF(E35="equipamiento",3,IF(E35="suelo",3,IF(E35="hueco",4,IF(E35="techo",2,IF(E35="puerta",2,IF(E35="pared",2,IF(E35="mobiliario",1,IF(E35="señalética",1,IF(E35="arte",1,0))))))))))) -> 5 | G35: (Superficie útil en torno a 20 m². Espacio diáfano asociado a la circulación externa situado en la zona próxima al control de enfermería para que el personal pueda controlar el acceso a la unidad)¹. (El acceso público se produce por solo un punto. Fácil acceso desde la entrada general de hospitalización del edificio)². | H35: 0 | I35: 0 | J35: 1 | K35: 1 | L35: 1. Unidad de enfermería en hospitalización polivalente de agudos, in Estándares y recomendaciones, e.e.i. Informes, Editor. 2009, Ministerio de Sanidad y Política Social 2. Alliance, A.H.I., Part B - Health Facility Briefing and Planning 0340 - Inpatient Accommodation Unit, in Australasian Health Facility Guidelines. 2016 | M35: 1 | N35: sí | O35: Local compartido con la hospitalización obstétrica y de neonatología.
A36: =A35+1 -> 2 | C36: Acceso | D36: Entrada y vestíbulo | E36: Instalación | F36: =IF(E36="Distribución",5,IF(E36="instalación",4,IF(E36="equipamiento",3,IF(E36="suelo",3,IF(E36="hueco",4,IF(E36="techo",2,IF(E36="puerta",2,IF(E36="pared",2,IF(E36="mobiliario",1,IF(E36="señalética",1,IF(E36="arte",1,0))))))))))) -> 4 | G36: Ventilado mecánicamente. | H36: 0 | I36: 0 | J36: 0 | K36: 1 | L36: Reglamento de instalaciones térmicas en los edificios (RITE), BOE-A-2007-15820, Editor. 2007, Ministerio de la Presidencia. | M36: 1 | N36: sí
A37: =A36+1 -> 3 | C37: Acceso | D37: Entrada y vestíbulo | E37: Instalación | F37: =IF(E37="Distribución",5,IF(E37="instalación",4,IF(E37="equipamiento",3,IF(E37="suelo",3,IF(E37="hueco",4,IF(E37="techo",2,IF(E37="puerta",2,IF(E37="pared",2,IF(E37="mobiliario",1,IF(E37="señalética",1,IF(E37="arte",1,0))))))))))) -> 4 | G37: Protegido con sistema de seguridad, especialmente por la noche (tarjeta, CCTV, interfono u otro). | H37: 0 | I37: 1 | J37: 0 | K37: 1 | L37: Alliance, A.H.I., Part B - Health Facility Briefing and Planning 0340 - Inpatient Accommodation Unit, in Australasian Health Facility Guidelines. 2016 | M37: 1 | N37: no | O37: No tiene ningún sistema de seguridad.
A38: =A37+1 -> 4 | C38: Acceso | D38: Entrada y vestíbulo | E38: Señalética | F38: =IF(E38="Distribución",5,IF(E38="instalación",4,IF(E38="equipamiento",3,IF(E38="suelo",3,IF(E38="hueco",4,IF(E38="techo",2,IF(E38="puerta",2,IF(E38="pared",2,IF(E38="mobiliario",1,IF(E38="señalética",1,IF(E38="arte",1,0))))))))))) -> 1 | G38: Señal de dirección desde el punto de acceso a planta y señal de localización para identificar la unidad. Directorio a la salida del ascensor. | H38: 0 | I38: 1 | J38: 1 | K38: 0 | L38: Wayfinding: Effective wayfinding and signing systems Guidance for healthcare facilities 2nd edition. 2005, NHS Estates. | M38: 1 | N38: no | O38: Tiene directorio pero no señal de dirección ni señal de localización.
A39: =A38+1 -> 5 | C39: Acceso | D39: Estar de familiares | E39: Distribución | F39: =IF(E39="Distribución",5,IF(E39="instalación",4,IF(E39="equipamiento",3,IF(E39="suelo",3,IF(E39="hueco",4,IF(E39="techo",2,IF(E39="puerta",2,IF(E39="pared",2,IF(E39="mobiliario",1,IF(E39="señalética",1,IF(E39="arte",1,0))))))))))) -> 5 | G39: (Superficie útil en torno a 30 m². Si aproximadamente el 50 % de las habitaciones de pacientes son de uso individual, puede compartirse con pacientes ingresados. Acceso desde el vestíbulo de entrada)¹. (Cercano al mostrador)². | H39: 0 | I39: 0 | J39: 1 | K39: 0 | L39: 1. Unidad de enfermería en hospitalización polivalente de agudos, in Estándares y recomendaciones, e.e.i. Informes, Editor. 2009, Ministerio de Sanidad y Política Social. 2. HBN 04-01 Adult in-patient facilities. 2013, Department of Health. | M39: 1 | N39: sí
A40: =A39+1 -> 6 | C40: Acceso | D40: Estar de familiares | E40: Distribución | F40: =IF(E40="Distribución",5,IF(E40="instalación",4,IF(E40="equipamiento",3,IF(E40="suelo",3,IF(E40="hueco",4,IF(E40="techo",2,IF(E40="puerta",2,IF(E40="pared",2,IF(E40="mobiliario",1,IF(E40="señalética",1,IF(E40="arte",1,0))))))))))) -> 5 | G40: Zona de juego para niños/as y otra para adolescentes. Con juguetes apropiados y libros. | H40: 0 | I40: 0 | J40: 1 | K40: 0 | L40: Health, N.E.a.E.A.o.t.D.o., HBN 23 Hospital accommodation for children and young people. 2004. | M40: 1 | N40: no | O40: No cumple.
A41: =A40+1 -> 7 | C41: Acceso | D41: Estar de familiares | E41: Hueco | F41: =IF(E41="Distribución",5,IF(E41="instalación",4,IF(E41="equipamiento",3,IF(E41="suelo",3,IF(E41="hueco",4,IF(E41="techo",2,IF(E41="puerta",2,IF(E41="pared",2,IF(E41="mobiliario",1,IF(E41="señalética",1,IF(E41="arte",1,0))))))))))) -> 4 | G41: Iluminación natural. | H41: 0 | I41: 0 | J41: 1 | K41: 0 | L41: Unidad de enfermería en hospitalización polivalente de agudos, in Estándares y recomendaciones, e.e.i. Informes, Editor. 2009, Ministerio de Sanidad y Política Social. | M41: 1 | N41: sí
A42: =A41+1 -> 8 | C42: Acceso | D42: Estar de familiares | E42: Instalación | F42: =IF(E42="Distribución",5,IF(E42="instalación",4,IF(E42="equipamiento",3,IF(E42="suelo",3,IF(E42="hueco",4,IF(E42="techo",2,IF(E42="puerta",2,IF(E42="pared",2,IF(E42="mobiliario",1,IF(E42="señalética",1,IF(E42="arte",1,0))))))))))) -> 4 | G42: Ventilado mecánicamente. | H42: 0 | I42: 0 | J42: 0 | K42: 1 | L42: Reglamento de instalaciones térmicas en los edificios (RITE), BOE-A-2007-15820, Editor. 2007, Ministerio de la Presidencia. | M42: 1 | N42: sí
A43: =A42+1 -> 9 | C43: Acceso | D43: Estar de familiares | E43: Equipamiento | F43: =IF(E43="Distribución",5,IF(E43="instalación",4,IF(E43="equipamiento",3,IF(E43="suelo",3,IF(E43="hueco",4,IF(E43="techo",2,IF(E43="puerta",2,IF(E43="pared",2,IF(E43="mobiliario",1,IF(E43="señalética",1,IF(E43="arte",1,0))))))))))) -> 3 | G43: Tomas eléctricas y wifi. | H43: 0 | I43: 0 | J43: 1 | K43: 0 | L43: Autores CURARQ | M43: 1 | N43: sí
A44: =A43+1 -> 10 | C44: Acceso | D44: Estar de familiares | E44: Equipamiento | F44: =IF(E44="Distribución",5,IF(E44="instalación",4,IF(E44="equipamiento",3,IF(E44="suelo",3,IF(E44="hueco",4,IF(E44="techo",2,IF(E44="puerta",2,IF(E44="pared",2,IF(E44="mobiliario",1,IF(E44="señalética",1,IF(E44="arte",1,0))))))))))) -> 3 | G44: (Fuente de agua fría y máquinas expendedoras de bebidas)¹ (y comida saludable)². | H44: 0 | I44: 0 | J44: 1 | K44: 0 | L44: 1. Unidad de enfermería en hospitalización polivalente de agudos, in Estándares y recomendaciones, e.e.i. Informes, Editor. 2009, Ministerio de Sanidad y Política Social. 2. Autores CURARQ | M44: 1 | N44: no | O44: Le falta la fuente de agua.
A45: =A44+1 -> 11 | C45: Acceso | D45: Estar de familiares | E45: Mobiliario | F45: =IF(E45="Distribución",5,IF(E45="instalación",4,IF(E45="equipamiento",3,IF(E45="suelo",3,IF(E45="hueco",4,IF(E45="techo",2,IF(E45="puerta",2,IF(E45="pared",2,IF(E45="mobiliario",1,IF(E45="señalética",1,IF(E45="arte",1,0))))))))))) -> 1 | G45: (Sillas sin ruedas)¹. (Los asientos se encuentran en buen estado, sin marcas, ralladuras u otros desperfectos)². (Los usuarios con sillas de ruedas se pueden integrar en la distribución de los asientos de la sala)³. (Mesas de estar, papelera y arte)¹. | H45: 0 | I45: 0 | J45: 1 | K45: 1 | L45: 1. Unidad de enfermería en hospitalización polivalente de agudos, in Estándares y recomendaciones, e.e.i. Informes, Editor. 2009, Ministerio de Sanidad y Política Social 2. Patient-Led Assessments of the Care Environment. The Ward Assessment - Acute and Community Hospitals, Hospices and Treatment Centres. 2015, NHS England 3. Lewis, A., EVOLVE: a tool for evaluating the design of older people´s housing. Housing, Care and Support, 2010. | M45: 1 | N45: no | O45: No hay mesas de estar.
A46: =A45+1 -> 12 | C46: Acceso | D46: Despacho información | E46: Distribución | F46: =IF(E46="Distribución",5,IF(E46="instalación",4,IF(E46="equipamiento",3,IF(E46="suelo",3,IF(E46="hueco",4,IF(E46="techo",2,IF(E46="puerta",2,IF(E46="pared",2,IF(E46="mobiliario",1,IF(E46="señalética",1,IF(E46="arte",1,0))))))))))) -> 5 | G46: Superficie útil en torno a 12 m². | H46: 0 | I46: 1 | J46: 1 | K46: 0 | L46: Unidad de enfermería en hospitalización polivalente de agudos, in Estándares y recomendaciones, e.e.i. Informes, Editor. 2009, Ministerio de Sanidad y Política Social. | M46: 1 | N46: no | O46: La unidad no tiene este local. Lo que iba a ser despacho se utiliza para la exploración ginecológica.
A47: =A46+1 -> 13 | C47: Acceso | D47: Despacho información | E47: Distribución | F47: =IF(E47="Distribución",5,IF(E47="instalación",4,IF(E47="equipamiento",3,IF(E47="suelo",3,IF(E47="hueco",4,IF(E47="techo",2,IF(E47="puerta",2,IF(E47="pared",2,IF(E47="mobiliario",1,IF(E47="señalética",1,IF(E47="arte",1,0))))))))))) -> 5 | G47: Condiciones de privacidad adecuada. Ambiente cálido y residencial. | H47: 0 | I47: 0 | J47: 1 | K47: 0 | L47: Unidad de enfermería en hospitalización polivalente de agudos, in Estándares y recomendaciones, e.e.i. Informes, Editor. 2009, Ministerio de Sanidad y Política Social. | M47: 1 | N47: no | O47: No cumple.
A48: =A47+1 -> 14 | C48: Acceso | D48: Despacho información | E48: Instalación | F48: =IF(E48="Distribución",5,IF(E48="instalación",4,IF(E48="equipamiento",3,IF(E48="suelo",3,IF(E48="hueco",4,IF(E48="techo",2,IF(E48="puerta",2,IF(E48="pared",2,IF(E48="mobiliario",1,IF(E48="señalética",1,IF(E48="arte",1,0))))))))))) -> 4 | G48: Ventilado mecánicamente. | H48: 0 | I48: 0 | J48: 0 | K48: 1 | L48: Reglamento de instalaciones térmicas en los edificios (RITE), BOE-A-2007-15820, Editor. 2007, Ministerio de la Presidencia. | M48: 1 | N48: no | O48: No cumple.
A49: =A48+1 -> 15 | C49: Acceso | D49: Despacho información | E49: Instalación | F49: =IF(E49="Distribución",5,IF(E49="instalación",4,IF(E49="equipamiento",3,IF(E49="suelo",3,IF(E49="hueco",4,IF(E49="techo",2,IF(E49="puerta",2,IF(E49="pared",2,IF(E49="mobiliario",1,IF(E49="señalética",1,IF(E49="arte",1,0))))))))))) -> 4 | G49: Conexiones eléctricas, de transmisiones y comunicaciones. | H49: 0 | I49: 1 | J49: 0 | K49: 0 | L49: Autores CURARQ | M49: 1 | N49: no | O49: No cumple.
A50: =A49+1 -> 16 | C50: Acceso | D50: Despacho información | E50: Mobiliario | F50: =IF(E50="Distribución",5,IF(E50="instalación",4,IF(E50="equipamiento",3,IF(E50="suelo",3,IF(E50="hueco",4,IF(E50="techo",2,IF(E50="puerta",2,IF(E50="pared",2,IF(E50="mobiliario",1,IF(E50="señalética",1,IF(E50="arte",1,0))))))))))) -> 1 | G50: Mesa de trabajo, sillas y sillón ergonómico. | H50: 0 | I50: 1 | J50: 0 | K50: 0 | L50: Unidad de enfermería en hospitalización polivalente de agudos, in Estándares y recomendaciones, e.e.i. Informes, Editor. 2009, Ministerio de Sanidad y Política Social. | M50: 1 | N50: no | O50: No cumple.
A51: =A50+1 -> 17 | C51: Acceso | D51: Aseo público | E51: Distribución | F51: =IF(E51="Distribución",5,IF(E51="instalación",4,IF(E51="equipamiento",3,IF(E51="suelo",3,IF(E51="hueco",4,IF(E51="techo",2,IF(E51="puerta",2,IF(E51="pared",2,IF(E51="mobiliario",1,IF(E51="señalética",1,IF(E51="arte",1,0))))))))))) -> 5 | G51: (Superficie útil en torno a 4 m² por aseo)¹. (Exclusivos para cada sexo)². (Mínimo de dos)¹. | H51: 0 | I51: 0 | J51: 1 | K51: 0 | L51: 1. Unidad de enfermería en hospitalización polivalente de agudos, in Estándares y recomendaciones, e.e.i. Informes, Editor. 2009, Ministerio de Sanidad y Política Social. 2. Patient-Led Assessments of the Care Environment. The Ward Assessment - Acute and Community Hospitals, Hospices and Treatment Centres. 2015, NHS England. | M51: 1 | N51: sí
A52: =A51+1 -> 18 | C52: Acceso | D52: Aseo público | E52: Distribución | F52: =IF(E52="Distribución",5,IF(E52="instalación",4,IF(E52="equipamiento",3,IF(E52="suelo",3,IF(E52="hueco",4,IF(E52="techo",2,IF(E52="puerta",2,IF(E52="pared",2,IF(E52="mobiliario",1,IF(E52="señalética",1,IF(E52="arte",1,0))))))))))) -> 5 | G52: (Ubicado junto a la sala de estar de familiares)¹ .(Fácil de identificar desde la sala de estar o el pasillo interno)². | H52: 0 | I52: 0 | J52: 1 | K52: 0 | L52: 1. Unidad de enfermería en hospitalización polivalente de agudos, in Estándares y recomendaciones, e.e.i. Informes, Editor. 2009, Ministerio de Sanidad y Política Social. 2. HBN 08-02-1 Dementia-friendly Health and Social Care Environments. 2015, Department of Health UK. | M52: 1 | N52: sí
A53: =A52+1 -> 19 | C53: Acceso | D53: Aseo público | E53: Instalación | F53: =IF(E53="Distribución",5,IF(E53="instalación",4,IF(E53="equipamiento",3,IF(E53="suelo",3,IF(E53="hueco",4,IF(E53="techo",2,IF(E53="puerta",2,IF(E53="pared",2,IF(E53="mobiliario",1,IF(E53="señalética",1,IF(E53="arte",1,0))))))))))) -> 4 | G53: Ventilado mecánicamente. | H53: 0 | I53: 0 | J53: 0 | K53: 1 | L53: Reglamento de instalaciones térmicas en los edificios (RITE), BOE-A-2007-15820, Editor. 2007, Ministerio de la Presidencia. | M53: 1 | N53: sí
A54: =A53+1 -> 20 | C54: Acceso | D54: Aseo público | E54: Equipamiento | F54: =IF(E54="Distribución",5,IF(E54="instalación",4,IF(E54="equipamiento",3,IF(E54="suelo",3,IF(E54="hueco",4,IF(E54="techo",2,IF(E54="puerta",2,IF(E54="pared",2,IF(E54="mobiliario",1,IF(E54="señalética",1,IF(E54="arte",1,0))))))))))) -> 3 | G54: (Lavabo e inodoro)¹ (en buen estado de conservación)². | H54: 0 | I54: 0 | J54: 1 | K54: 1 | L54: 1. Unidad de enfermería en hospitalización polivalente de agudos, in Estándares y recomendaciones, e.e.i. Informes, Editor. 2009, Ministerio de Sanidad y Política Social. 2. Patient-Led Assessments of the Care Environment. The Ward Assessment - Acute and Community Hospitals, Hospices and Treatment Centres. 2015, NHS England. | M54: 1 | N54: sí
A55: =A54+1 -> 21 | C55: Acceso | D55: Aseo público | E55: Puerta | F55: =IF(E55="Distribución",5,IF(E55="instalación",4,IF(E55="equipamiento",3,IF(E55="suelo",3,IF(E55="hueco",4,IF(E55="techo",2,IF(E55="puerta",2,IF(E55="pared",2,IF(E55="mobiliario",1,IF(E55="señalética",1,IF(E55="arte",1,0))))))))))) -> 2 | G55: Los sistemas de cierre funcionan correctamente. | H55: 0 | I55: 0 | J55: 0 | K55: 1 | L55: Patient-Led Assessments of the Care Environment. The Ward Assessment - Acute and Community Hospitals, Hospices and Treatment Centres. 2015, NHS England. | M55: 1 | N55: sí
A56: =A55+1 -> 22 | C56: Acceso | D56: Aseo público | E56: Mobiliario | F56: =IF(E56="Distribución",5,IF(E56="instalación",4,IF(E56="equipamiento",3,IF(E56="suelo",3,IF(E56="hueco",4,IF(E56="techo",2,IF(E56="puerta",2,IF(E56="pared",2,IF(E56="mobiliario",1,IF(E56="señalética",1,IF(E56="arte",1,0))))))))))) -> 1 | G56: Cambiador de pañales | H56: 0 | I56: 0 | J56: 1 | K56: 0 | L56: Friendly healthcare environments for children and young people. 2004, NHS Estates. | M56: 1 | N56: no | O56: No cumple.
A57: =A56+1 -> 23 | C57: Acceso | D57: Aseo público | E57: Mobiliario | F57: =IF(E57="Distribución",5,IF(E57="instalación",4,IF(E57="equipamiento",3,IF(E57="suelo",3,IF(E57="hueco",4,IF(E57="techo",2,IF(E57="puerta",2,IF(E57="pared",2,IF(E57="mobiliario",1,IF(E57="señalética",1,IF(E57="arte",1,0))))))))))) -> 1 | G57: Dispensador de jabón, de papel higiénico y de toallas de papel. Escobilla y papelera preferiblemente con tapa. Espejo y percha. | H57: 0 | I57: 0 | J57: 1 | K57: 0 | L57: Unidad de enfermería en hospitalización polivalente de agudos, in Estándares y recomendaciones, e.e.i. Informes, Editor. 2009, Ministerio de Sanidad y Política Social. | M57: 1 | N57: no | O57: Falta la percha.
A58: =A57+1 -> 24 | C58: Acceso | D58: Lactancia y alimentación | E58: Distribución | F58: =IF(E58="Distribución",5,IF(E58="instalación",4,IF(E58="equipamiento",3,IF(E58="suelo",3,IF(E58="hueco",4,IF(E58="techo",2,IF(E58="puerta",2,IF(E58="pared",2,IF(E58="mobiliario",1,IF(E58="señalética",1,IF(E58="arte",1,0))))))))))) -> 5 | G58: Espacio para giro de una silla de ruedas de 1,50 m de diámetro, libre de obstáculos desde el nivel del suelo en toda su altura. | H58: 0 | I58: 0 | J58: 1 | K58: 0 | L58: Health, N.E.a.E.A.o.t.D.o., HBN 23 Hospital accommodation for children and young people. 2004. | M58: 1 | N58: no | O58: La unidad no tiene este local.
A59: =A58+1 -> 25 | C59: Acceso | D59: Lactancia y alimentación | E59: Instalación | F59: =IF(E59="Distribución",5,IF(E59="instalación",4,IF(E59="equipamiento",3,IF(E59="suelo",3,IF(E59="hueco",4,IF(E59="techo",2,IF(E59="puerta",2,IF(E59="pared",2,IF(E59="mobiliario",1,IF(E59="señalética",1,IF(E59="arte",1,0))))))))))) -> 4 | G59: Ventilado mecánicamente. | H59: 0 | I59: 0 | J59: 0 | K59: 1 | L59: Reglamento de instalaciones térmicas en los edificios (RITE), BOE-A-2007-15820, Editor. 2007, Ministerio de la Presidencia. | M59: 1 | N59: no | O59: No cumple.
A60: =A59+1 -> 26 | C60: Acceso | D60: Lactancia y alimentación | E60: Equipamiento | F60: =IF(E60="Distribución",5,IF(E60="instalación",4,IF(E60="equipamiento",3,IF(E60="suelo",3,IF(E60="hueco",4,IF(E60="techo",2,IF(E60="puerta",2,IF(E60="pared",2,IF(E60="mobiliario",1,IF(E60="señalética",1,IF(E60="arte",1,0))))))))))) -> 3 | G60: Iluminación indirecta graduable. | H60: 0 | I60: 0 | J60: 1 | K60: 0 | L60: Health, N.E.a.E.A.o.t.D.o., HBN 23 Hospital accommodation for children and young people. 2004. | M60: 1 | N60: no | O60: No cumple.
A61: =A60+1 -> 27 | C61: Acceso | D61: Lactancia y alimentación | E61: Equipamiento | F61: =IF(E61="Distribución",5,IF(E61="instalación",4,IF(E61="equipamiento",3,IF(E61="suelo",3,IF(E61="hueco",4,IF(E61="techo",2,IF(E61="puerta",2,IF(E61="pared",2,IF(E61="mobiliario",1,IF(E61="señalética",1,IF(E61="arte",1,0))))))))))) -> 3 | G61: (Lavabo. Encimera o mueble donde colocar bolsas o botellas para la preparación de la comida)¹. (Cambiador de pañales)². | H61: 0 | I61: 0 | J61: 1 | K61: 0 | L61: 1. Health, N.E.a.E.A.o.t.D.o., HBN 23 Hospital accommodation for children and young people. 2004 2. Friendly healthcare environments for children and young people. 2004, NHS Estates. | M61: 1 | N61: no | O61: No cumple.
A62: =A61+1 -> 28 | C62: Acceso | D62: Lactancia y alimentación | E62: Mobiliario | F62: =IF(E62="Distribución",5,IF(E62="instalación",4,IF(E62="equipamiento",3,IF(E62="suelo",3,IF(E62="hueco",4,IF(E62="techo",2,IF(E62="puerta",2,IF(E62="pared",2,IF(E62="mobiliario",1,IF(E62="señalética",1,IF(E62="arte",1,0))))))))))) -> 1 | G62: Dispensador de jabón y de toallas de papel. Papelera y percha | H62: 0 | I62: 0 | J62: 1 | K62: 0 | L62: Health, N.E.a.E.A.o.t.D.o., HBN 23 Hospital accommodation for children and young people. 2004. | M62: 1 | N62: no | O62: No cumple.
A63: =A62+1 -> 29 | C63: Acceso | D63: Lactancia y alimentación | E63: Mobiliario | F63: =IF(E63="Distribución",5,IF(E63="instalación",4,IF(E63="equipamiento",3,IF(E63="suelo",3,IF(E63="hueco",4,IF(E63="techo",2,IF(E63="puerta",2,IF(E63="pared",2,IF(E63="mobiliario",1,IF(E63="señalética",1,IF(E63="arte",1,0))))))))))) -> 1 | G63: Asiento cómodo. Elementos móviles con motivos artísticos. | H63: 0 | I63: 0 | J63: 1 | K63: 0 | L63: Health, N.E.a.E.A.o.t.D.o., HBN 23 Hospital accommodation for children and young people. 2004. | M63: 1 | N63: no | O63: No cumple.
A64: =A63+1 -> 30 | C64: Acceso | D64: Lactancia y alimentación | E64: Mobiliario | F64: =IF(E64="Distribución",5,IF(E64="instalación",4,IF(E64="equipamiento",3,IF(E64="suelo",3,IF(E64="hueco",4,IF(E64="techo",2,IF(E64="puerta",2,IF(E64="pared",2,IF(E64="mobiliario",1,IF(E64="señalética",1,IF(E64="arte",1,0))))))))))) -> 1 | G64: Las superficies de los asientos y demás mobiliario se pueden desinfectar con facilidad, se utilizan materiales fáciles de limpiar. | H64: 0 | I64: 0 | J64: 0 | K64: 1 | L64: Unidades de neonatología, in Estándares y recomendaciones de calidad, e.e.i. Informes, Editor. 2014, Ministerio de Sanidad, Servicios Sociales e Igualdad. | M64: 1 | N64: no | O64: No cumple.
A65: 1 | C65: Pacientes y familiares | D65: Habitación de paciente | E65: Distribución | F65: =IF(E65="Distribución",5,IF(E65="instalación",4,IF(E65="equipamiento",3,IF(E65="suelo",3,IF(E65="hueco",4,IF(E65="techo",2,IF(E65="puerta",2,IF(E65="pared",2,IF(E65="mobiliario",1,IF(E65="señalética",1,IF(E65="arte",1,0))))))))))) -> 5 | G65: Agrupadas en torno al control de enfermería de la unidad. | H65: 1 | I65: 1 | J65: 0 | K65: 0 | L65: Unidad de enfermería en hospitalización polivalente de agudos, in Estándares y recomendaciones, e.e.i. Informes, Editor. 2009, Ministerio de Sanidad y Política Social. | M65: 1 | N65: sí
A66: =A65+1 -> 2 | C66: Pacientes y familiares | D66: Habitación de paciente | E66: Distribución | F66: =IF(E66="Distribución",5,IF(E66="instalación",4,IF(E66="equipamiento",3,IF(E66="suelo",3,IF(E66="hueco",4,IF(E66="techo",2,IF(E66="puerta",2,IF(E66="pared",2,IF(E66="mobiliario",1,IF(E66="señalética",1,IF(E66="arte",1,0))))))))))) -> 5 | G66: Todas las habitaciones son de uso potencial doble. | H66: 1 | I66: 1 | J66: 1 | K66: 0 | L66: 1. Unidad de enfermería en hospitalización polivalente de agudos, in Estándares y recomendaciones, e.e.i. Informes, Editor. 2009, Ministerio de Sanidad y Política Social. | M66: 1 | N66: sí
A67: =A66+1 -> 3 | C67: Pacientes y familiares | D67: Habitación de paciente | E67: Distribución | F67: =IF(E67="Distribución",5,IF(E67="instalación",4,IF(E67="equipamiento",3,IF(E67="suelo",3,IF(E67="hueco",4,IF(E67="techo",2,IF(E67="puerta",2,IF(E67="pared",2,IF(E67="mobiliario",1,IF(E67="señalética",1,IF(E67="arte",1,0))))))))))) -> 5 | G67: Habitación individual para pacientes inmunodeprimidos (oncológicos principalmente). Solo aplicable si la cartera de servicios del hospital incluye la oncología pediátrica. | H67: 1 | I67: 1 | J67: 0 | K67: 0 | L67: UTE, J. Navarro Baldeweg, and Á. Fernández Alba, Programa Funcional Hospital Universitario Central de Asturias. 2003. | M67: 1 | N67: n.a.
A68: =A67+1 -> 4 | C68: Pacientes y familiares | D68: Habitación de paciente | E68: Distribución | F68: =IF(E68="Distribución",5,IF(E68="instalación",4,IF(E68="equipamiento",3,IF(E68="suelo",3,IF(E68="hueco",4,IF(E68="techo",2,IF(E68="puerta",2,IF(E68="pared",2,IF(E68="mobiliario",1,IF(E68="señalética",1,IF(E68="arte",1,0))))))))))) -> 5 | G68: La superficie útil mínima de la habitación individual es de 16,5 m2 . El largo mínimo de la habitación es de 4 m y el ancho mayor o igual a 3,45 m (con una cama de 2,2 m de largo) o a 3,6 m (con una cama de 2,4 m de largo). | H68: 1 | I68: 1 | J68: 0 | K68: 0 | L68: Unidad de enfermería en hospitalización polivalente de agudos, in Estándares y recomendaciones, e.e.i. Informes, Editor. 2009, Ministerio de Sanidad y Política Social. | M68: 1 | N68: sí | O68: Aunque el ancho es de 3,31 m.
A69: =A68+1 -> 5 | C69: Pacientes y familiares | D69: Habitación de paciente | E69: Distribución | F69: =IF(E69="Distribución",5,IF(E69="instalación",4,IF(E69="equipamiento",3,IF(E69="suelo",3,IF(E69="hueco",4,IF(E69="techo",2,IF(E69="puerta",2,IF(E69="pared",2,IF(E69="mobiliario",1,IF(E69="señalética",1,IF(E69="arte",1,0))))))))))) -> 5 | G69: (La superficie útil mínima de la habitación doble es de 22 m2 . El largo mínimo de la habitación es de 5,40 m y el ancho mayor o igual a 3,6 m)¹. (Distancia mínima de 1,2 m desde el lado corto de la cama hasta la pared. Distancia mínima entre el centro de las camas de 2,4 m)². | H69: 1 | I69: 1 | J69: 0 | K69: 0 | L69: 1. Unidad de enfermería en hospitalización polivalente de agudos, in Estándares y recomendaciones, e.e.i. Informes, Editor. 2009, Ministerio de Sanidad y Política Social 2. Alliance, A.H.I., Part B - Health Facility Briefing and Planning 0340 - Inpatient Accommodation Unit, in Australasian Health Facility Guidelines. 2016 | M69: 1 | N69: sí | O69: Aunque mide 20,7 m2
A70: =A69+1 -> 6 | C70: Pacientes y familiares | D70: Habitación de paciente | E70: Distribución | F70: =IF(E70="Distribución",5,IF(E70="instalación",4,IF(E70="equipamiento",3,IF(E70="suelo",3,IF(E70="hueco",4,IF(E70="techo",2,IF(E70="puerta",2,IF(E70="pared",2,IF(E70="mobiliario",1,IF(E70="señalética",1,IF(E70="arte",1,0))))))))))) -> 5 | G70: La habitación tiene un espacio para la cama y el trabajo asistencial de 12 m2 (un cuadrado de 3,45 m de lado). A cada lado de la cama existe un espacio libre mínimo de 1,2 m para asegurar el acceso de equipos y personal asistencial al paciente. | H70: 0 | I70: 1 | J70: 0 | K70: 0 | L70: Unidad de enfermería en hospitalización polivalente de agudos, in Estándares y recomendaciones, e.e.i. Informes, Editor. 2009, Ministerio de Sanidad y Política Social. | M70: 1 | N70: sí | O70: Aunque el ancho es de 3,31 m.
A71: =A70+1 -> 7 | C71: Pacientes y familiares | D71: Habitación de paciente | E71: Distribución | F71: =IF(E71="Distribución",5,IF(E71="instalación",4,IF(E71="equipamiento",3,IF(E71="suelo",3,IF(E71="hueco",4,IF(E71="techo",2,IF(E71="puerta",2,IF(E71="pared",2,IF(E71="mobiliario",1,IF(E71="señalética",1,IF(E71="arte",1,0))))))))))) -> 5 | G71: Espacio para material diverso del paciente y/o acompañante (libros, periódicos, flores, comida no perecedera, radio, …). Espacio para acomodar a dos visitas por paciente. | H71: 0 | I71: 0 | J71: 1 | K71: 0 | L71: Unidad de enfermería en hospitalización polivalente de agudos, in Estándares y recomendaciones, e.e.i. Informes, Editor. 2009, Ministerio de Sanidad y Política Social. | M71: 1 | N71: sí
A72: =A71+1 -> 8 | C72: Pacientes y familiares | D72: Habitación de paciente | E72: Hueco | F72: =IF(E72="Distribución",5,IF(E72="instalación",4,IF(E72="equipamiento",3,IF(E72="suelo",3,IF(E72="hueco",4,IF(E72="techo",2,IF(E72="puerta",2,IF(E72="pared",2,IF(E72="mobiliario",1,IF(E72="señalética",1,IF(E72="arte",1,0))))))))))) -> 4 | G72: Iluminación natural. | H72: 0 | I72: 0 | J72: 1 | K72: 0 | L72: 1. Unidad de enfermería en hospitalización polivalente de agudos, in Estándares y recomendaciones, e.e.i. Informes, Editor. 2009, Ministerio de Sanidad y Política Social. 2. HBN 04-01 Adult in-patient facilities. 2013, Department of Health. | M72: 1 | N72: sí
A73: =A72+1 -> 9 | C73: Pacientes y familiares | D73: Habitación de paciente | E73: Hueco | F73: =IF(E73="Distribución",5,IF(E73="instalación",4,IF(E73="equipamiento",3,IF(E73="suelo",3,IF(E73="hueco",4,IF(E73="techo",2,IF(E73="puerta",2,IF(E73="pared",2,IF(E73="mobiliario",1,IF(E73="señalética",1,IF(E73="arte",1,0))))))))))) -> 4 | G73: Vistas a la naturaleza. | H73: 0 | I73: 0 | J73: 1 | K73: 0 | L73: Medical-Surgical Patient Room Annotation CHD (Dijkstra, Pieterse, & Pruyn, 2006; Lee et al., 2004; Miller, Hickman, & Lemasters, 1992; Schneider, Prince-Paul, Allen, Silverman, & Talaba, 2004; Tse, Ng, Chung & Wong, 2002; Ulrich, 1984; Ulrich, 1999; Ulrich, Lunden, Eltinge, 1993) | M73: 1 | N73: sí
A74: =A73+1 -> 10 | C74: Pacientes y familiares | D74: Habitación de paciente | E74: Hueco | F74: =IF(E74="Distribución",5,IF(E74="instalación",4,IF(E74="equipamiento",3,IF(E74="suelo",3,IF(E74="hueco",4,IF(E74="techo",2,IF(E74="puerta",2,IF(E74="pared",2,IF(E74="mobiliario",1,IF(E74="señalética",1,IF(E74="arte",1,0))))))))))) -> 4 | G74: (El diseño de la ventana permite la visión del exterior desde la cama)¹². (La altura de la ventana permite que desde el cabecero de la cama se pueden observar vistas hacia el exterior)²³. | H74: 0 | I74: 0 | J74: 1 | K74: 0 | L74: 1. Unidad de enfermería en hospitalización polivalente de agudos, in Estándares y recomendaciones, e.e.i. Informes, Editor. 2009, Ministerio de Sanidad y Política Social 2. HBN 04-01 Adult in-patient facilities. 2013, Department of Health. 3. UTE, J. Navarro Baldeweg, and Á. Fernández Alba, Programa Funcional Hospital Universitario Central de Asturias. 2003. | M74: 1 | N74: sí
A75: =A74+1 -> 11 | C75: Pacientes y familiares | D75: Habitación de paciente | E75: Hueco | F75: =IF(E75="Distribución",5,IF(E75="instalación",4,IF(E75="equipamiento",3,IF(E75="suelo",3,IF(E75="hueco",4,IF(E75="techo",2,IF(E75="puerta",2,IF(E75="pared",2,IF(E75="mobiliario",1,IF(E75="señalética",1,IF(E75="arte",1,0))))))))))) -> 4 | G75: Ventanas con alféizar bajo (altura máxima de 600 mm) y profundo para que los niños y niñas puedan distraerse mirando por la ventana. | H75: 0 | I75: 0 | J75: 1 | K75: 0 | L75: Health, N.E.a.E.A.o.t.D.o., HBN 23 Hospital accommodation for children and young people. 2004. | M75: 1 | N75: sí
A76: =A75+1 -> 12 | C76: Pacientes y familiares | D76: Habitación de paciente | E76: Hueco | F76: =IF(E76="Distribución",5,IF(E76="instalación",4,IF(E76="equipamiento",3,IF(E76="suelo",3,IF(E76="hueco",4,IF(E76="techo",2,IF(E76="puerta",2,IF(E76="pared",2,IF(E76="mobiliario",1,IF(E76="señalética",1,IF(E76="arte",1,0))))))))))) -> 4 | G76: Aislado acústicamente para evitar los ruidos del exterior. | H76: 0 | I76: 0 | J76: 1 | K76: 0 | L76: 1. Medical-Surgical Patient Room Annotation CHD 2. Documento Básico Protección frente al ruido (DBHR). 2009, Ministerio de Vivienda. | M76: 1 | N76: sí
A77: =A76+1 -> 13 | C77: Pacientes y familiares | D77: Habitación de paciente | E77: Hueco | F77: =IF(E77="Distribución",5,IF(E77="instalación",4,IF(E77="equipamiento",3,IF(E77="suelo",3,IF(E77="hueco",4,IF(E77="techo",2,IF(E77="puerta",2,IF(E77="pared",2,IF(E77="mobiliario",1,IF(E77="señalética",1,IF(E77="arte",1,0))))))))))) -> 4 | G77: Las ventanas practicable cuentan con un sistema de seguridad controlado por el personal. | H77: 1 | I77: 0 | J77: 0 | K77: 1 | L77: Social, M.d.S.y.P., Maternidad Hospitalaria Estándares y Recomendaciones. 2009: Madrid + Atención hospitalaria al parto, in Estándares y recomendaciones para maternidades hospitalarias, e.e.i. Informes, Editor. 2009, Ministerio de Sanidad y Política Social. | M77: 1 | N77: sí
A78: =A77+1 -> 14 | C78: Pacientes y familiares | D78: Habitación de paciente | E78: Hueco | F78: =IF(E78="Distribución",5,IF(E78="instalación",4,IF(E78="equipamiento",3,IF(E78="suelo",3,IF(E78="hueco",4,IF(E78="techo",2,IF(E78="puerta",2,IF(E78="pared",2,IF(E78="mobiliario",1,IF(E78="señalética",1,IF(E78="arte",1,0))))))))))) -> 4 | G78: (Sistema de control de la luz natural)¹. (Accesorios para poder oscurecer la habitación)²³ (incluso durante el día y facilitar el sueño a los pacientes)¹. | H78: 0 | I78: 0 | J78: 1 | K78: 0 | L78: 1. Alliance, A.H.I., Part B - Health Facility Briefing and Planning 0340 - Inpatient Accommodation Unit, in Australasian Health Facility Guidelines. 2016. 2. Unidad de enfermería en hospitalización polivalente de agudos, in Estándares y recomendaciones, e.e.i. Informes, Editor. 2009, Ministerio de Sanidad y Política Social. 3. HBN 04-01 Adult in-patient facilities. 2013, Department of Health. | M78: 1 | N78: sí
A79: =A78+1 -> 15 | C79: Pacientes y familiares | D79: Habitación de paciente | E79: Instalación | F79: =IF(E79="Distribución",5,IF(E79="instalación",4,IF(E79="equipamiento",3,IF(E79="suelo",3,IF(E79="hueco",4,IF(E79="techo",2,IF(E79="puerta",2,IF(E79="pared",2,IF(E79="mobiliario",1,IF(E79="señalética",1,IF(E79="arte",1,0))))))))))) -> 4 | G79: Ventilado mecánicamente. | H79: 0 | I79: 0 | J79: 0 | K79: 1 | L79: Reglamento de instalaciones térmicas en los edificios (RITE), BOE-A-2007-15820, Editor. 2007, Ministerio de la Presidencia. | M79: 1 | N79: sí
A80: =A79+1 -> 16 | C80: Pacientes y familiares | D80: Habitación de paciente | E80: Instalación | F80: =IF(E80="Distribución",5,IF(E80="instalación",4,IF(E80="equipamiento",3,IF(E80="suelo",3,IF(E80="hueco",4,IF(E80="techo",2,IF(E80="puerta",2,IF(E80="pared",2,IF(E80="mobiliario",1,IF(E80="señalética",1,IF(E80="arte",1,0))))))))))) -> 4 | G80: (La habitación dispone, sin cables por el suelo, de tomas eléctricas, control de iluminación, sistema de llamada a enfermería, gases medicinales (oxígeno y vacío) y panel con tomas)¹ (para transmisiones y comunicaciones)², | H80: 1 | I80: 1 | J80: 1 | K80: 0 | L80: 1. Unidad de enfermería en hospitalización polivalente de agudos, in Estándares y recomendaciones, e.e.i. Informes, Editor. 2009, Ministerio de Sanidad y Política Social 2. Autores CURARQ | M80: 1 | N80: n.a. | O80: Ítem posterior a la evaluación.
A81: =A80+1 -> 17 | C81: Pacientes y familiares | D81: Habitación de paciente | E81: Instalación | F81: =IF(E81="Distribución",5,IF(E81="instalación",4,IF(E81="equipamiento",3,IF(E81="suelo",3,IF(E81="hueco",4,IF(E81="techo",2,IF(E81="puerta",2,IF(E81="pared",2,IF(E81="mobiliario",1,IF(E81="señalética",1,IF(E81="arte",1,0))))))))))) -> 4 | G81: Según la cartera de servicios del hospital, las habitaciones de aislamiento tienen posibilidad de presión positiva o negativa. Presión negativa para habitaciones de infecciosos. Presión positiva para habitaciones de pacientes inmunodeprimidos. | H81: 1 | I81: 1 | J81: 0 | K81: 0 | L81: 1. Alliance, A.H.I., Part B - Health Facility Briefing and Planning 0340 - Inpatient Accommodation Unit, in Australasian Health Facility Guidelines. 2016 2. Medical-Surgical Patient Room Annotation CHD (Gustafson et al., 1982) | M81: 1 | N81: n.a.
A82: =A81+1 -> 18 | C82: Pacientes y familiares | D82: Habitación de paciente | E82: Equipamiento | F82: =IF(E82="Distribución",5,IF(E82="instalación",4,IF(E82="equipamiento",3,IF(E82="suelo",3,IF(E82="hueco",4,IF(E82="techo",2,IF(E82="puerta",2,IF(E82="pared",2,IF(E82="mobiliario",1,IF(E82="señalética",1,IF(E82="arte",1,0))))))))))) -> 3 | G82: La temperatura oscila entre los 20 y los 26 ºC. | H82: 0 | I82: 0 | J82: 1 | K82: 0 | L82: Autores CURARQ | M82: 1 | N82: sí
A83: =A82+1 -> 19 | C83: Pacientes y familiares | D83: Habitación de paciente | E83: Equipamiento | F83: =IF(E83="Distribución",5,IF(E83="instalación",4,IF(E83="equipamiento",3,IF(E83="suelo",3,IF(E83="hueco",4,IF(E83="techo",2,IF(E83="puerta",2,IF(E83="pared",2,IF(E83="mobiliario",1,IF(E83="señalética",1,IF(E83="arte",1,0))))))))))) -> 3 | G83: Sistema de gestión centralizado de instalaciones (temperatura) con regulación de ajuste local desde la habitación para ofrecer mayor autonomía y menor dependencia del personal de la unidad. | H83: 0 | I83: 0 | J83: 1 | K83: 0 | L83: Unidad de enfermería en hospitalización polivalente de agudos, in Estándares y recomendaciones, e.e.i. Informes, Editor. 2009, Ministerio de Sanidad y Política Social. | M83: 1 | N83: sí
A84: =A83+1 -> 20 | C84: Pacientes y familiares | D84: Habitación de paciente | E84: Equipamiento | F84: =IF(E84="Distribución",5,IF(E84="instalación",4,IF(E84="equipamiento",3,IF(E84="suelo",3,IF(E84="hueco",4,IF(E84="techo",2,IF(E84="puerta",2,IF(E84="pared",2,IF(E84="mobiliario",1,IF(E84="señalética",1,IF(E84="arte",1,0))))))))))) -> 3 | G84: Cabecero con iluminación artificial directa e indirecta (hacia el techo). Mando de control de la luminaria. | H84: 0 | I84: 0 | J84: 1 | K84: 0 | L84: Unidad de enfermería en hospitalización polivalente de agudos, in Estándares y recomendaciones, e.e.i. Informes, Editor. 2009, Ministerio de Sanidad y Política Social. | M84: 1 | N84: sí
A85: =A84+1 -> 21 | C85: Pacientes y familiares | D85: Habitación de paciente | E85: Equipamiento | F85: =IF(E85="Distribución",5,IF(E85="instalación",4,IF(E85="equipamiento",3,IF(E85="suelo",3,IF(E85="hueco",4,IF(E85="techo",2,IF(E85="puerta",2,IF(E85="pared",2,IF(E85="mobiliario",1,IF(E85="señalética",1,IF(E85="arte",1,0))))))))))) -> 3 | G85: Las luminarias están debidamente colocadas para evitar el deslumbramiento por la visión de la fuente de luz directa. | H85: 0 | I85: 0 | J85: 1 | K85: 0 | L85: Unidad de enfermería en hospitalización polivalente de agudos, in Estándares y recomendaciones, e.e.i. Informes, Editor. 2009, Ministerio de Sanidad y Política Social. | M85: 1 | N85: sí
A86: =A85+1 -> 22 | C86: Pacientes y familiares | D86: Habitación de paciente | E86: Equipamiento | F86: =IF(E86="Distribución",5,IF(E86="instalación",4,IF(E86="equipamiento",3,IF(E86="suelo",3,IF(E86="hueco",4,IF(E86="techo",2,IF(E86="puerta",2,IF(E86="pared",2,IF(E86="mobiliario",1,IF(E86="señalética",1,IF(E86="arte",1,0))))))))))) -> 3 | G86: Punto de luz tenue entre la cama y el aseo. | H86: 1 | I86: 1 | J86: 0 | K86: 0 | L86: Medical-Surgical Patient Room Annotation CHD (Gulwadi & Calkins, 2008) Alliance, A.H.I., Part B - Health Facility Briefing and Planning 0340 - Inpatient Accommodation Unit, in Australasian Health Facility Guidelines. 2016 | M86: 1 | N86: no | O86: No cumple.
A87: =A86+1 -> 23 | C87: Pacientes y familiares | D87: Habitación de paciente | E87: Equipamiento | F87: =IF(E87="Distribución",5,IF(E87="instalación",4,IF(E87="equipamiento",3,IF(E87="suelo",3,IF(E87="hueco",4,IF(E87="techo",2,IF(E87="puerta",2,IF(E87="pared",2,IF(E87="mobiliario",1,IF(E87="señalética",1,IF(E87="arte",1,0))))))))))) -> 3 | G87: Punto de luz tenue entre la cama y la cuna o en el cabecero de la cama para poder observar al bebé durante la noche. | H87: 0 | I87: 0 | J87: 1 | K87: 0 | L87: Autores CURARQ | M87: 1 | N87: no | O87: No cumple.
A88: =A87+1 -> 24 | C88: Pacientes y familiares | D88: Habitación de paciente | E88: Equipamiento | F88: =IF(E88="Distribución",5,IF(E88="instalación",4,IF(E88="equipamiento",3,IF(E88="suelo",3,IF(E88="hueco",4,IF(E88="techo",2,IF(E88="puerta",2,IF(E88="pared",2,IF(E88="mobiliario",1,IF(E88="señalética",1,IF(E88="arte",1,0))))))))))) -> 3 | G88: Los enchufes eléctricos están a más de 450mm y menos de 1200mm del suelo. Los interruptores de luz están a más de 1000mm y menos de 1200mm del suelo. | H88: 0 | I88: 1 | J88: 1 | K88: 0 | L88: Lewis, A., EVOLVE: a tool for evaluating the design of older people´s housing. Housing, Care and Support, 2010. | M88: 1 | N88: no | O88: El punto medio del enchufe está a 350 mm del suelo.
A89: =A88+1 -> 25 | C89: Pacientes y familiares | D89: Habitación de paciente | E89: Equipamiento | F89: =IF(E89="Distribución",5,IF(E89="instalación",4,IF(E89="equipamiento",3,IF(E89="suelo",3,IF(E89="hueco",4,IF(E89="techo",2,IF(E89="puerta",2,IF(E89="pared",2,IF(E89="mobiliario",1,IF(E89="señalética",1,IF(E89="arte",1,0))))))))))) -> 3 | G89: (Cama eléctrica con accesorios, de altura y posición graduable. El tamaño)¹(mínimo)² (de la cama es de 1,05 por 2,4 m)¹. | H89: 0 | I89: 1 | J89: 1 | K89: 0 | L89: 1. Unidad de enfermería en hospitalización polivalente de agudos, in Estándares y recomendaciones, e.e.i. Informes, Editor. 2009, Ministerio de Sanidad y Política Social. 2. Autores CURARQ | M89: 1 | N89: no | O89: Tamaño inferior.
A90: =A89+1 -> 26 | C90: Pacientes y familiares | D90: Habitación de paciente | E90: Suelo | F90: =IF(E90="Distribución",5,IF(E90="instalación",4,IF(E90="equipamiento",3,IF(E90="suelo",3,IF(E90="hueco",4,IF(E90="techo",2,IF(E90="puerta",2,IF(E90="pared",2,IF(E90="mobiliario",1,IF(E90="señalética",1,IF(E90="arte",1,0))))))))))) -> 3 | G90: Suelo que no refleja para evitar el deslumbramiento. | H90: 1 | I90: 0 | J90: 0 | K90: 0 | L90: Medical-Surgical Patient Room Annotation CHD (Dvorsky & Pettipas, 2007; Gulwadi & Calkin, 2008; Nanda, Malone, & Joseph, 2012; Willmott, 1986) | M90: 1 | N90: sí
A91: =A90+1 -> 27 | C91: Pacientes y familiares | D91: Habitación de paciente | E91: Suelo | F91: =IF(E91="Distribución",5,IF(E91="instalación",4,IF(E91="equipamiento",3,IF(E91="suelo",3,IF(E91="hueco",4,IF(E91="techo",2,IF(E91="puerta",2,IF(E91="pared",2,IF(E91="mobiliario",1,IF(E91="señalética",1,IF(E91="arte",1,0))))))))))) -> 3 | G91: (Acabado de suelos de fácil limpieza y mantenimiento)¹. (Resistente al uso intensivo de equipamiento con ruedas)². | H91: 0 | I91: 0 | J91: 0 | K91: 1 | L91: 1. Unidad de enfermería en hospitalización polivalente de agudos, in Estándares y recomendaciones, e.e.i. Informes, Editor. 2009, Ministerio de Sanidad y Política Social 2. Medical-Surgical Patient Room Annotation CHD (Nanda, Malone, & Joseph, 2012) | M91: 1 | N91: sí
A92: =A91+1 -> 28 | C92: Pacientes y familiares | D92: Habitación de paciente | E92: Suelo | F92: =IF(E92="Distribución",5,IF(E92="instalación",4,IF(E92="equipamiento",3,IF(E92="suelo",3,IF(E92="hueco",4,IF(E92="techo",2,IF(E92="puerta",2,IF(E92="pared",2,IF(E92="mobiliario",1,IF(E92="señalética",1,IF(E92="arte",1,0))))))))))) -> 3 | G92: (Suelo continuo)¹ y (no resbaladizo)². | H92: 1 | I92: 0 | J92: 0 | K92: 0 | L92: 1. Autores CURARQ 2. Alliance, A.H.I., Part B - Health Facility Briefing and Planning 0340 - Inpatient Accommodation Unit, in Australasian Health Facility Guidelines. 2016 | M92: 1 | N92: sí
A93: =A92+1 -> 29 | C93: Pacientes y familiares | D93: Habitación de paciente | E93: Techo | F93: =IF(E93="Distribución",5,IF(E93="instalación",4,IF(E93="equipamiento",3,IF(E93="suelo",3,IF(E93="hueco",4,IF(E93="techo",2,IF(E93="puerta",2,IF(E93="pared",2,IF(E93="mobiliario",1,IF(E93="señalética",1,IF(E93="arte",1,0))))))))))) -> 2 | G93: (El tratamiento de los techos se aproxima a los estándares residenciales)¹. (Acabado no institucional)². | H93: 0 | I93: 0 | J93: 1 | K93: 0 | L93: 1. Unidad de enfermería en hospitalización polivalente de agudos, in Estándares y recomendaciones, e.e.i. Informes, Editor. 2009, Ministerio de Sanidad y Política Social 2. Medical-Surgical Patient Room Annotation CHD (Altringer, 2010; Becker & Douglass, 2008; Swan, Richardson, & Hutton, 2003) | M93: 1 | N93: sí
A94: =A93+1 -> 30 | C94: Pacientes y familiares | D94: Habitación de paciente | E94: Techo | F94: =IF(E94="Distribución",5,IF(E94="instalación",4,IF(E94="equipamiento",3,IF(E94="suelo",3,IF(E94="hueco",4,IF(E94="techo",2,IF(E94="puerta",2,IF(E94="pared",2,IF(E94="mobiliario",1,IF(E94="señalética",1,IF(E94="arte",1,0))))))))))) -> 2 | G94: (Acabado de fácil limpieza y mantenimiento)¹. (Sin elementos ocultos donde se pueda acumular la suciedad)². | H94: 0 | I94: 0 | J94: 0 | K94: 1 | L94: 1. Unidad de enfermería en hospitalización polivalente de agudos, in Estándares y recomendaciones, e.e.i. Informes, Editor. 2009, Ministerio de Sanidad y Política Social 2. Medical-Surgical Patient Room Annotation CHD | M94: 1 | N94: sí
A95: =A94+1 -> 31 | C95: Pacientes y familiares | D95: Habitación de paciente | E95: Pared | F95: =IF(E95="Distribución",5,IF(E95="instalación",4,IF(E95="equipamiento",3,IF(E95="suelo",3,IF(E95="hueco",4,IF(E95="techo",2,IF(E95="puerta",2,IF(E95="pared",2,IF(E95="mobiliario",1,IF(E95="señalética",1,IF(E95="arte",1,0))))))))))) -> 2 | G95: Las superficies cercanas al dispensador de solución hidro alcohólica se mantiene limpias. | H95: 0 | I95: 0 | J95: 0 | K95: 1 | L95: Autores CURARQ | M95: 1 | N95: sí
A96: =A95+1 -> 32 | C96: Pacientes y familiares | D96: Habitación de paciente | E96: Pared | F96: =IF(E96="Distribución",5,IF(E96="instalación",4,IF(E96="equipamiento",3,IF(E96="suelo",3,IF(E96="hueco",4,IF(E96="techo",2,IF(E96="puerta",2,IF(E96="pared",2,IF(E96="mobiliario",1,IF(E96="señalética",1,IF(E96="arte",1,0))))))))))) -> 2 | G96: No se utilizan los colores primarios que pueden interferir en la correcta exploración del paciente (amarillo/ictericia, azul/cianosis, rojo/enrojecimiento). | H96: 0 | I96: 1 | J96: 0 | K96: 0 | L96: Alliance, A.H.I., Part B - Health Facility Briefing and Planning 0340 - Inpatient Accommodation Unit, in Australasian Health Facility Guidelines. 2016 | M96: 1 | N96: sí
A97: =A96+1 -> 33 | C97: Pacientes y familiares | D97: Habitación de paciente | E97: Pared | F97: =IF(E97="Distribución",5,IF(E97="instalación",4,IF(E97="equipamiento",3,IF(E97="suelo",3,IF(E97="hueco",4,IF(E97="techo",2,IF(E97="puerta",2,IF(E97="pared",2,IF(E97="mobiliario",1,IF(E97="señalética",1,IF(E97="arte",1,0))))))))))) -> 2 | G97: (Acabado de paredes de fácil limpieza y mantenimiento)¹. (Con el mínimo número de superficies horizontales o rebordes donde se pueda acumular el polvo)². | H97: 0 | I97: 0 | J97: 0 | K97: 1 | L97: 1. Unidad de enfermería en hospitalización polivalente de agudos, in Estándares y recomendaciones, e.e.i. Informes, Editor. 2009, Ministerio de Sanidad y Política Social 2. Medical-Surgical Patient Room Annotation CHD | M97: 1 | N97: sí
A98: =A97+1 -> 34 | C98: Pacientes y familiares | D98: Habitación de paciente | E98: Pared | F98: =IF(E98="Distribución",5,IF(E98="instalación",4,IF(E98="equipamiento",3,IF(E98="suelo",3,IF(E98="hueco",4,IF(E98="techo",2,IF(E98="puerta",2,IF(E98="pared",2,IF(E98="mobiliario",1,IF(E98="señalética",1,IF(E98="arte",1,0))))))))))) -> 2 | G98: Protecciones contra impactos de camas en esquinas. | H98: 0 | I98: 0 | J98: 0 | K98: 1 | L98: Social, M.d.S.y.P., Maternidad Hospitalaria Estándares y Recomendaciones. 2009: Madrid | M98: 1 | N98: sí
A99: =A98+1 -> 35 | C99: Pacientes y familiares | D99: Habitación de paciente | E99: Puerta | F99: =IF(E99="Distribución",5,IF(E99="instalación",4,IF(E99="equipamiento",3,IF(E99="suelo",3,IF(E99="hueco",4,IF(E99="techo",2,IF(E99="puerta",2,IF(E99="pared",2,IF(E99="mobiliario",1,IF(E99="señalética",1,IF(E99="arte",1,0))))))))))) -> 2 | G99: El ancho mínimo de la puerta de acceso a la habitación es de 1,20 m. | H99: 0 | I99: 1 | J99: 0 | K99: 0 | L99: Unidad de enfermería en hospitalización polivalente de agudos, in Estándares y recomendaciones, e.e.i. Informes, Editor. 2009, Ministerio de Sanidad y Política Social. | M99: 1 | N99: sí
A100: =A99+1 -> 36 | C100: Pacientes y familiares | D100: Habitación de paciente | E100: Puerta | F100: =IF(E100="Distribución",5,IF(E100="instalación",4,IF(E100="equipamiento",3,IF(E100="suelo",3,IF(E100="hueco",4,IF(E100="techo",2,IF(E100="puerta",2,IF(E100="pared",2,IF(E100="mobiliario",1,IF(E100="señalética",1,IF(E100="arte",1,0))))))))))) -> 2 | G100: Se pueden abrir con una presión mínima. La maneta es cómoda de agarrar, no es pesada y es fácil de accionar. | H100: 0 | I100: 1 | J100: 0 | K100: 0 | L100: Lewis, A., EVOLVE: a tool for evaluating the design of older people´s housing. Housing, Care and Support, 2010 | M100: 1 | N100: sí
...

Sheet PF
C2: Zona | D2: Local | E2: Nº ítems
C4: Configuración unidad | E4: =COUNTIF(Indicadores!C1:C14,C4) -> 13
F5: =E4 -> 13
A6: 1 | C6: Circulación | D6: Pasillo | E6: =COUNTIF(Indicadores!D15:D34,D6) -> 20
F7: =E6 -> 20
A8: 2 | C8: Acceso | D8: Entrada y vestíbulo | E8: =COUNTIF(#REF!,D8) -> #REF!
A9: 3 | C9: Acceso | D9: Estar de familiares | E9: =COUNTIF(#REF!,D9) -> #REF!
A10: 4 | C10: Acceso | D10: Despacho información | E10: =COUNTIF(#REF!,D10) -> #REF!
A11: 5 | C11: Acceso | D11: Aseo público | E11: =COUNTIF(#REF!,D11) -> #REF!
A12: 6 | C12: Acceso | D12: Lactancia y alimentación | E12: =COUNTIF(#REF!,D12) -> #REF!
F13: =SUM(E8:E12) -> #REF!
A14: 7 | C14: Pacientes y familiares | D14: Habitación de paciente | E14: =COUNTIF(Indicadores!$D$65:$D$157,D14) -> 53
A15: 8 | C15: Pacientes y familiares | D15: Aseo en habitación | E15: =COUNTIF(Indicadores!$D$65:$D$157,D15) -> 21
A16: 9 | C16: Pacientes y familiares | D16: Estar de pacientes y acompañantes | E16: =COUNTIF(Indicadores!$D$65:$D$157,D16) -> 7
A17: 10 | C17: Pacientes y familiares | D17: Aula escolar | E17: =COUNTIF(Indicadores!$D$65:$D$157,D17) -> 3
A18: 11 | C18: Pacientes y familiares | D18: Espacio juego interior | E18: =COUNTIF(Indicadores!$D$65:$D$157,D18) -> 4
A19: 12 | C19: Pacientes y familiares | D19: Espacio juego exterior | E19: =COUNTIF(Indicadores!$D$65:$D$157,D19) -> 5
F20: =SUM(E14:E19) -> 93
A21: 13 | C21: Control de enfermería | D21: Mostrador | E21: =COUNTIF(#REF!,D21) -> #REF!
A22: 14 | C22: Control de enfermería | D22: Zona trabajo enfermería | E22: =COUNTIF(#REF!,D22) -> #REF!
A23: 15 | C23: Control de enfermería | D23: Oficio limpio | E23: =COUNTIF(#REF!,D23) -> #REF!
A24: 16 | C24: Control de enfermería | D24: Estar de personal | E24: =COUNTIF(#REF!,D24) -> #REF!
A25: 17 | C25: Control de enfermería | D25: Despacho supervisión enfermería | E25: =COUNTIF(#REF!,D25) -> #REF!
A26: 18 | C26: Control de enfermería | D26: Aseo de personal | E26: =COUNTIF(#REF!,D26) -> #REF!
A27: 19 | C27: Control de enfermería | D27: Sala de curas | E27: =COUNTIF(#REF!,D27) -> #REF!
A28: 20 | C28: Control de enfermería | D28: Apoyo lactantes sin acompañantes | E28: =COUNTIF(#REF!,D28) -> #REF!
F29: =SUM(E21:E28) -> #REF!
A30: 21 | C30: Personal | D30: Sala de trabajo médico | E30: =COUNTIF(#REF!,D30) -> #REF!
A31: 22 | C31: Personal | D31: Vestuario | E31: =COUNTIF(#REF!,D31) -> #REF!
F32: =SUM(E30:E31) -> #REF!
A33: 23 | C33: Apoyos | D33: Vestíbulo interno | E33: =COUNTIF(Indicadores!$D$218:$D$246,D33) -> 2
A34: 24 | C34: Apoyos | D34: Oficio de comidas | E34: =COUNTIF(Indicadores!$D$218:$D$246,D34) -> 5
A35: 25 | C35: Apoyos | D35: Oficio sucio | E35: =COUNTIF(Indicadores!$D$218:$D$246,D35) -> 6
A36: 26 | C36: Apoyos | D36: Oficio de limpieza | E36: =COUNTIF(Indicadores!$D$218:$D$246,D36) -> 4
A37: 27 | C37: Apoyos | D37: Recogida ropa sucia | E37: =COUNTIF(Indicadores!$D$218:$D$246,D37) -> 2
A38: 28 | C38: Apoyos | D38: Almacén de lencería | E38: =COUNTIF(Indicadores!$D$218:$D$246,D38) -> 3
A39: 29 | C39: Apoyos | D39: Almacén de material | E39: =COUNTIF(Indicadores!$D$218:$D$246,D39) -> 4
A40: 30 | C40: Apoyos | D40: Almacén de equipos | E40: =COUNTIF(Indicadores!$D$218:$D$246,D40) -> 3
F41: =SUM(E33:E40) -> 29
F42: =SUM(F2:F41) -> #REF!
