Workbook

Sheet Conclusiones
A1: HD | B1: no
A3: ZONA | B3: LOCAL | C3: ELEMENTO | D3: Coste | E3: INDICADOR | F3: Comentarios HD
A4: Acceso
B5: Aseo público
C6: Mobiliario
D7: 1
E8: Cambiador de pañales
F9: No cumple.
E10: Dispensador de jabón, de papel higiénico y de toallas de papel. Escobilla y papelera preferiblemente con tapa. Espejo y percha.
F11: Falta la percha.
B12: Despacho información
C13: Distribución
D14: 5
E15: Condiciones de privacidad adecuada. Ambiente cálido y residencial.
F16: No cumple.
E17: Superficie útil en torno a 12 m².
F18: La unidad no tiene este local. Lo que iba a ser despacho se utiliza para la exploración ginecológica.
C19: Instalación
D20: 4
E21: Conexiones eléctricas, de transmisiones y comunicaciones.
F22: No cumple.
E23: Ventilado mecánicamente.
F24: No cumple.
C25: Mobiliario
D26: 1
E27: Mesa de trabajo, sillas y sillón ergonómico.
F28: No cumple.
B29: Entrada y vestíbulo
C30: Instalación
D31: 4
E32: Protegido con sistema de seguridad, especialmente por la noche (tarjeta, CCTV, interfono u otro).
F33: No tiene ningún sistema de seguridad.
C34: Señalética
D35: 1
E36: Señal de dirección desde el punto de acceso a planta y señal de localización para identificar la unidad. Directorio a la salida del ascensor.
F37: Tiene directorio pero no señal de dirección ni señal de localización.
B38: Estar de familiares
C39: Distribución
D40: 5
E41: Zona de juego para niños/as y otra para adolescentes. Con juguetes apropiados y libros.
...

Sheet Indicadores
A1: Nº | C1: ZONA | D1: LOCAL | E1: ELEMENTO | F1: Coste | G1: INDICADOR | H1: S | I1: E | J1: X | K1: P | L1: Referencia | M1: Ptos. | N1: HD | O1: Comentarios HD
A2: 1 | C2: Configuración unidad | E2: Distribución | F2: =IF(E2="Distribución",5,IF(E2="instalación",4,IF(E2="equipamiento",3,IF(E2="suelo",3,IF(E2="hueco",4,IF(E2="techo",2,IF(E2="puerta",2,IF(E2="pared",2,IF(E2="mobiliario",1,IF(E2="señalética",1,IF(E2="arte",1,0))))))))))) -> 5 | G2: No sirve de tráfico de paso hacia otra unidad. | H2: 1 | I2: 1 | J2: 1 | K2: 1 | L2: Unidad de enfermería en hospitalización polivalente de agudos, in Estándares y recomendaciones, e.e.i. Informes, Editor. 2009, Ministerio de Sanidad y Política Social | M2: 1 | N2: sí
A3: =A2+1 -> 2 | C3: Configuración unidad | E3: Distribución | F3: =IF(E3="Distribución",5,IF(E3="instalación",4,IF(E3="equipamiento",3,IF(E3="suelo",3,IF(E3="hueco",4,IF(E3="techo",2,IF(E3="puerta",2,IF(E3="pared",2,IF(E3="mobiliario",1,IF(E3="señalética",1,IF(E3="arte",1,0))))))))))) -> 5 | G3: La estructura de las distintas unidades de hospitalización es similar para facilitar la flexibilidad y legibilidad al personal de enfermería. | H3: 0 | I3: 1 | J3: 0 | K3: 1 | L3: Unidad de enfermería en hospitalización polivalente de agudos, in Estándares y recomendaciones, e.e.i. Informes, Editor. 2009, Ministerio de Sanidad y Política Social. | M3: 1 | N3: sí
A4: =A3+1 -> 3 | C4: Configuración unidad | E4: Distribución | F4: =IF(E4="Distribución",5,IF(E4="instalación",4,IF(E4="equipamiento",3,IF(E4="suelo",3,IF(E4="hueco",4,IF(E4="techo",2,IF(E4="puerta",2,IF(E4="pared",2,IF(E4="mobiliario",1,IF(E4="señalética",1,IF(E4="arte",1,0))))))))))) -> 5 | G4: (Ubicada en zona tranquila, lejos de fuentes de ruido como rutas de tráfico intenso, acceso de urgencias o plantas de ventilación)¹ (también para que el mantenimiento no afecte al funcionamiento de la unidad)² | H4: 0 | I4: 0 | J4: 1 | K4: 1 | L4: 1. Alliance, A.H.I., Part B - Health Facility Briefing and Planning 0340 - Inpatient Accommodation Unit, in Australasian Health Facility Guidelines. 2016 2. Autores CURARQ | M4: 1 | N4: sí
A5: =A4+1 -> 4 | C5: Configuración unidad | E5: Distribución | F5: =IF(E5="Distribución",5,IF(E5="instalación",4,IF(E5="equipamiento",3,IF(E5="suelo",3,IF(E5="hueco",4,IF(E5="techo",2,IF(E5="puerta",2,IF(E5="pared",2,IF(E5="mobiliario",1,IF(E5="señalética",1,IF(E5="arte",1,0))))))))))) -> 5 | G5: Relacionada por la circulación interna con la unidad de tratamiento y diagnóstico, urgencias, UCI y bloque quirúrgico. | H5: 1 | I5: 1 | J5: 0 | K5: 0 | L5: Alliance, A.H.I., Part B - Health Facility Briefing and Planning 0340 - Inpatient Accommodation Unit, in Australasian Health Facility Guidelines. 2016. | M5: 1 | N5: sí
A6: =A5+1 -> 5 | C6: Configuración unidad | E6: Distribución | F6: =IF(E6="Distribución",5,IF(E6="instalación",4,IF(E6="equipamiento",3,IF(E6="suelo",3,IF(E6="hueco",4,IF(E6="techo",2,IF(E6="puerta",2,IF(E6="pared",2,IF(E6="mobiliario",1,IF(E6="señalética",1,IF(E6="arte",1,0))))))))))) -> 5 | G6: Próxima al área de tocología. | H6: 1 | I6: 1 | J6: 0 | K6: 0 | L6: 1. UTE, J. Navarro Baldeweg, and Á. Fernández Alba, Programa Funcional Hospital Universitario Central de Asturias. 2003 | M6: 1 | N6: no | O6: Los pediatras se comparten con el bloque obstétrico. El bloque obstétrico está una planta más abajo y no en la misma vertical que la hospitalización de pediatría.
A7: =A6+1 -> 6 | C7: Configuración unidad | E7: Distribución | F7: =IF(E7="Distribución",5,IF(E7="instalación",4,IF(E7="equipamiento",3,IF(E7="suelo",3,IF(E7="hueco",4,IF(E7="techo",2,IF(E7="puerta",2,IF(E7="pared",2,IF(E7="mobiliario",1,IF(E7="señalética",1,IF(E7="arte",1,0))))))))))) -> 5 | G7: Si el tamaño del hospital lo permite, la hospitalización infantil se divide en dos áreas, una para la hospitalización de niños lactantes y preescolares y otra para la hospitalización de escolares y adolescentes. Cada zona tiene un control de enfermería con apoyos comunes a los dos controles. Los locales de juego y clases se pueden compartir. | H7: 0 | I7: 1 | J7: 1 | K7: 0 | L7: UTE, J. Navarro Baldeweg, and Á. Fernández Alba, Programa Funcional Hospital Universitario Central de Asturias. 2003. | M7: 1 | N7: n.a.
A8: =A7+1 -> 7 | C8: Configuración unidad | E8: Distribución | F8: =IF(E8="Distribución",5,IF(E8="instalación",4,IF(E8="equipamiento",3,IF(E8="suelo",3,IF(E8="hueco",4,IF(E8="techo",2,IF(E8="puerta",2,IF(E8="pared",2,IF(E8="mobiliario",1,IF(E8="señalética",1,IF(E8="arte",1,0))))))))))) -> 5 | G8: Existen espacios seguros para el almacenamiento de objetos personales voluminosos como carritos y cunas. | H8: 0 | I8: 0 | J8: 1 | K8: 1 | L8: Friendly healthcare environments for children and young people. 2004, NHS Estates. | M8: 1 | N8: no | O8: No cumple.
A9: =A8+1 -> 8 | C9: Configuración unidad | E9: Distribución | F9: =IF(E9="Distribución",5,IF(E9="instalación",4,IF(E9="equipamiento",3,IF(E9="suelo",3,IF(E9="hueco",4,IF(E9="techo",2,IF(E9="puerta",2,IF(E9="pared",2,IF(E9="mobiliario",1,IF(E9="señalética",1,IF(E9="arte",1,0))))))))))) -> 5 | G9: Existen dos tipos de accesos a la unidad: uno externo para visitas de familiares y acompañantes y otro interno para pacientes encamados, personal, suministros y servicios de soporte. | H9: 1 | I9: 1 | J9: 1 | K9: 0 | L9: Unidad de enfermería en hospitalización polivalente de agudos, in Estándares y recomendaciones, e.e.i. Informes, Editor. 2009, Ministerio de Sanidad y Política Social | M9: 1 | N9: sí
A10: =A9+1 -> 9 | C10: Configuración unidad | E10: Distribución | F10: =IF(E10="Distribución",5,IF(E10="instalación",4,IF(E10="equipamiento",3,IF(E10="suelo",3,IF(E10="hueco",4,IF(E10="techo",2,IF(E10="puerta",2,IF(E10="pared",2,IF(E10="mobiliario",1,IF(E10="señalética",1,IF(E10="arte",1,0))))))))))) -> 5 | G10: La planta con unidades de hospitalización está compartimentada en al menos dos sectores de incendios. Cada sector de incendios tiene una superficie construida inferior a los 1500 m2 y tiene espacio suficiente para albergar a los pacientes de uno de los sectores contiguos. Se exceptúa de lo anterior aquellas plantas cuya superficie construida no exceda de 1500 m2, que tenga salidas directas al espacio exterior seguro y cuyos recorridos de evacuación hasta ellas no exceda de 25 m. Cada sector de incendios dispone de más de una salida de planta y tiene una longitud máxima de recorrido de evacuación hasta alguna salida de planta de 30 m. La longitud de los recorridos de evacuación desde su origen hasta llegar a algún punto desde el cual existan al menos dos recorridos alternativos no excede los 15 m. | H10: 1 | I10: 0 | J10: 0 | K10: 1 | L10: España, M.d.F.G.d., Seguridad en caso de incendio DB-SI, in Documento Básico. 2006. | M10: 1 | N10: sí
A11: =A10+1 -> 10 | C11: Configuración unidad | E11: Instalación | F11: =IF(E11="Distribución",5,IF(E11="instalación",4,IF(E11="equipamiento",3,IF(E11="suelo",3,IF(E11="hueco",4,IF(E11="techo",2,IF(E11="puerta",2,IF(E11="pared",2,IF(E11="mobiliario",1,IF(E11="señalética",1,IF(E11="arte",1,0))))))))))) -> 4 | G11: El olor en general es fresco. No se producen olores fuertes ni desagradable debido por ejemplo a los productos de limpieza , los residuos, la falta de ventilación o la comida. | H11: 0 | I11: 0 | J11: 1 | K11: 1 | L11: Patient-Led Assessments of the Care Environment. Communal Areas. 2015, NHS England. | M11: 1 | N11: sí
A12: =A11+1 -> 11 | C12: Configuración unidad | E12: Señalética | F12: =IF(E12="Distribución",5,IF(E12="instalación",4,IF(E12="equipamiento",3,IF(E12="suelo",3,IF(E12="hueco",4,IF(E12="techo",2,IF(E12="puerta",2,IF(E12="pared",2,IF(E12="mobiliario",1,IF(E12="señalética",1,IF(E12="arte",1,0))))))))))) -> 1 | G12: Su ubicación es estratégica para facilitar la orientación en puntos de intersección de la unidad. Existe consistencia entre las señales de la unidad y su diseño es apropiado. Se acompañan con flechas que facilitan la orientación en el edificio. Su color contrasta con el de las superficies adyacentes. | H12: 0 | I12: 1 | J12: 1 | K12: 0 | L12: 1. HBN 08-02-1 Dementia-friendly Health and Social Care Environments. 2015, Department of Health UK 2. Wayfinding: Effective wayfinding and signing systems Guidance for healthcare facilities 2nd edition. 2005, NHS Estates. | M12: 1 | N12: no | O12: Faltan indicaciones en puntos de intersección y la gente se desorienta.
A13: =A12+1 -> 12 | C13: Configuración unidad | E13: Señalética | F13: =IF(E13="Distribución",5,IF(E13="instalación",4,IF(E13="equipamiento",3,IF(E13="suelo",3,IF(E13="hueco",4,IF(E13="techo",2,IF(E13="puerta",2,IF(E13="pared",2,IF(E13="mobiliario",1,IF(E13="señalética",1,IF(E13="arte",1,0))))))))))) -> 1 | G13: La tipografía es sencilla y clara, el tamaño de la fuente es suficientemente grande y se utilizan mayúsculas y minúsculas. El lenguaje utilizado es fácilmente entendible, no se utilizan abreviaturas y los idiomas utilizados son los adecuados para el hospital. La señalética está actualizada y en buen estado de mantenimiento. | H13: 0 | I13: 1 | J13: 1 | K13: 1 | L13: 1. HBN 08-02-1 Dementia-friendly Health and Social Care Environments. 2015, Department of Health UK 2. Wayfinding: Effective wayfinding and signing systems Guidance for healthcare facilities 2nd edition. 2005, NHS Estates. | M13: 1 | N13: sí
A14: =A13+1 -> 13 | C14: Configuración unidad | E14: Arte | F14: =IF(E14="Distribución",5,IF(E14="instalación",4,IF(E14="equipamiento",3,IF(E14="suelo",3,IF(E14="hueco",4,IF(E14="techo",2,IF(E14="puerta",2,IF(E14="pared",2,IF(E14="mobiliario",1,IF(E14="señalética",1,IF(E14="arte",1,0))))))))))) -> 1 | G14: Existen espacios habilitados para la exposición de arte. Se muestran piezas de arte que producen emociones positivas con motivos naturales, locales o de interés para las personas usuarias del espacio. Se colocan en puntos estratégicos para favorecer la orientación en la unidad como zonas muy visibles, con iluminación adecuada y su color contrasta con el del fondo. | H14: 0 | I14: 1 | J14: 1 | K14: 0 | L14: HBN 08-02-1 Dementia-friendly Health and Social Care Environments. 2015, Department of Health UK. | M14: 1 | N14: sí
A15: 1 | C15: Circulación | D15: Pasillo | E15: Distribución | F15: =IF(E15="Distribución",5,IF(E15="instalación",4,IF(E15="equipamiento",3,IF(E15="suelo",3,IF(E15="hueco",4,IF(E15="techo",2,IF(E15="puerta",2,IF(E15="pared",2,IF(E15="mobiliario",1,IF(E15="señalética",1,IF(E15="arte",1,0))))))))))) -> 5 | G15: Ancho mínimo de pasillo de 2,20 m para permitir el cruce de dos camas y el giro de la cama para el acceso a la habitación de pacientes. | H15: 1 | I15: 1 | J15: 0 | K15: 1 | L15: Unidad de enfermería en hospitalización polivalente de agudos, in Estándares y recomendaciones, e.e.i. Informes, Editor. 2009, Ministerio de Sanidad y Política Social. | M15: 1 | N15: sí
A16: =A15+1 -> 2 | C16: Circulación | D16: Pasillo | E16: Distribución | F16: =IF(E16="Distribución",5,IF(E16="instalación",4,IF(E16="equipamiento",3,IF(E16="suelo",3,IF(E16="hueco",4,IF(E16="techo",2,IF(E16="puerta",2,IF(E16="pared",2,IF(E16="mobiliario",1,IF(E16="señalética",1,IF(E16="arte",1,0))))))))))) -> 5 | G16: Existe un umbral de acceso a la habitación (ensanchamiento del pasillo). Este espacio facilita el giro de las camas en los movimientos de entrada y salida de la habitación, permite que la puerta abra hacia afuera, da más intimidad a la habitación y facilita que los familiares puedan esperar sin interrumpir el paso en el pasillo. | H16: 0 | I16: 1 | J16: 1 | K16: 0 | L16: 1. Unidad de enfermería en hospitalización polivalente de agudos, in Estándares y recomendaciones, e.e.i. Informes, Editor. 2009, Ministerio de Sanidad y Política Social. 2. Autores CURARQ | M16: 1 | N16: sí
A17: =A16+1 -> 3 | C17: Circulación | D17: Pasillo | E17: Distribución | F17: =IF(E17="Distribución",5,IF(E17="instalación",4,IF(E17="equipamiento",3,IF(E17="suelo",3,IF(E17="hueco",4,IF(E17="techo",2,IF(E17="puerta",2,IF(E17="pared",2,IF(E17="mobiliario",1,IF(E17="señalética",1,IF(E17="arte",1,0))))))))))) -> 5 | G17: (Existen puntos de referencia, hitos o puntos clave visibles y reconocibles para ayudar a la orientación. Las rutas de circulación están bien definidas y se evitan los cambios de dirección)¹. (Para evitar la monotonía, los pasillos incluyen cambios en su trazado como zonas de espera o vestíbulos)². | H17: 0 | I17: 1 | J17: 1 | K17: 0 | L17: 1. HBN 08-02-1 Dementia-friendly Health and Social Care Environments. 2015, Department of Health UK. 2. Autores CURARQ | M17: 1 | N17: sí
A18: =A17+1 -> 4 | C18: Circulación | D18: Pasillo | E18: Distribución | F18: =IF(E18="Distribución",5,IF(E18="instalación",4,IF(E18="equipamiento",3,IF(E18="suelo",3,IF(E18="hueco",4,IF(E18="techo",2,IF(E18="puerta",2,IF(E18="pared",2,IF(E18="mobiliario",1,IF(E18="señalética",1,IF(E18="arte",1,0))))))))))) -> 5 | G18: Las paredes carecen de elementos salientes que no arranquen del suelo, que vuelen más de 15 cm en la zona de altura comprendida entre 15 cm y 2,20 m medida a partir del suelo y que presenten riesgo de impacto. Los elementos volados cuya altura sea menor que 2 m, tales como mesetas o tramos de escalera, de rampas, etc., disponen de elementos fijos que restrinjan el acceso hasta ellos y permitirán su detección por los bastones de personas con discapacidad visual. | H18: 1 | I18: 1 | J18: 0 | K18: 0 | L18: Ministerio de Fomento Secretaría de Estado de Infraestructuras, T.y.V.D.G.d.A., Vivienda y Suelo, Seguridad de utilización y accesibilidad SUA, in Documento Básico. 2015. | M18: 1 | N18: sí
A19: =A18+1 -> 5 | C19: Circulación | D19: Pasillo | E19: Hueco | F19: =IF(E19="Distribución",5,IF(E19="instalación",4,IF(E19="equipamiento",3,IF(E19="suelo",3,IF(E19="hueco",4,IF(E19="techo",2,IF(E19="puerta",2,IF(E19="pared",2,IF(E19="mobiliario",1,IF(E19="señalética",1,IF(E19="arte",1,0))))))))))) -> 4 | G19: Dispone de referencias puntuales de luz natural. | H19: 0 | I19: 1 | J19: 1 | K19: 0 | L19: Unidad de enfermería en hospitalización polivalente de agudos, in Estándares y recomendaciones, e.e.i. Informes, Editor. 2009, Ministerio de Sanidad y Política Social. | M19: 1 | N19: sí
A20: =A19+1 -> 6 | C20: Circulación | D20: Pasillo | E20: Instalación | F20: =IF(E20="Distribución",5,IF(E20="instalación",4,IF(E20="equipamiento",3,IF(E20="suelo",3,IF(E20="hueco",4,IF(E20="techo",2,IF(E20="puerta",2,IF(E20="pared",2,IF(E20="mobiliario",1,IF(E20="señalética",1,IF(E20="arte",1,0))))))))))) -> 4 | G20: Ventilado mecánicamente. | H20: 0 | I20: 0 | J20: 0 | K20: 1 | L20: Reglamento de instalaciones térmicas en los edificios (RITE), BOE-A-2007-15820, Editor. 2007, Ministerio de la Presidencia. | M20: 1 | N20: sí
A21: =A20+1 -> 7 | C21: Circulación | D21: Pasillo | E21: Instalación | F21: =IF(E21="Distribución",5,IF(E21="instalación",4,IF(E21="equipamiento",3,IF(E21="suelo",3,IF(E21="hueco",4,IF(E21="techo",2,IF(E21="puerta",2,IF(E21="pared",2,IF(E21="mobiliario",1,IF(E21="señalética",1,IF(E21="arte",1,0))))))))))) -> 4 | G21: La temperatura oscila entre los 20 y los 26 ºC. | H21: 1 | I21: 1 | J21: 0 | K21: 0 | L21: Autores CURARQ | M21: 1 | N21: sí
A22: =A21+1 -> 8 | C22: Circulación | D22: Pasillo | E22: Equipamiento | F22: =IF(E22="Distribución",5,IF(E22="instalación",4,IF(E22="equipamiento",3,IF(E22="suelo",3,IF(E22="hueco",4,IF(E22="techo",2,IF(E22="puerta",2,IF(E22="pared",2,IF(E22="mobiliario",1,IF(E22="señalética",1,IF(E22="arte",1,0))))))))))) -> 3 | G22: El nivel de iluminación mínimo a la altura del suelo es de 200 lux durante el día. | H22: 0 | I22: 1 | J22: 1 | K22: 0 | L22: (CIBSE), C.I.o.B.S.E. and T.S.o.L.a. Lighting, Lighting Guide 2: Hospitals and health care buildings. 2008. | M22: 1 | N22: sí
A23: =A22+1 -> 9 | C23: Circulación | D23: Pasillo | E23: Suelo | F23: =IF(E23="Distribución",5,IF(E23="instalación",4,IF(E23="equipamiento",3,IF(E23="suelo",3,IF(E23="hueco",4,IF(E23="techo",2,IF(E23="puerta",2,IF(E23="pared",2,IF(E23="mobiliario",1,IF(E23="señalética",1,IF(E23="arte",1,0))))))))))) -> 3 | G23: El suelo es continuo, las juntas están selladas y no hay cambios de nivel. | H23: 1 | I23: 1 | J23: 0 | K23: 1 | L23: Autores CURARQ | M23: 1 | N23: sí
A24: =A23+1 -> 10 | C24: Circulación | D24: Pasillo | E24: Suelo | F24: =IF(E24="Distribución",5,IF(E24="instalación",4,IF(E24="equipamiento",3,IF(E24="suelo",3,IF(E24="hueco",4,IF(E24="techo",2,IF(E24="puerta",2,IF(E24="pared",2,IF(E24="mobiliario",1,IF(E24="señalética",1,IF(E24="arte",1,0))))))))))) -> 3 | G24: Resistente a un uso intensivo. Liso, fácil de limpiar y sin apariencia clínica. | H24: 0 | I24: 0 | J24: 1 | K24: 1 | L24: Unidad de cuidados intensivos, in Estándares y recomendaciones, e.e.i. Informes, Editor. 2010, Ministerio de Sanidad y Política Social. | M24: 1 | N24: sí
A25: =A24+1 -> 11 | C25: Circulación | D25: Pasillo | E25: Suelo | F25: =IF(E25="Distribución",5,IF(E25="instalación",4,IF(E25="equipamiento",3,IF(E25="suelo",3,IF(E25="hueco",4,IF(E25="techo",2,IF(E25="puerta",2,IF(E25="pared",2,IF(E25="mobiliario",1,IF(E25="señalética",1,IF(E25="arte",1,0))))))))))) -> 3 | G25: (Sin estampados o texturas que puedan provocar una sobreestimulación no deseada)¹. (No brillante y su color contrasta con el de las paredes)². | H25: 0 | I25: 0 | J25: 1 | K25: 0 | L25: 1. HBN 08-02-1 Dementia-friendly Health and Social Care Environments. 2015, Department of Health UK 2. Patient-Led Assessments of the Care Environment. The Ward Assessment - Acute and Community Hospitals, Hospices and Treatment Centres. 2015, NHS England. | M25: 1 | N25: sí
A26: =A25+1 -> 12 | C26: Circulación | D26: Pasillo | E26: Techo | F26: =IF(E26="Distribución",5,IF(E26="instalación",4,IF(E26="equipamiento",3,IF(E26="suelo",3,IF(E26="hueco",4,IF(E26="techo",2,IF(E26="puerta",2,IF(E26="pared",2,IF(E26="mobiliario",1,IF(E26="señalética",1,IF(E26="arte",1,0))))))))))) -> 2 | G26: (Sin iluminación artificial directa y uniforme ya que puede crear un efecto estroboscópico en los pacientes que circulan en silla de ruedas o camas. Se utiliza luz difusa y reflejada)¹. (El falso techo se encuentra en buen estado)². | H26: 0 | I26: 0 | J26: 1 | K26: 1 | L26: 1. Friendly healthcare environments for children and young people. 2004, NHS Estates. 2. Patient-Led Assessments of the Care Environment. The Ward Assessment - Acute and Community Hospitals, Hospices and Treatment Centres. 2015, NHS England. | M26: 1 | N26: sí
A27: 13 | C27: Circulación | D27: Pasillo | E27: Pared | F27: =IF(E27="Distribución",5,IF(E27="instalación",4,IF(E27="equipamiento",3,IF(E27="suelo",3,IF(E27="hueco",4,IF(E27="techo",2,IF(E27="puerta",2,IF(E27="pared",2,IF(E27="mobiliario",1,IF(E27="señalética",1,IF(E27="arte",1,0))))))))))) -> 2 | G27: Las paredes se pueden lavar con agua, son durables, resistentes al impacto de carros y equipos móviles. (Las zonas más propensas al choque de carros y equipos móviles están reforzadas para resistir los impactos. Protecciones de esquinas y paredes)¹. (Las protecciones no sobresalen ni suponen un riesgo)4. (La pintura está en buen estado de conservación, sin marcas como ralladuras o arañazos ni otros desperfectos)³. | H27: 1 | I27: 0 | J27: 0 | K27: 1 | L27: 1. Unidad de enfermería en hospitalización polivalente de agudos, in Estándares y recomendaciones, e.e.i. Informes, Editor. 2009, Ministerio de Sanidad y Política Social 2. Health, N.E.a.E.A.o.t.D.o., HBN 23 Hospital accommodation for children and young people. 2004 3. Patient-Led Assessments of the Care Environment. The Ward Assessment - Acute and Community Hospitals, Hospices and Treatment Centres. 2015, NHS England. 4. Autores CURARQ | M27: 1 | N27: sí
A28: 14 | C28: Circulación | D28: Pasillo | E28: Pared | F28: =IF(E28="Distribución",5,IF(E28="instalación",4,IF(E28="equipamiento",3,IF(E28="suelo",3,IF(E28="hueco",4,IF(E28="techo",2,IF(E28="puerta",2,IF(E28="pared",2,IF(E28="mobiliario",1,IF(E28="señalética",1,IF(E28="arte",1,0))))))))))) -> 2 | G28: El blanco es el color base de la unidad. Sin estampados que provoquen una sobreestimulación no deseada. No brillante y con alto contraste. Su color contrasta con el del suelo. | H28: 0 | I28: 0 | J28: 1 | K28: 0 | L28: HBN 08-02-1 Dementia-friendly Health and Social Care Environments. 2015, Department of Health UK. | M28: 1 | N28: sí
A29: =A28+1 -> 15 | C29: Circulación | D29: Pasillo | E29: Pared | F29: =IF(E29="Distribución",5,IF(E29="instalación",4,IF(E29="equipamiento",3,IF(E29="suelo",3,IF(E29="hueco",4,IF(E29="techo",2,IF(E29="puerta",2,IF(E29="pared",2,IF(E29="mobiliario",1,IF(E29="señalética",1,IF(E29="arte",1,0))))))))))) -> 2 | G29: Pasamanos a ambos lados. Su color contrasta con el de la pared. | H29: 1 | I29: 0 | J29: 0 | K29: 0 | L29: HBN 08-02-1 Dementia-friendly Health and Social Care Environments. 2015, Department of Health UK. | M29: 1 | N29: sí
A30: =A29+1 -> 16 | C30: Circulación | D30: Pasillo | E30: Pared | F30: =IF(E30="Distribución",5,IF(E30="instalación",4,IF(E30="equipamiento",3,IF(E30="suelo",3,IF(E30="hueco",4,IF(E30="techo",2,IF(E30="puerta",2,IF(E30="pared",2,IF(E30="mobiliario",1,IF(E30="señalética",1,IF(E30="arte",1,0))))))))))) -> 2 | G30: Pasamano doble, uno a la altura de las personas adultas y otro a la de los/las niños/as. | H30: 1 | I30: 0 | J30: 1 | K30: 0 | L30: Autores CURARQ | M30: 1 | N30: no | O30: No cumple.
A31: =A30+1 -> 17 | C31: Circulación | D31: Pasillo | E31: Pared | F31: =IF(E31="Distribución",5,IF(E31="instalación",4,IF(E31="equipamiento",3,IF(E31="suelo",3,IF(E31="hueco",4,IF(E31="techo",2,IF(E31="puerta",2,IF(E31="pared",2,IF(E31="mobiliario",1,IF(E31="señalética",1,IF(E31="arte",1,0))))))))))) -> 2 | G31: El rodapié contrasta con el color del suelo y la pared para diferenciar mejor los elementos. | H31: 1 | I31: 0 | J31: 0 | K31: 0 | L31: HBN 08-02-1 Dementia-friendly Health and Social Care Environments. 2015, Department of Health UK. | M31: 1 | N31: no | O31: Contrasta con el color de la pared pero no con el color del suelo.
A32: =A31+1 -> 18 | C32: Circulación | D32: Pasillo | E32: Puerta | F32: =IF(E32="Distribución",5,IF(E32="instalación",4,IF(E32="equipamiento",3,IF(E32="suelo",3,IF(E32="hueco",4,IF(E32="techo",2,IF(E32="puerta",2,IF(E32="pared",2,IF(E32="mobiliario",1,IF(E32="señalética",1,IF(E32="arte",1,0))))))))))) -> 2 | G32: Las puertas de sectorización de incendios disponen de retenedores y quedan en el interior del plano de los paramentos de forma que no disminuye el ancho útil del pasillo. | H32: 1 | I32: 0 | J32: 0 | K32: 1 | L32: Unidad de enfermería en hospitalización polivalente de agudos, in Estándares y recomendaciones, e.e.i. Informes, Editor. 2009, Ministerio de Sanidad y Política Social. | M32: 1 | N32: sí
A33: =A32+1 -> 19 | C33: Circulación | D33: Pasillo | E33: Puerta | F33: =IF(E33="Distribución",5,IF(E33="instalación",4,IF(E33="equipamiento",3,IF(E33="suelo",3,IF(E33="hueco",4,IF(E33="techo",2,IF(E33="puerta",2,IF(E33="pared",2,IF(E33="mobiliario",1,IF(E33="señalética",1,IF(E33="arte",1,0))))))))))) -> 2 | G33: Las puertas de acceso a la zona de juego exterior permiten el paso de pacientes encamados o en silla de ruedas. | H33: 1 | I33: 0 | J33: 1 | K33: 0 | L33: Health, N.E.a.E.A.o.t.D.o., HBN 23 Hospital accommodation for children and young people. 2004. | M33: 1 | N33: n.a. | O33: No hay zona de juegos exterior.
A34: =A33+1 -> 20 | C34: Circulación | D34: Pasillo | E34: Arte | F34: =IF(E34="Distribución",5,IF(E34="instalación",4,IF(E34="equipamiento",3,IF(E34="suelo",3,IF(E34="hueco",4,IF(E34="techo",2,IF(E34="puerta",2,IF(E34="pared",2,IF(E34="mobiliario",1,IF(E34="señalética",1,IF(E34="arte",1,0))))))))))) -> 1 | G34: Incluye motivos artísticos adaptados a las edades de los/las niños/as. | H34: 0 | I34: 0 | J34: 1 | K34: 0 | L34: Health, N.E.a.E.A.o.t.D.o., HBN 23 Hospital accommodation for children and young people. 2004. | M34: 1 | N34: sí | O34: Pinturas en techos y paredes.
A35: 1 | C35: Acceso | D35: Entrada y vestíbulo | E35: Distribución | F35: =IF(E35="Distribución",5,IF(E35="instalación",4,IF(E35="equipamiento",3,IF(E35="suelo",3,IF(E35="hueco",4,IF(E35="techo",2,IF(E35="puerta",2,IF(E35="pared",2,IF(E35="mobiliario",1,IF(E35="señalética",1,IF(E35="arte",1,0))))))))))) -> 5 | G35: (Superficie útil en torno a 20 m². Espacio diáfano asociado a la circulación externa situado en la zona próxima al control de enfermería para que el personal pueda controlar el acceso a la unidad)¹. (El acceso público se produce por solo un punto. Fácil acceso desde la entrada general de hospitalización del edificio)². | H35: 0 | I35: 0 | J35: 1 | K35: 1 | L35: 1. Unidad de enfermería en hospitalización polivalente de agudos, in Estándares y recomendaciones, e.e.i. Informes, Editor. 2009, Ministerio de Sanidad y Política Social 2. Alliance, A.H.I., Part B - Health Facility Briefing and Planning 0340 - Inpatient Accommodation Unit, in Australasian Health Facility Guidelines. 2016 | M35: 1 | N35: sí | O35: Local compartido con la hospitalización obstétrica y de neonatología.
A36: =A35+1 -> 2 | C36: Acceso | D36: Entrada y vestíbulo | E36: Instalación | F36: =IF(E36="Distribución",5,IF(E36="instalación",4,IF(E36="equipamiento",3,IF(E36="suelo",3,IF(E36="hueco",4,IF(E36="techo",2,IF(E36="puerta",2,IF(E36="pared",2,IF(E36="mobiliario",1,IF(E36="señalética",1,IF(E36="arte",1,0))))))))))) -> 4 | G36: Ventilado mecánicamente. | H36: 0 | I36: 0 | J36: 0 | K36: 1 | L36: Reglamento de instalaciones térmicas en los edificios (RITE), BOE-A-2007-15820, Editor. 2007, Ministerio de la Presidencia. | M36: 1 | N36: sí
A37: =A36+1 -> 3 | C37: Acceso | D37: Entrada y vestíbulo | E37: Instalación | F37: =IF(E37="Distribución",5,IF(E37="instalación",4,IF(E37="equipamiento",3,IF(E37="suelo",3,IF(E37="hueco",4,IF(E37="techo",2,IF(E37="puerta",2,IF(E37="pared",2,IF(E37="mobiliario",1,IF(E37="señalética",1,IF(E37="arte",1,0))))))))))) -> 4 | G37: Protegido con sistema de seguridad, especialmente por la noche (tarjeta, CCTV, interfono u otro). | H37: 0 | I37: 1 | J37: 0 | K37: 1 | L37: Alliance, A.H.I., Part B - Health Facility Briefing and Planning 0340 - Inpatient Accommodation Unit, in Australasian Health Facility Guidelines. 2016 | M37: 1 | N37: no | O37: No tiene ningún sistema de seguridad.
A38: =A37+1 -> 4 | C38: Acceso | D38: Entrada y vestíbulo | E38: Señalética | F38: =IF(E38="Distribución",5,IF(E38="instalación",4,IF(E38="equipamiento",3,IF(E38="suelo",3,IF(E38="hueco",4,IF(E38="techo",2,IF(E38="puerta",2,IF(E38="pared",2,IF(E38="mobiliario",1,IF(E38="señalética",1,IF(E38="arte",1,0))))))))))) -> 1 | G38: Señal de dirección desde el punto de acceso a planta y señal de localización para identificar la unidad. Directorio a la salida del ascensor. | H38: 0 | I38: 1 | J38: 1 | K38: 0 | L38: Wayfinding: Effective wayfinding and signing systems Guidance for healthcare facilities 2nd edition. 2005, NHS Estates. | M38: 1 | N38: no | O38: Tiene directorio pero no señal de dirección ni señal de localización.
A39: =A38+1 -> 5 | C39: Acceso | D39: Estar de familiares | E39: Distribución | F39: =IF(E39="Distribución",5,IF(E39="instalación",4,IF(E39="equipamiento",3,IF(E39="suelo",3,IF(E39="hueco",4,IF(E39="techo",2,IF(E39="puerta",2,IF(E39="pared",2,IF(E39="mobiliario",1,IF(E39="señalética",1,IF(E39="arte",1,0))))))))))) -> 5 | G39: (Superficie útil en torno a 30 m². Si aproximadamente el 50 % de las habitaciones de pacientes son de uso individual, puede compartirse con pacientes ingresados. Acceso desde el vestíbulo de entrada)¹. (Cercano al mostrador)². | H39: 0 | I39: 0 | J39: 1 | K39: 0 | L39: 1. Unidad de enfermería en hospitalización polivalente de agudos, in Estándares y recomendaciones, e.e.i. Informes, Editor. 2009, Ministerio de Sanidad y Política Social. 2. HBN 04-01 Adult in-patient facilities. 2013, Department of Health. | M39: 1 | N39: sí
A40: =A39+1 -> 6 | C40: Acceso | D40: Estar de familiares | E40: Distribución | F40: =IF(E40="Distribución",5,IF(E40="instalación",4,IF(E40="equipamiento",3,IF(E40="suelo",3,IF(E40="hueco",4,IF(E40="techo",2,IF(E40="puerta",2,IF(E40="pared",2,IF(E40="mobiliario",1,IF(E40="señalética",1,IF(E40="arte",1,0))))))))))) -> 5 | G40: Zona de juego para niños/as y otra para adolescentes. Con juguetes apropiados y libros. | H40: 0 | I40: 0 | J40: 1 | K40: 0 | L40: Health, N.E.a.E.A.o.t.D.o., HBN 23 Hospital accommodation for children and young people. 2004. | M40: 1 | N40: no | O40: No cumple.
...

Sheet PF
C2: Zona | D2: Local | E2: Nº ítems
C4: Configuración unidad | E4: =COUNTIF(Indicadores!C1:C14,C4) -> 13
F5: =E4 -> 13
A6: 1 | C6: Circulación | D6: Pasillo | E6: =COUNTIF(Indicadores!D15:D34,D6) -> 20
F7: =E6 -> 20
A8: 2 | C8: Acceso | D8: Entrada y vestíbulo | E8: =COUNTIF(#REF!,D8) -> #REF!
A9: 3 | C9: Acceso | D9: Estar de familiares | E9: =COUNTIF(#REF!,D9) -> #REF!
A10: 4 | C10: Acceso | D10: Despacho información | E10: =COUNTIF(#REF!,D10) -> #REF!
A11: 5 | C11: Acceso | D11: Aseo público | E11: =COUNTIF(#REF!,D11) -> #REF!
A12: 6 | C12: Acceso | D12: Lactancia y alimentación | E12: =COUNTIF(#REF!,D12) -> #REF!
F13: =SUM(E8:E12) -> #REF!
A14: 7 | C14: Pacientes y familiares | D14: Habitación de paciente | E14: =COUNTIF(Indicadores!$D$65:$D$157,D14) -> 53
A15: 8 | C15: Pacientes y familiares | D15: Aseo en habitación | E15: =COUNTIF(Indicadores!$D$65:$D$157,D15) -> 21
A16: 9 | C16: Pacientes y familiares | D16: Estar de pacientes y acompañantes | E16: =COUNTIF(Indicadores!$D$65:$D$157,D16) -> 7
A17: 10 | C17: Pacientes y familiares | D17: Aula escolar | E17: =COUNTIF(Indicadores!$D$65:$D$157,D17) -> 3
A18: 11 | C18: Pacientes y familiares | D18: Espacio juego interior | E18: =COUNTIF(Indicadores!$D$65:$D$157,D18) -> 4
A19: 12 | C19: Pacientes y familiares | D19: Espacio juego exterior | E19: =COUNTIF(Indicadores!$D$65:$D$157,D19) -> 5
F20: =SUM(E14:E19) -> 93
A21: 13 | C21: Control de enfermería | D21: Mostrador | E21: =COUNTIF(#REF!,D21) -> #REF!
A22: 14 | C22: Control de enfermería | D22: Zona trabajo enfermería | E22: =COUNTIF(#REF!,D22) -> #REF!
A23: 15 | C23: Control de enfermería | D23: Oficio limpio | E23: =COUNTIF(#REF!,D23) -> #REF!
A24: 16 | C24: Control de enfermería | D24: Estar de personal | E24: =COUNTIF(#REF!,D24) -> #REF!
A25: 17 | C25: Control de enfermería | D25: Despacho supervisión enfermería | E25: =COUNTIF(#REF!,D25) -> #REF!
A26: 18 | C26: Control de enfermería | D26: Aseo de personal | E26: =COUNTIF(#REF!,D26) -> #REF!
A27: 19 | C27: Control de enfermería | D27: Sala de curas | E27: =COUNTIF(#REF!,D27) -> #REF!
A28: 20 | C28: Control de enfermería | D28: Apoyo lactantes sin acompañantes | E28: =COUNTIF(#REF!,D28) -> #REF!
F29: =SUM(E21:E28) -> #REF!
A30: 21 | C30: Personal | D30: Sala de trabajo médico | E30: =COUNTIF(#REF!,D30) -> #REF!
A31: 22 | C31: Personal | D31: Vestuario | E31: =COUNTIF(#REF!,D31) -> #REF!
F32: =SUM(E30:E31) -> #REF!
A33: 23 | C33: Apoyos | D33: Vestíbulo interno | E33: =COUNTIF(Indicadores!$D$218:$D$246,D33) -> 2
A34: 24 | C34: Apoyos | D34: Oficio de comidas | E34: =COUNTIF(Indicadores!$D$218:$D$246,D34) -> 5
A35: 25 | C35: Apoyos | D35: Oficio sucio | E35: =COUNTIF(Indicadores!$D$218:$D$246,D35) -> 6
A36: 26 | C36: Apoyos | D36: Oficio de limpieza | E36: =COUNTIF(Indicadores!$D$218:$D$246,D36) -> 4
A37: 27 | C37: Apoyos | D37: Recogida ropa sucia | E37: =COUNTIF(Indicadores!$D$218:$D$246,D37) -> 2
A38: 28 | C38: Apoyos | D38: Almacén de lencería | E38: =COUNTIF(Indicadores!$D$218:$D$246,D38) -> 3
A39: 29 | C39: Apoyos | D39: Almacén de material | E39: =COUNTIF(Indicadores!$D$218:$D$246,D39) -> 4
A40: 30 | C40: Apoyos | D40: Almacén de equipos | E40: =COUNTIF(Indicadores!$D$218:$D$246,D40) -> 3
F41: =SUM(E33:E40) -> 29
F42: =SUM(F2:F41) -> #REF!
